BEGIN:VCALENDAR
VERSION:2.0
PRODID:-//Preble County Library - ECPv6.15.20//NONSGML v1.0//EN
CALSCALE:GREGORIAN
METHOD:PUBLISH
X-WR-CALNAME:Preble County Library
X-ORIGINAL-URL:https://preblelibrary.org
X-WR-CALDESC:Events for Preble County Library
REFRESH-INTERVAL;VALUE=DURATION:PT1H
X-Robots-Tag:noindex
X-PUBLISHED-TTL:PT1H
BEGIN:VTIMEZONE
TZID:America/Detroit
BEGIN:DAYLIGHT
TZOFFSETFROM:-0500
TZOFFSETTO:-0400
TZNAME:EDT
DTSTART:20250309T070000
END:DAYLIGHT
BEGIN:STANDARD
TZOFFSETFROM:-0400
TZOFFSETTO:-0500
TZNAME:EST
DTSTART:20251102T060000
END:STANDARD
BEGIN:DAYLIGHT
TZOFFSETFROM:-0500
TZOFFSETTO:-0400
TZNAME:EDT
DTSTART:20260308T070000
END:DAYLIGHT
BEGIN:STANDARD
TZOFFSETFROM:-0400
TZOFFSETTO:-0500
TZNAME:EST
DTSTART:20261101T060000
END:STANDARD
BEGIN:DAYLIGHT
TZOFFSETFROM:-0500
TZOFFSETTO:-0400
TZNAME:EDT
DTSTART:20270314T070000
END:DAYLIGHT
BEGIN:STANDARD
TZOFFSETFROM:-0400
TZOFFSETTO:-0500
TZNAME:EST
DTSTART:20271107T060000
END:STANDARD
END:VTIMEZONE
BEGIN:VEVENT
DTSTART;VALUE=DATE:20260323
DTEND;VALUE=DATE:20260324
DTSTAMP:20260424T200824
CREATED:20260312T133353Z
LAST-MODIFIED:20260312T133353Z
UID:10012294-1774224000-1774310399@preblelibrary.org
SUMMARY:Be Internet Awesome!
DESCRIPTION:Google and Highlights have teamed up to purposefully craft this program on Digital Citizenship! Kids will learn to be safe\, kind\, and confident explorers of the online world! Kids will also learn how to be Brave\, Alert\, Kind\, Smart\, and Strong on the internet! They will also earn achievement rewards for each skill mastered! \nThis program is available in a pickup kit! Stop by the Eaton Branch to pick up a packet. Take it home and complete it as a family. Return to the library to retrieve your rewards! \nSuitable For: Kids in grades 2-5. \nFor questions or to request accommodations\, contact us at 937-456-4331. \nPackets will be available beginning March 23\, while supplies last!
URL:https://preblelibrary.org/event/be-internet-awesome-2/
LOCATION:Eaton
CATEGORIES:Grab & Go
ATTACH;FMTTYPE=image/png:https://preblelibrary.org/wp-content/uploads/2025/11/Be-Internet-Awesome-Event-Graphic.png
END:VEVENT
END:VCALENDAR