BEGIN:VCALENDAR
VERSION:2.0
PRODID:-//Preble County Library - ECPv6.15.20//NONSGML v1.0//EN
CALSCALE:GREGORIAN
METHOD:PUBLISH
X-ORIGINAL-URL:https://preblelibrary.org
X-WR-CALDESC:Events for Preble County Library
REFRESH-INTERVAL;VALUE=DURATION:PT1H
X-Robots-Tag:noindex
X-PUBLISHED-TTL:PT1H
BEGIN:VTIMEZONE
TZID:America/Detroit
BEGIN:DAYLIGHT
TZOFFSETFROM:-0500
TZOFFSETTO:-0400
TZNAME:EDT
DTSTART:20240310T070000
END:DAYLIGHT
BEGIN:STANDARD
TZOFFSETFROM:-0400
TZOFFSETTO:-0500
TZNAME:EST
DTSTART:20241103T060000
END:STANDARD
BEGIN:DAYLIGHT
TZOFFSETFROM:-0500
TZOFFSETTO:-0400
TZNAME:EDT
DTSTART:20250309T070000
END:DAYLIGHT
BEGIN:STANDARD
TZOFFSETFROM:-0400
TZOFFSETTO:-0500
TZNAME:EST
DTSTART:20251102T060000
END:STANDARD
BEGIN:DAYLIGHT
TZOFFSETFROM:-0500
TZOFFSETTO:-0400
TZNAME:EDT
DTSTART:20260308T070000
END:DAYLIGHT
BEGIN:STANDARD
TZOFFSETFROM:-0400
TZOFFSETTO:-0500
TZNAME:EST
DTSTART:20261101T060000
END:STANDARD
END:VTIMEZONE
BEGIN:VEVENT
DTSTART;TZID=America/Detroit:20251025T120000
DTEND;TZID=America/Detroit:20251025T130000
DTSTAMP:20260424T231725
CREATED:20250219T161351Z
LAST-MODIFIED:20250331T181201Z
UID:10010350-1761393600-1761397200@preblelibrary.org
SUMMARY:LEGO Club
DESCRIPTION:Join us each month to build Lego creations with friends. The library provides the Legos; you provide the creativity. Each month\, we will have a monthly drawing for a Lego-related prize. This year\, we will have a grand prize drawing in December. Every month you attend\, your monthly entries will be placed in our grand prize drawing.
URL:https://preblelibrary.org/event/lego-club-8/
LOCATION:West Alexandria
CATEGORIES:In-Person
ATTACH;FMTTYPE=image/jpeg:https://preblelibrary.org/wp-content/uploads/2022/04/LEGO-Club-West-Alex.jpg
END:VEVENT
BEGIN:VEVENT
DTSTART;TZID=America/Detroit:20251027T130000
DTEND;TZID=America/Detroit:20251027T160000
DTSTAMP:20260424T231725
CREATED:20231204T142301Z
LAST-MODIFIED:20251121T191953Z
UID:10010205-1761570000-1761580800@preblelibrary.org
SUMMARY:Book a Librarian
DESCRIPTION:Your Reference Librarian can help you with so much technology.\nWould you like to learn more about computers? Do you have a new tablet or smartphone you’d like to learn more about? The Reference Librarian is happy to help! \nDrop in on Monday afternoons between 1:00 pm-4:00 pm for assistance with: \n\ntablets\ne-readers\nmobile phones\ncomputers\nMicrosoft Office programs\nInternet\nresumes and job searching\nusing the library catalog and research. You may also call 937-456-5562\, email prebleref@preblelibrary.org\, or stop by the library in person to set up an appointment if you can’t make it on a Monday.*These sessions will take place at Eaton\, but the Reference Librarian is more than happy to travel to your home branch if 24-hour advance notice is provided*
URL:https://preblelibrary.org/event/book-a-librarian/2025-10-27/
LOCATION:All
CATEGORIES:In-Person
ATTACH;FMTTYPE=image/png:https://preblelibrary.org/wp-content/uploads/2023/12/Book-a-Librarian-1.png
END:VEVENT
BEGIN:VEVENT
DTSTART;TZID=America/Detroit:20251027T173000
DTEND;TZID=America/Detroit:20251027T180000
DTSTAMP:20260424T231725
CREATED:20250828T125637Z
LAST-MODIFIED:20250828T125637Z
UID:10011080-1761586200-1761588000@preblelibrary.org
SUMMARY:Storytime
DESCRIPTION:Join us at the library for a FUN craft and a story! \n  \n 
URL:https://preblelibrary.org/event/storytime-16/
LOCATION:New Paris
CATEGORIES:In-Person
ATTACH;FMTTYPE=image/png:https://preblelibrary.org/wp-content/uploads/2025/07/2025.-New-Paris-Storytime-Website-Graphic.png
END:VEVENT
BEGIN:VEVENT
DTSTART;TZID=America/Detroit:20251028T140000
DTEND;TZID=America/Detroit:20251028T200000
DTSTAMP:20260424T231725
CREATED:20250903T154729Z
LAST-MODIFIED:20251014T131902Z
UID:10011098-1761660000-1761681600@preblelibrary.org
SUMMARY:LEGO Day
DESCRIPTION:Stop by and build with your friends at the library during our open hours!
URL:https://preblelibrary.org/event/lego-day-17/
LOCATION:New Paris
CATEGORIES:In-Person
ATTACH;FMTTYPE=image/png:https://preblelibrary.org/wp-content/uploads/2025/10/2025.-New-Paris-LEGO-Day-Website-Graphic-7.png
END:VEVENT
BEGIN:VEVENT
DTSTART;TZID=America/Detroit:20251028T153000
DTEND;TZID=America/Detroit:20251028T170000
DTSTAMP:20260424T231725
CREATED:20250924T155019Z
LAST-MODIFIED:20250924T155019Z
UID:10011138-1761665400-1761670800@preblelibrary.org
SUMMARY:Teens: Sheet Ghost Halloween
DESCRIPTION:Celebrate Halloween with one of the most classic costumes around… the sheet ghost! \nCreate your costume by cutting eye holes in an old sheet\, blanket\, tablecloth\, or other bit of fabric (with parent permission!)\, then join the party for photo ops\, crafts\, and other ghost-themed activities. \n*This program is open to patrons in grades 6-12*
URL:https://preblelibrary.org/event/teens-sheet-ghost-halloween/
LOCATION:Eaton
CATEGORIES:In-Person
ATTACH;FMTTYPE=image/png:https://preblelibrary.org/wp-content/uploads/2025/09/2025.-Teens-Sheet-Ghost-Halloween-2.png
END:VEVENT
BEGIN:VEVENT
DTSTART;TZID=America/Detroit:20251028T173000
DTEND;TZID=America/Detroit:20251028T183000
DTSTAMP:20260424T231725
CREATED:20250806T204244Z
LAST-MODIFIED:20251017T153103Z
UID:10010904-1761672600-1761676200@preblelibrary.org
SUMMARY:Book Nook Society-Adult Book Club
DESCRIPTION:This month’s pick: You Shouldn’t Have Come Here by Jeneva Rose \nSynopsis:\nGrace Evans\, an overworked New Yorker\, books an Airbnb on a remote Wyoming ranch\, hoping for a peaceful escape. She’s charmed by the picturesque setting—and even more so by Calvin Wells\, the handsome and welcoming host. But Grace quickly realizes something is off. The ranch has no cell service. A woman has gone missing. And Calvin’s charm may be masking something far darker. \nAs their connection deepens\, playful romance gives way to suspicion\, secrets\, and obsession. Grace begins to wonder if she’ll ever make it back home—or if she was ever meant to. \nJoin us for a thrilling discussion of this twist-filled psychological suspense!
URL:https://preblelibrary.org/event/book-nook-society-adult-book-club/
LOCATION:West Alexandria
CATEGORIES:Book Club,In-Person
ATTACH;FMTTYPE=image/png:https://preblelibrary.org/wp-content/uploads/2025/08/2025.-WA-Book-Nook-Society-Adult-Book-Club-4.png
END:VEVENT
BEGIN:VEVENT
DTSTART;TZID=America/Detroit:20251028T180000
DTEND;TZID=America/Detroit:20251028T190000
DTSTAMP:20260424T231725
CREATED:20250828T191446Z
LAST-MODIFIED:20250828T191446Z
UID:10011086-1761674400-1761678000@preblelibrary.org
SUMMARY:Halloween Story and Costume Parade!
DESCRIPTION:Kids\, come dressed in costume to listen to a Halloween story and participate in our parade around the library. We will have spooktacular treats and prizes!
URL:https://preblelibrary.org/event/halloween-story-and-costume-parade/
LOCATION:Camden
CATEGORIES:In-Person
ATTACH;FMTTYPE=image/png:https://preblelibrary.org/wp-content/uploads/2025/08/2025.-Camden-Halloween-Story-and-Costume-Parade-4.png
END:VEVENT
BEGIN:VEVENT
DTSTART;TZID=America/Detroit:20251028T180000
DTEND;TZID=America/Detroit:20251028T190000
DTSTAMP:20260424T231725
CREATED:20250916T153748Z
LAST-MODIFIED:20250916T153748Z
UID:10011118-1761674400-1761678000@preblelibrary.org
SUMMARY:Library Spooktacular!
DESCRIPTION:The leaves are crisp\, and there is a chill in the air– it’s time to get a little spooky! Join us at the Eaton Branch for an evening of not-so-scary fun! We’ll have crafts\, games\, and all-around fun! \nFeel free to come dressed in a library-appropriate costume! \n*This is a family program.*
URL:https://preblelibrary.org/event/library-spooktacular/
LOCATION:Eaton
CATEGORIES:In-Person
ATTACH;FMTTYPE=image/png:https://preblelibrary.org/wp-content/uploads/2025/09/Library-Spooktacular.png
END:VEVENT
BEGIN:VEVENT
DTSTART;TZID=America/Detroit:20251029T103000
DTEND;TZID=America/Detroit:20251029T110000
DTSTAMP:20260424T231725
CREATED:20250820T184825Z
LAST-MODIFIED:20250820T185206Z
UID:10010953-1761733800-1761735600@preblelibrary.org
SUMMARY:Mother Goose Storytime
DESCRIPTION:Registration is now open for the autumn session of storytime at the Eaton Branch. \nMother Goose Baby & Toddler Storytime is for children ages birth to 3 years on Wednesdays or Thursdays at 10:30 AM. This is a 30-minute class. \nThe autumn session will run from October 1 through November 6. Call the Eaton Branch at 937-456-4331 to register. \nOur storytimes are formulated around the Every Child Ready to Read initiative\, which focuses on the five early literacy practices of talking\, singing\, reading\, writing\, and playing.
URL:https://preblelibrary.org/event/mother-goose-storytime/2025-10-29/
LOCATION:Eaton
CATEGORIES:In-Person
ATTACH;FMTTYPE=image/png:https://preblelibrary.org/wp-content/uploads/2022/07/Mother-Goose-Storytime-Eaton.png
END:VEVENT
BEGIN:VEVENT
DTSTART;TZID=America/Detroit:20251029T103000
DTEND;TZID=America/Detroit:20251029T111500
DTSTAMP:20260424T231725
CREATED:20250820T185539Z
LAST-MODIFIED:20250820T185539Z
UID:10010977-1761733800-1761736500@preblelibrary.org
SUMMARY:Library Mice Storytime
DESCRIPTION:Registration is now open for the autumn session of storytime at the Eaton Branch. \nLibrary Mice Preschool Storytime is for children three years old to kindergarten. This class is available on Wednesdays or Thursdays at 10:30 AM. This is a 45-minute class. \nThe autumn session will run from October 1 through November 6. Call the Eaton Branch at 937-456-4331 to register. \nOur storytimes are formulated around the Every Child Ready to Read initiative\, which focuses on the five early literacy practices of talking\, singing\, reading\, writing\, and playing.
URL:https://preblelibrary.org/event/library-mice-storytime-7/2025-10-29/
LOCATION:Eaton
CATEGORIES:In-Person
ATTACH;FMTTYPE=image/png:https://preblelibrary.org/wp-content/uploads/2022/07/Library-Mice-Storytime-Eaton.png
END:VEVENT
BEGIN:VEVENT
DTSTART;TZID=America/Detroit:20251029T163000
DTEND;TZID=America/Detroit:20251029T174500
DTSTAMP:20260424T231725
CREATED:20250924T144626Z
LAST-MODIFIED:20250924T144626Z
UID:10011136-1761755400-1761759900@preblelibrary.org
SUMMARY:Halloween Bingo Party
DESCRIPTION:Bingo games\, prizes\, and candy! Oh my!
URL:https://preblelibrary.org/event/halloween-bingo-party/
LOCATION:West Manchester
CATEGORIES:In-Person
ATTACH;FMTTYPE=image/png:https://preblelibrary.org/wp-content/uploads/2025/09/Copy-of-halloween-bingo-party-800-x-400-px.png
END:VEVENT
BEGIN:VEVENT
DTSTART;TZID=America/Detroit:20251029T180000
DTEND;TZID=America/Detroit:20251029T193000
DTSTAMP:20260424T231725
CREATED:20250909T175131Z
LAST-MODIFIED:20250909T190513Z
UID:10011103-1761760800-1761766200@preblelibrary.org
SUMMARY:AYA Book Club
DESCRIPTION:Young Adult books aren’t just for teens! This Adult Young Adult Book Club is for ages 18+. \nFor each meeting\, a few FREE copies of our selected book club title will be available\, beginning the first of the month. Please register and pick up a copy in advance\, read the book\, and then join us for a relaxed discussion on the scheduled program date. That’s it! We’ll provide the meeting space; you bring the conversation. \nThe AYA October selection is Devil in Ohio by Daria Polatin.
URL:https://preblelibrary.org/event/aya-book-club/
LOCATION:Eaton
CATEGORIES:Book Club,In-Person
ATTACH;FMTTYPE=image/png:https://preblelibrary.org/wp-content/uploads/2025/09/2025.-Eaton-October-AYA-Book-Club-4.png
END:VEVENT
BEGIN:VEVENT
DTSTART;TZID=America/Detroit:20251030T103000
DTEND;TZID=America/Detroit:20251030T110000
DTSTAMP:20260424T231725
CREATED:20250820T184825Z
LAST-MODIFIED:20250820T185206Z
UID:10010954-1761820200-1761822000@preblelibrary.org
SUMMARY:Mother Goose Storytime
DESCRIPTION:Registration is now open for the autumn session of storytime at the Eaton Branch. \nMother Goose Baby & Toddler Storytime is for children ages birth to 3 years on Wednesdays or Thursdays at 10:30 AM. This is a 30-minute class. \nThe autumn session will run from October 1 through November 6. Call the Eaton Branch at 937-456-4331 to register. \nOur storytimes are formulated around the Every Child Ready to Read initiative\, which focuses on the five early literacy practices of talking\, singing\, reading\, writing\, and playing.
URL:https://preblelibrary.org/event/mother-goose-storytime/2025-10-30/
LOCATION:Eaton
CATEGORIES:In-Person
ATTACH;FMTTYPE=image/png:https://preblelibrary.org/wp-content/uploads/2022/07/Mother-Goose-Storytime-Eaton.png
END:VEVENT
BEGIN:VEVENT
DTSTART;TZID=America/Detroit:20251030T103000
DTEND;TZID=America/Detroit:20251030T111500
DTSTAMP:20260424T231725
CREATED:20250820T185539Z
LAST-MODIFIED:20250820T185539Z
UID:10010978-1761820200-1761822900@preblelibrary.org
SUMMARY:Library Mice Storytime
DESCRIPTION:Registration is now open for the autumn session of storytime at the Eaton Branch. \nLibrary Mice Preschool Storytime is for children three years old to kindergarten. This class is available on Wednesdays or Thursdays at 10:30 AM. This is a 45-minute class. \nThe autumn session will run from October 1 through November 6. Call the Eaton Branch at 937-456-4331 to register. \nOur storytimes are formulated around the Every Child Ready to Read initiative\, which focuses on the five early literacy practices of talking\, singing\, reading\, writing\, and playing.
URL:https://preblelibrary.org/event/library-mice-storytime-7/2025-10-30/
LOCATION:Eaton
CATEGORIES:In-Person
ATTACH;FMTTYPE=image/png:https://preblelibrary.org/wp-content/uploads/2022/07/Library-Mice-Storytime-Eaton.png
END:VEVENT
BEGIN:VEVENT
DTSTART;TZID=America/Detroit:20251030T163000
DTEND;TZID=America/Detroit:20251030T174500
DTSTAMP:20260424T231725
CREATED:20250909T200014Z
LAST-MODIFIED:20250909T200032Z
UID:10011108-1761841800-1761846300@preblelibrary.org
SUMMARY:October Decor Craft Time
DESCRIPTION:We’re having a decor craft bonanza in October! Come join us every Thursday in October starting at 4:30pm. Fun crafts for kids\, teens and families!
URL:https://preblelibrary.org/event/october-decor-craft-time-5/
LOCATION:Eldorado
CATEGORIES:Crafting,In-Person
ATTACH;FMTTYPE=image/png:https://preblelibrary.org/wp-content/uploads/2025/08/2025.-Eldorado-Crafts-in-October-Website-Graphic-1.png
END:VEVENT
BEGIN:VEVENT
DTSTART;TZID=America/Detroit:20251030T164500
DTEND;TZID=America/Detroit:20251030T173000
DTSTAMP:20260424T231725
CREATED:20250820T185737Z
LAST-MODIFIED:20250820T185737Z
UID:10010991-1761842700-1761845400@preblelibrary.org
SUMMARY:Family Storytime
DESCRIPTION:Registration is now open for the autumn session of storytime at the Eaton Branch. \nFamily Storytime is for families with children ages 0 to 5 years. This class is available on Thursday at 4:45 PM. This is a 45-minute class. \nThe autumn session will run from October 1 through November 6. Call the Eaton Branch at 937-456-4331 to register. \nOur storytimes are formulated around the Every Child Ready to Read initiative\, which focuses on the five early literacy practices of talking\, singing\, reading\, writing\, and playing.
URL:https://preblelibrary.org/event/family-storytime/2025-10-30/
LOCATION:Eaton
CATEGORIES:In-Person
ATTACH;FMTTYPE=image/png:https://preblelibrary.org/wp-content/uploads/2023/07/Family-Storytime-Fall-website-1.png
END:VEVENT
BEGIN:VEVENT
DTSTART;TZID=America/Detroit:20251030T164500
DTEND;TZID=America/Detroit:20251030T174500
DTSTAMP:20260424T231725
CREATED:20250820T210342Z
LAST-MODIFIED:20250820T210342Z
UID:10011005-1761842700-1761846300@preblelibrary.org
SUMMARY:After School Crew
DESCRIPTION:Registration is now open for the autumn session of the After School Crew at the Eaton Branch. \nAfter School Crew is a crafts and activity-based program for children ages 6 to 12. This class is available on Thursday afternoons at 4:45 PM\, and this program runs for 1 hour. \nThe autumn session will run from October 2- November 6. Call the Eaton Branch at 937-456-4331 to register.
URL:https://preblelibrary.org/event/after-school-crew/2025-10-30/
LOCATION:Eaton
CATEGORIES:In-Person
ATTACH;FMTTYPE=image/png:https://preblelibrary.org/wp-content/uploads/2022/07/After-School-Crew-Eaton.png
END:VEVENT
BEGIN:VEVENT
DTSTART;TZID=America/Detroit:20251030T173000
DTEND;TZID=America/Detroit:20251030T190000
DTSTAMP:20260424T231725
CREATED:20251010T132151Z
LAST-MODIFIED:20251010T132829Z
UID:10011155-1761845400-1761850800@preblelibrary.org
SUMMARY:Halloween Trick-or-Treating
DESCRIPTION:Hey kids! The West Elkton Branch will be handing out a special treat during trick-or-treating from 5:30pm to 7:00pm\, on Thursday\, October 30\, during the official trick-or-treating hours for the West Elkton area. So\, stop in for a bite — we’d love to see your Halloween costumes!
URL:https://preblelibrary.org/event/halloween-trick-or-treating/
LOCATION:West Elkton
CATEGORIES:In-Person
ATTACH;FMTTYPE=image/png:https://preblelibrary.org/wp-content/uploads/2025/10/2025.-WE-Halloween-Trick-or-Treating-1.png
END:VEVENT
END:VCALENDAR