BEGIN:VCALENDAR
VERSION:2.0
PRODID:-//Preble County Library - ECPv6.15.20//NONSGML v1.0//EN
CALSCALE:GREGORIAN
METHOD:PUBLISH
X-ORIGINAL-URL:https://preblelibrary.org
X-WR-CALDESC:Events for Preble County Library
REFRESH-INTERVAL;VALUE=DURATION:PT1H
X-Robots-Tag:noindex
X-PUBLISHED-TTL:PT1H
BEGIN:VTIMEZONE
TZID:America/Detroit
BEGIN:DAYLIGHT
TZOFFSETFROM:-0500
TZOFFSETTO:-0400
TZNAME:EDT
DTSTART:20250309T070000
END:DAYLIGHT
BEGIN:STANDARD
TZOFFSETFROM:-0400
TZOFFSETTO:-0500
TZNAME:EST
DTSTART:20251102T060000
END:STANDARD
BEGIN:DAYLIGHT
TZOFFSETFROM:-0500
TZOFFSETTO:-0400
TZNAME:EDT
DTSTART:20260308T070000
END:DAYLIGHT
BEGIN:STANDARD
TZOFFSETFROM:-0400
TZOFFSETTO:-0500
TZNAME:EST
DTSTART:20261101T060000
END:STANDARD
BEGIN:DAYLIGHT
TZOFFSETFROM:-0500
TZOFFSETTO:-0400
TZNAME:EDT
DTSTART:20270314T070000
END:DAYLIGHT
BEGIN:STANDARD
TZOFFSETFROM:-0400
TZOFFSETTO:-0500
TZNAME:EST
DTSTART:20271107T060000
END:STANDARD
END:VTIMEZONE
BEGIN:VEVENT
DTSTART;TZID=America/Detroit:20260423T163000
DTEND;TZID=America/Detroit:20260423T174500
DTSTAMP:20260424T121903
CREATED:20260317T201442Z
LAST-MODIFIED:20260317T201442Z
UID:10012315-1776961800-1776966300@preblelibrary.org
SUMMARY:Mini Diamond Art Month
DESCRIPTION:Come in each Thursday in April for a mini diamond art craft!
URL:https://preblelibrary.org/event/mini-diamond-art-month-2/2026-04-23/
LOCATION:Eldorado
CATEGORIES:Crafting,In-Person
ATTACH;FMTTYPE=image/png:https://preblelibrary.org/wp-content/uploads/2026/03/2026.-WM-Mini-Diamond-Art-Month-Website-Graphic.png
END:VEVENT
BEGIN:VEVENT
DTSTART;TZID=America/Detroit:20260422T163000
DTEND;TZID=America/Detroit:20260422T174500
DTSTAMP:20260424T121903
CREATED:20260317T200858Z
LAST-MODIFIED:20260317T200858Z
UID:10012310-1776875400-1776879900@preblelibrary.org
SUMMARY:Mini Diamond Art Month
DESCRIPTION:Come in each Wednesday in April for a mini diamond art craft!
URL:https://preblelibrary.org/event/mini-diamond-art-month/2026-04-22/
LOCATION:West Manchester
CATEGORIES:Crafting,In-Person
ATTACH;FMTTYPE=image/png:https://preblelibrary.org/wp-content/uploads/2026/03/2026.-WM-Mini-Diamond-Art-Month-Website-Graphic.png
END:VEVENT
BEGIN:VEVENT
DTSTART;TZID=America/Detroit:20260421T180000
DTEND;TZID=America/Detroit:20260421T193000
DTSTAMP:20260424T121903
CREATED:20260306T162043Z
LAST-MODIFIED:20260306T165140Z
UID:10012290-1776794400-1776799800@preblelibrary.org
SUMMARY:Adult Craft: Easy Elegant Ribbon Embroidery
DESCRIPTION:We will be making an Easy Elegant Ribbon Embroidery craft at the next adult crafting event. \nRegistration is required for this event. Please stop by the New Paris Library or call 937-437-7242 to register. \nAll supplies will be provided.
URL:https://preblelibrary.org/event/adult-craft-easy-elegant-ribbon-embroidery/
LOCATION:New Paris
CATEGORIES:Crafting,In-Person
ATTACH;FMTTYPE=image/png:https://preblelibrary.org/wp-content/uploads/2026/03/2026.-New-Paris-Adult-Craft-Easy-Elegant-Ribbon-Embroidery-Website-Graphic-3.png
END:VEVENT
BEGIN:VEVENT
DTSTART;TZID=America/Detroit:20260420T173000
DTEND;TZID=America/Detroit:20260420T180000
DTSTAMP:20260424T121903
CREATED:20260304T142040Z
LAST-MODIFIED:20260304T142040Z
UID:10012272-1776706200-1776708000@preblelibrary.org
SUMMARY:Spring Storytime
DESCRIPTION:Spring into the library and enjoy a FUN craft and story!
URL:https://preblelibrary.org/event/spring-storytime/2026-04-20/
LOCATION:New Paris
CATEGORIES:Crafting,In-Person,Storytime
ATTACH;FMTTYPE=image/png:https://preblelibrary.org/wp-content/uploads/2026/03/2026.-New-Paris-Think-Spring-Storytime-Website-Graphic-1.png
END:VEVENT
BEGIN:VEVENT
DTSTART;TZID=America/Detroit:20260416T163000
DTEND;TZID=America/Detroit:20260416T174500
DTSTAMP:20260424T121903
CREATED:20260317T201442Z
LAST-MODIFIED:20260317T201442Z
UID:10012314-1776357000-1776361500@preblelibrary.org
SUMMARY:Mini Diamond Art Month
DESCRIPTION:Come in each Thursday in April for a mini diamond art craft!
URL:https://preblelibrary.org/event/mini-diamond-art-month-2/2026-04-16/
LOCATION:Eldorado
CATEGORIES:Crafting,In-Person
ATTACH;FMTTYPE=image/png:https://preblelibrary.org/wp-content/uploads/2026/03/2026.-WM-Mini-Diamond-Art-Month-Website-Graphic.png
END:VEVENT
BEGIN:VEVENT
DTSTART;TZID=America/Detroit:20260415T163000
DTEND;TZID=America/Detroit:20260415T174500
DTSTAMP:20260424T121903
CREATED:20260317T200858Z
LAST-MODIFIED:20260317T200858Z
UID:10012309-1776270600-1776275100@preblelibrary.org
SUMMARY:Mini Diamond Art Month
DESCRIPTION:Come in each Wednesday in April for a mini diamond art craft!
URL:https://preblelibrary.org/event/mini-diamond-art-month/2026-04-15/
LOCATION:West Manchester
CATEGORIES:Crafting,In-Person
ATTACH;FMTTYPE=image/png:https://preblelibrary.org/wp-content/uploads/2026/03/2026.-WM-Mini-Diamond-Art-Month-Website-Graphic.png
END:VEVENT
BEGIN:VEVENT
DTSTART;TZID=America/Detroit:20260414T153000
DTEND;TZID=America/Detroit:20260414T170000
DTSTAMP:20260424T121903
CREATED:20260325T154428Z
LAST-MODIFIED:20260325T154718Z
UID:10012327-1776180600-1776186000@preblelibrary.org
SUMMARY:Teens: Suncatchers
DESCRIPTION:Create your own suncatcher! \nUse beads\, chain\, and charms to craft a dazzling decoration for your window. \n**This free program is available to patrons in grades 6-12**
URL:https://preblelibrary.org/event/teens-suncatchers/
LOCATION:Eaton
CATEGORIES:Crafting,In-Person
ATTACH;FMTTYPE=image/png:https://preblelibrary.org/wp-content/uploads/2026/03/2026.-Eaton-Teens-Suncatchers-.png
END:VEVENT
BEGIN:VEVENT
DTSTART;TZID=America/Detroit:20260413T173000
DTEND;TZID=America/Detroit:20260413T180000
DTSTAMP:20260424T121903
CREATED:20260304T142040Z
LAST-MODIFIED:20260304T142040Z
UID:10012271-1776101400-1776103200@preblelibrary.org
SUMMARY:Spring Storytime
DESCRIPTION:Spring into the library and enjoy a FUN craft and story!
URL:https://preblelibrary.org/event/spring-storytime/2026-04-13/
LOCATION:New Paris
CATEGORIES:Crafting,In-Person,Storytime
ATTACH;FMTTYPE=image/png:https://preblelibrary.org/wp-content/uploads/2026/03/2026.-New-Paris-Think-Spring-Storytime-Website-Graphic-1.png
END:VEVENT
BEGIN:VEVENT
DTSTART;TZID=America/Detroit:20260409T163000
DTEND;TZID=America/Detroit:20260409T174500
DTSTAMP:20260424T121903
CREATED:20260317T201442Z
LAST-MODIFIED:20260317T201442Z
UID:10012313-1775752200-1775756700@preblelibrary.org
SUMMARY:Mini Diamond Art Month
DESCRIPTION:Come in each Thursday in April for a mini diamond art craft!
URL:https://preblelibrary.org/event/mini-diamond-art-month-2/2026-04-09/
LOCATION:Eldorado
CATEGORIES:Crafting,In-Person
ATTACH;FMTTYPE=image/png:https://preblelibrary.org/wp-content/uploads/2026/03/2026.-WM-Mini-Diamond-Art-Month-Website-Graphic.png
END:VEVENT
BEGIN:VEVENT
DTSTART;TZID=America/Detroit:20260408T163000
DTEND;TZID=America/Detroit:20260408T174500
DTSTAMP:20260424T121903
CREATED:20260317T200858Z
LAST-MODIFIED:20260317T200858Z
UID:10012308-1775665800-1775670300@preblelibrary.org
SUMMARY:Mini Diamond Art Month
DESCRIPTION:Come in each Wednesday in April for a mini diamond art craft!
URL:https://preblelibrary.org/event/mini-diamond-art-month/2026-04-08/
LOCATION:West Manchester
CATEGORIES:Crafting,In-Person
ATTACH;FMTTYPE=image/png:https://preblelibrary.org/wp-content/uploads/2026/03/2026.-WM-Mini-Diamond-Art-Month-Website-Graphic.png
END:VEVENT
BEGIN:VEVENT
DTSTART;TZID=America/Detroit:20260407T173000
DTEND;TZID=America/Detroit:20260407T183000
DTSTAMP:20260424T121903
CREATED:20260304T152924Z
LAST-MODIFIED:20260304T155533Z
UID:10012274-1775583000-1775586600@preblelibrary.org
SUMMARY:Adult Craft Night: Book Vase
DESCRIPTION:Give an old book a beautiful new life! Join us as we transform a well-loved book into a unique book vase\, then fill it with handmade flowers crafted from its pages. \nAll supplies are provided — just bring your creativity! \nWhile registration is not required\, this craft requires preparation before craft night. If you do not preregister\, we may not have enough supplies for everyone. Please call (937) 533-4095 or stop by the West Alexandria Library to register. \nWe can’t wait to craft with you!
URL:https://preblelibrary.org/event/adult-craft-night-book-vase/
LOCATION:West Alexandria
CATEGORIES:Crafting,In-Person
ATTACH;FMTTYPE=image/png:https://preblelibrary.org/wp-content/uploads/2026/03/2026.-Adult-Craft-Night-Book-Vase-Website-Graphic-3.png
END:VEVENT
BEGIN:VEVENT
DTSTART;TZID=America/Detroit:20260406T173000
DTEND;TZID=America/Detroit:20260406T180000
DTSTAMP:20260424T121903
CREATED:20260304T142040Z
LAST-MODIFIED:20260304T142040Z
UID:10012270-1775496600-1775498400@preblelibrary.org
SUMMARY:Spring Storytime
DESCRIPTION:Spring into the library and enjoy a FUN craft and story!
URL:https://preblelibrary.org/event/spring-storytime/2026-04-06/
LOCATION:New Paris
CATEGORIES:Crafting,In-Person,Storytime
ATTACH;FMTTYPE=image/png:https://preblelibrary.org/wp-content/uploads/2026/03/2026.-New-Paris-Think-Spring-Storytime-Website-Graphic-1.png
END:VEVENT
BEGIN:VEVENT
DTSTART;TZID=America/Detroit:20260402T163000
DTEND;TZID=America/Detroit:20260402T174500
DTSTAMP:20260424T121903
CREATED:20260317T201442Z
LAST-MODIFIED:20260317T201442Z
UID:10012312-1775147400-1775151900@preblelibrary.org
SUMMARY:Mini Diamond Art Month
DESCRIPTION:Come in each Thursday in April for a mini diamond art craft!
URL:https://preblelibrary.org/event/mini-diamond-art-month-2/2026-04-02/
LOCATION:Eldorado
CATEGORIES:Crafting,In-Person
ATTACH;FMTTYPE=image/png:https://preblelibrary.org/wp-content/uploads/2026/03/2026.-WM-Mini-Diamond-Art-Month-Website-Graphic.png
END:VEVENT
BEGIN:VEVENT
DTSTART;TZID=America/Detroit:20260401T163000
DTEND;TZID=America/Detroit:20260401T174500
DTSTAMP:20260424T121903
CREATED:20260317T200858Z
LAST-MODIFIED:20260317T200858Z
UID:10012307-1775061000-1775065500@preblelibrary.org
SUMMARY:Mini Diamond Art Month
DESCRIPTION:Come in each Wednesday in April for a mini diamond art craft!
URL:https://preblelibrary.org/event/mini-diamond-art-month/2026-04-01/
LOCATION:West Manchester
CATEGORIES:Crafting,In-Person
ATTACH;FMTTYPE=image/png:https://preblelibrary.org/wp-content/uploads/2026/03/2026.-WM-Mini-Diamond-Art-Month-Website-Graphic.png
END:VEVENT
BEGIN:VEVENT
DTSTART;TZID=America/Detroit:20260326T163000
DTEND;TZID=America/Detroit:20260326T174500
DTSTAMP:20260424T121903
CREATED:20260306T141150Z
LAST-MODIFIED:20260306T141230Z
UID:10012288-1774542600-1774547100@preblelibrary.org
SUMMARY:Wooden Tchotchke Painting
DESCRIPTION:Pick an object and paint away!
URL:https://preblelibrary.org/event/wooden-tchotchke-painting/2026-03-26/
LOCATION:Eldorado
CATEGORIES:Crafting,In-Person
ATTACH;FMTTYPE=image/png:https://preblelibrary.org/wp-content/uploads/2026/03/2026.-Eldorado-Wooden-Tchotchke-Painting-Website-Graphic.png
END:VEVENT
BEGIN:VEVENT
DTSTART;TZID=America/Detroit:20260319T163000
DTEND;TZID=America/Detroit:20260319T174500
DTSTAMP:20260424T121903
CREATED:20260306T141150Z
LAST-MODIFIED:20260306T141230Z
UID:10012287-1773937800-1773942300@preblelibrary.org
SUMMARY:Wooden Tchotchke Painting
DESCRIPTION:Pick an object and paint away!
URL:https://preblelibrary.org/event/wooden-tchotchke-painting/2026-03-19/
LOCATION:Eldorado
CATEGORIES:Crafting,In-Person
ATTACH;FMTTYPE=image/png:https://preblelibrary.org/wp-content/uploads/2026/03/2026.-Eldorado-Wooden-Tchotchke-Painting-Website-Graphic.png
END:VEVENT
BEGIN:VEVENT
DTSTART;TZID=America/Detroit:20260318T180000
DTEND;TZID=America/Detroit:20260318T193000
DTSTAMP:20260424T121903
CREATED:20260303T175421Z
LAST-MODIFIED:20260303T175421Z
UID:10012265-1773856800-1773862200@preblelibrary.org
SUMMARY:Simple Mosaics
DESCRIPTION:Use glass tiles to create a simple mosaic coaster or wall decoration. \nCustomize your colors and patterns to create your very own one-of-a-kind piece! \nSpaces for this program are open to patrons 18+ while supplies last.
URL:https://preblelibrary.org/event/simple-mosaics/
LOCATION:Eaton
CATEGORIES:Crafting,In-Person
ATTACH;FMTTYPE=image/png:https://preblelibrary.org/wp-content/uploads/2026/03/2025.-Eaton-Teens-Mosaics-3.png
END:VEVENT
BEGIN:VEVENT
DTSTART;TZID=America/Detroit:20260317T180000
DTEND;TZID=America/Detroit:20260317T193000
DTSTAMP:20260424T121903
CREATED:20260202T161828Z
LAST-MODIFIED:20260202T161828Z
UID:10012123-1773770400-1773775800@preblelibrary.org
SUMMARY:Adult Craft: Painted Bird Rock on Wooden Slice
DESCRIPTION:Adults\, kick off SPRING with this this cute craft! All supplies will be provided. Registration is required for this event. Please call the New Paris Branch at (937) 437-7242 or stop by to register.
URL:https://preblelibrary.org/event/adult-craft-painted-bird-rock-on-wooden-slice/
LOCATION:New Paris
CATEGORIES:Crafting,In-Person
ATTACH;FMTTYPE=image/png:https://preblelibrary.org/wp-content/uploads/2026/02/2026.-New-Paris-Adult-Craft-Painted-Bird-Rock-on-Wooden-Slice.png
END:VEVENT
BEGIN:VEVENT
DTSTART;TZID=America/Detroit:20260311T163000
DTEND;TZID=America/Detroit:20260311T174500
DTSTAMP:20260424T121903
CREATED:20260302T203431Z
LAST-MODIFIED:20260303T142456Z
UID:10012263-1773246600-1773251100@preblelibrary.org
SUMMARY:Popsicle Stick Leprechaun
DESCRIPTION:Come to the West Manchester Branch to make this fun popsicle stick leprechaun friend to celebrate St Parick’s Day with!
URL:https://preblelibrary.org/event/popsicle-stick-leprechaun/
LOCATION:West Manchester
CATEGORIES:Crafting,In-Person
ATTACH;FMTTYPE=image/png:https://preblelibrary.org/wp-content/uploads/2026/03/2026.-WM-Popsicle-Stick-Leprechaun-Flyer-1.png
END:VEVENT
BEGIN:VEVENT
DTSTART;TZID=America/Detroit:20260303T173000
DTEND;TZID=America/Detroit:20260303T183000
DTSTAMP:20260424T121903
CREATED:20260216T155025Z
LAST-MODIFIED:20260216T165037Z
UID:10012218-1772559000-1772562600@preblelibrary.org
SUMMARY:Adult Craft Night: Material Art
DESCRIPTION:  \nCreate your own wall art! \nUsing templates and a wide variety of materials\, design and create your very own masterpiece to hang on your wall. \nWe’ll have plenty of supplies ready for you — all you need to bring is your creativity! \n• Fun• Creative• Made by You \nJoin us and turn simple materials into something amazing! \nReservations are not required\, but they are recommended to help us ensure we have enough supplies for everyone. \nLet us know you’re coming so we can be ready for you!
URL:https://preblelibrary.org/event/adult-craft-night-material-art/
LOCATION:West Alexandria
CATEGORIES:Crafting,In-Person
ATTACH;FMTTYPE=image/png:https://preblelibrary.org/wp-content/uploads/2026/02/2026.-WA-Adult-Craft-Night-Material-Art-Website-Graphic-1.png
END:VEVENT
BEGIN:VEVENT
DTSTART;TZID=America/Detroit:20260226T163000
DTEND;TZID=America/Detroit:20260226T174500
DTSTAMP:20260424T121903
CREATED:20260212T133117Z
LAST-MODIFIED:20260212T133513Z
UID:10012133-1772123400-1772127900@preblelibrary.org
SUMMARY:Owl Coasters
DESCRIPTION:WHOOOO wants to make a cute owl coaster to hold your hot drinks in the cool weather? \nCome to the Eldorado Library and make this fun craft with us. No registration required. We hope to see you there!
URL:https://preblelibrary.org/event/owl-coasters/
LOCATION:Eldorado
CATEGORIES:Crafting,In-Person
ATTACH;FMTTYPE=image/png:https://preblelibrary.org/wp-content/uploads/2026/02/2026.-Eldorado-Owl-Coasters-Website-Graphic-2.png
END:VEVENT
BEGIN:VEVENT
DTSTART;TZID=America/Detroit:20260223T173000
DTEND;TZID=America/Detroit:20260223T180000
DTSTAMP:20260424T121903
CREATED:20260106T140840Z
LAST-MODIFIED:20260106T140840Z
UID:10011972-1771867800-1771869600@preblelibrary.org
SUMMARY:Storytime
DESCRIPTION:Stop by the library for storytime during the month of February and fall in LOVE with a good book! We will also make a craft! Remember sometimes we can get messy so…. don’t wear your favorite shirt! \n  \n 
URL:https://preblelibrary.org/event/storytime-19/
LOCATION:New Paris
CATEGORIES:Crafting,In-Person,Storytime
ATTACH;FMTTYPE=image/png:https://preblelibrary.org/wp-content/uploads/2025/07/2025.-New-Paris-Storytime-Website-Graphic.png
END:VEVENT
BEGIN:VEVENT
DTSTART;TZID=America/Detroit:20260217T180000
DTEND;TZID=America/Detroit:20260217T193000
DTSTAMP:20260424T121903
CREATED:20260120T200827Z
LAST-MODIFIED:20260120T200827Z
UID:10012107-1771351200-1771356600@preblelibrary.org
SUMMARY:Adult Craft: Stylish Ornamental Frame
DESCRIPTION:Adults – stop by the library and make a stylish ornamental frame. \nRegistration is required for this event. We look forward to seeing YOU at the library!
URL:https://preblelibrary.org/event/adult-craft-stylish-ornamental-frame/
LOCATION:New Paris
CATEGORIES:Crafting,In-Person
ATTACH;FMTTYPE=image/png:https://preblelibrary.org/wp-content/uploads/2026/01/2026.-New-Paris-Adult-Craft-Stylish-Ornamental-Frame-Website-Graphic.png
END:VEVENT
BEGIN:VEVENT
DTSTART;TZID=America/Detroit:20260216T173000
DTEND;TZID=America/Detroit:20260216T180000
DTSTAMP:20260424T121903
CREATED:20260106T140645Z
LAST-MODIFIED:20260106T140645Z
UID:10011971-1771263000-1771264800@preblelibrary.org
SUMMARY:Storytime
DESCRIPTION:Stop by the library for storytime during the month of February and fall in LOVE with a good book! We will also make a craft! Remember sometimes we can get messy so…. don’t wear your favorite shirt! \n  \nAdditional Storytime dates: \nFebruary 23rd 5:30pm-6:00pm
URL:https://preblelibrary.org/event/storytime-18/
LOCATION:New Paris
CATEGORIES:Crafting,In-Person,Storytime
ATTACH;FMTTYPE=image/png:https://preblelibrary.org/wp-content/uploads/2025/07/2025.-New-Paris-Storytime-Website-Graphic.png
END:VEVENT
BEGIN:VEVENT
DTSTART;TZID=America/Detroit:20260209T173000
DTEND;TZID=America/Detroit:20260209T180000
DTSTAMP:20260424T121903
CREATED:20260106T140350Z
LAST-MODIFIED:20260106T140438Z
UID:10011970-1770658200-1770660000@preblelibrary.org
SUMMARY:Storytime
DESCRIPTION:Stop by the library for storytime during the month of February and fall in LOVE with a good book! We will also make a craft! Remember sometimes we can get messy so…. don’t wear your favorite shirt! \n  \nAdditional Storytime dates: \nFebruary 16th 5:30pm-6:00pm\nFebruary 23rd 5:30pm-6:00pm
URL:https://preblelibrary.org/event/storytime-17/
LOCATION:New Paris
CATEGORIES:Crafting,In-Person,Storytime
ATTACH;FMTTYPE=image/png:https://preblelibrary.org/wp-content/uploads/2025/07/2025.-New-Paris-Storytime-Website-Graphic.png
END:VEVENT
BEGIN:VEVENT
DTSTART;VALUE=DATE:20260209
DTEND;VALUE=DATE:20260210
DTSTAMP:20260424T121903
CREATED:20260106T131040Z
LAST-MODIFIED:20260106T131040Z
UID:10011968-1770595200-1770681599@preblelibrary.org
SUMMARY:Valentine Card Station
DESCRIPTION:Make a card for someone special at the library’s Valentine Card Station! The card station will be available from February 9th – 14th\, during regular business hours.
URL:https://preblelibrary.org/event/valentine-card-station/
LOCATION:New Paris
CATEGORIES:Crafting,In-Person
ATTACH;FMTTYPE=image/png:https://preblelibrary.org/wp-content/uploads/2026/01/2026.-New-Paris-Valentine-Card-Station-Flyer-1.png
END:VEVENT
BEGIN:VEVENT
DTSTART;TZID=America/Detroit:20260202T173000
DTEND;TZID=America/Detroit:20260202T180000
DTSTAMP:20260424T121903
CREATED:20260106T140115Z
LAST-MODIFIED:20260106T140115Z
UID:10011969-1770053400-1770055200@preblelibrary.org
SUMMARY:Storytime
DESCRIPTION:Stop by the library for storytime during the month of February and fall in LOVE with a good book! We will also make a craft! Remember sometimes we can get messy so…. don’t wear your favorite shirt! \n  \nAdditional Storytime dates: \nFebruary 9th 5:30pm-6:00pm\nFebruary 16th 5:30pm-6:00pm\nFebruary 23rd 5:30pm-6:00pm
URL:https://preblelibrary.org/event/storytime-7/
LOCATION:New Paris
CATEGORIES:Crafting,In-Person,Storytime
ATTACH;FMTTYPE=image/png:https://preblelibrary.org/wp-content/uploads/2025/07/2025.-New-Paris-Storytime-Website-Graphic.png
END:VEVENT
BEGIN:VEVENT
DTSTART;TZID=America/Detroit:20260122T163000
DTEND;TZID=America/Detroit:20260122T174500
DTSTAMP:20260424T121903
CREATED:20260107T161449Z
LAST-MODIFIED:20260107T161449Z
UID:10012000-1769099400-1769103900@preblelibrary.org
SUMMARY:Painted Snowman
DESCRIPTION:Paint a snowman to grace your front step—or wherever you’d like to put him!
URL:https://preblelibrary.org/event/painted-snowman/
LOCATION:Eldorado
CATEGORIES:Crafting,In-Person
ATTACH;FMTTYPE=image/png:https://preblelibrary.org/wp-content/uploads/2026/01/2026.-Eldorado-Painted-Snowman-Website-Graphic.png
END:VEVENT
BEGIN:VEVENT
DTSTART;TZID=America/Detroit:20260120T153000
DTEND;TZID=America/Detroit:20260120T163000
DTSTAMP:20260424T121903
CREATED:20251204T172657Z
LAST-MODIFIED:20251204T172657Z
UID:10011814-1768923000-1768926600@preblelibrary.org
SUMMARY:Express Yourself: Pin Crafting Teen Program
DESCRIPTION:Express your creativity by crafting your own custom pin using the materials included. Create a matching one for a friend. We will have a wide variety of materials available.
URL:https://preblelibrary.org/event/express-yourself-pin-crafting-teen-program/
LOCATION:West Alexandria
CATEGORIES:Crafting,In-Person
ATTACH;FMTTYPE=image/png:https://preblelibrary.org/wp-content/uploads/2025/12/2026.-West-Alexandria-Express-Yourself-Pin-Crafting-Teen-Program-Flyer-3.png
END:VEVENT
BEGIN:VEVENT
DTSTART;TZID=America/Detroit:20260119T173000
DTEND;TZID=America/Detroit:20260119T180000
DTSTAMP:20260424T121903
CREATED:20251210T154946Z
LAST-MODIFIED:20251210T155126Z
UID:10011881-1768843800-1768845600@preblelibrary.org
SUMMARY:Winter Storytime
DESCRIPTION:Warm up at the New Paris Library with a FUN story and craft! \n  \nAdditional Storytime dates: \nJanuary 26th 5:30pm-6:00pm
URL:https://preblelibrary.org/event/winter-storytime-3/
LOCATION:New Paris
CATEGORIES:Crafting,In-Person,Storytime
ATTACH;FMTTYPE=image/png:https://preblelibrary.org/wp-content/uploads/2025/12/2026.-New-Paris-Winter-Storytime-Flyer-3.png
END:VEVENT
END:VCALENDAR