BEGIN:VCALENDAR
VERSION:2.0
PRODID:-//Preble County Library - ECPv6.15.20//NONSGML v1.0//EN
CALSCALE:GREGORIAN
METHOD:PUBLISH
X-ORIGINAL-URL:https://preblelibrary.org
X-WR-CALDESC:Events for Preble County Library
REFRESH-INTERVAL;VALUE=DURATION:PT1H
X-Robots-Tag:noindex
X-PUBLISHED-TTL:PT1H
BEGIN:VTIMEZONE
TZID:America/Detroit
BEGIN:DAYLIGHT
TZOFFSETFROM:-0500
TZOFFSETTO:-0400
TZNAME:EDT
DTSTART:20240310T070000
END:DAYLIGHT
BEGIN:STANDARD
TZOFFSETFROM:-0400
TZOFFSETTO:-0500
TZNAME:EST
DTSTART:20241103T060000
END:STANDARD
BEGIN:DAYLIGHT
TZOFFSETFROM:-0500
TZOFFSETTO:-0400
TZNAME:EDT
DTSTART:20250309T070000
END:DAYLIGHT
BEGIN:STANDARD
TZOFFSETFROM:-0400
TZOFFSETTO:-0500
TZNAME:EST
DTSTART:20251102T060000
END:STANDARD
BEGIN:DAYLIGHT
TZOFFSETFROM:-0500
TZOFFSETTO:-0400
TZNAME:EDT
DTSTART:20260308T070000
END:DAYLIGHT
BEGIN:STANDARD
TZOFFSETFROM:-0400
TZOFFSETTO:-0500
TZNAME:EST
DTSTART:20261101T060000
END:STANDARD
END:VTIMEZONE
BEGIN:VEVENT
DTSTART;TZID=America/Detroit:20251118T173000
DTEND;TZID=America/Detroit:20251118T183000
DTSTAMP:20260425T111707
CREATED:20250515T190953Z
LAST-MODIFIED:20260407T203359Z
UID:10010726-1763487000-1763490600@preblelibrary.org
SUMMARY:Little Ones Storytime
DESCRIPTION:Join us for Storytime at the Camden Branch!\nHelp your kids develop a love for books and make new friends!\nOn the third Tuesday of every month\, each Storytime will have a new theme and activity. \nNo reservation needed.
URL:https://preblelibrary.org/event/little-ones-storytime-5-2/2025-11-18/
LOCATION:Camden
CATEGORIES:In-Person
ATTACH;FMTTYPE=image/png:https://preblelibrary.org/wp-content/uploads/2022/09/Little-Ones-Storytime-Website.png
END:VEVENT
BEGIN:VEVENT
DTSTART;TZID=America/Detroit:20251118T173000
DTEND;TZID=America/Detroit:20251118T183000
DTSTAMP:20260425T111707
CREATED:20251003T144629Z
LAST-MODIFIED:20251024T142200Z
UID:10011149-1763487000-1763490600@preblelibrary.org
SUMMARY:Family Book Club
DESCRIPTION:Family Book Club Pick of the Month:\nRain Reign by Ann M. Martin \nSummary:\nRose Howard is obsessed with homonyms (like rain\, reign\, and rein) and rules—especially ones that help her navigate her world as a girl with autism. She names her beloved dog Rain because it’s a special triple homonym. But when a storm hits and Rain goes missing\, Rose must break some of her own rules to find her dog—and\, along the way\, discovers what love\, acceptance\, and bravery really mean. \nWhy it’s a great family read: \n-Encourages empathy and understanding of neurodiversity. \n-Sparks thoughtful discussions about family\, resilience\, and doing the right thing. \n-Written with heart and honesty by a renowned author. \nHow to Join the Fun: \n-Read the book together as a family. \n-Talk about your favorite moments\, characters\, and what the story meant to you. \n-Share your thoughts at book club.
URL:https://preblelibrary.org/event/family-book-club-4/
LOCATION:West Alexandria
CATEGORIES:Book Club,In-Person
ATTACH;FMTTYPE=image/png:https://preblelibrary.org/wp-content/uploads/2025/10/2025.-West-Alexandria-Family-Book-Club-Rain-Reign-Website-Graphic-3.png
END:VEVENT
BEGIN:VEVENT
DTSTART;TZID=America/Detroit:20251118T180000
DTEND;TZID=America/Detroit:20251118T193000
DTSTAMP:20260425T111707
CREATED:20251010T191000Z
LAST-MODIFIED:20251010T191521Z
UID:10011158-1763488800-1763494200@preblelibrary.org
SUMMARY:Adult Craft: Corded Mini Wreath
DESCRIPTION:Join us at the library to make a cute ornament for your tree! Registration is required. Please register by calling (937) 437-7242.
URL:https://preblelibrary.org/event/adult-craft-corded-mini-wreath/
LOCATION:New Paris
CATEGORIES:Crafting,In-Person
ATTACH;FMTTYPE=image/png:https://preblelibrary.org/wp-content/uploads/2025/10/2025.-New-Paris-Adult-Craft-Corded-Mini-Wreath-4.png
END:VEVENT
END:VCALENDAR