BEGIN:VCALENDAR
VERSION:2.0
PRODID:-//Preble County Library - ECPv6.15.20//NONSGML v1.0//EN
CALSCALE:GREGORIAN
METHOD:PUBLISH
X-ORIGINAL-URL:https://preblelibrary.org
X-WR-CALDESC:Events for Preble County Library
REFRESH-INTERVAL;VALUE=DURATION:PT1H
X-Robots-Tag:noindex
X-PUBLISHED-TTL:PT1H
BEGIN:VTIMEZONE
TZID:America/Detroit
BEGIN:DAYLIGHT
TZOFFSETFROM:-0500
TZOFFSETTO:-0400
TZNAME:EDT
DTSTART:20250309T070000
END:DAYLIGHT
BEGIN:STANDARD
TZOFFSETFROM:-0400
TZOFFSETTO:-0500
TZNAME:EST
DTSTART:20251102T060000
END:STANDARD
BEGIN:DAYLIGHT
TZOFFSETFROM:-0500
TZOFFSETTO:-0400
TZNAME:EDT
DTSTART:20260308T070000
END:DAYLIGHT
BEGIN:STANDARD
TZOFFSETFROM:-0400
TZOFFSETTO:-0500
TZNAME:EST
DTSTART:20261101T060000
END:STANDARD
BEGIN:DAYLIGHT
TZOFFSETFROM:-0500
TZOFFSETTO:-0400
TZNAME:EDT
DTSTART:20270314T070000
END:DAYLIGHT
BEGIN:STANDARD
TZOFFSETFROM:-0400
TZOFFSETTO:-0500
TZNAME:EST
DTSTART:20271107T060000
END:STANDARD
END:VTIMEZONE
BEGIN:VEVENT
DTSTART;TZID=America/Detroit:20260425T120000
DTEND;TZID=America/Detroit:20260425T130000
DTSTAMP:20260424T104305
CREATED:20260203T205513Z
LAST-MODIFIED:20260203T205513Z
UID:10012126-1777118400-1777122000@preblelibrary.org
SUMMARY:LEGO Club
DESCRIPTION:Join us each month to build creative LEGO masterpieces with friends! The library provides the bricks—you bring the imagination. Each session includes a monthly drawing for a LEGO-themed prize\, and every visit earns you an entry into our Grand Prize Drawing in December. The more months you attend\, the more chances you have to win!
URL:https://preblelibrary.org/event/lego-club-4/
LOCATION:West Alexandria
CATEGORIES:In-Person
ATTACH;FMTTYPE=image/png:https://preblelibrary.org/wp-content/uploads/2026/02/2026.-WA-April-LEGO-Club.png
END:VEVENT
BEGIN:VEVENT
DTSTART;VALUE=DATE:20260427
DTEND;VALUE=DATE:20260428
DTSTAMP:20260424T104305
CREATED:20260323T133447Z
LAST-MODIFIED:20260323T133447Z
UID:10012323-1777248000-1777334399@preblelibrary.org
SUMMARY:New Paris Birdwatching Club
DESCRIPTION:Join the birdwatching club at the New Paris Library! Pick up some birdseed between April 6 and April 29 during regular business hours\, and start your own SPRING outdoor adventure. \nWhile supplies last!
URL:https://preblelibrary.org/event/new-paris-birdwatching-club/2026-04-27/
LOCATION:New Paris
CATEGORIES:In-Person
ATTACH;FMTTYPE=image/png:https://preblelibrary.org/wp-content/uploads/2026/03/2026.-New-Paris-Birdwatching-Club-Website-Graphic.png
END:VEVENT
BEGIN:VEVENT
DTSTART;TZID=America/Detroit:20260427T130000
DTEND;TZID=America/Detroit:20260427T160000
DTSTAMP:20260424T104305
CREATED:20251211T162458Z
LAST-MODIFIED:20251211T162458Z
UID:10011904-1777294800-1777305600@preblelibrary.org
SUMMARY:Book a Librarian
DESCRIPTION:Your Reference Librarian can help you with so much technology.\nWould you like to learn more about computers? Do you have a new tablet or smartphone you’d like to learn more about? The Reference Librarian is happy to help! \nDrop in on Monday afternoons between 1:00 pm – 4:00 pm for assistance with: \n\ntablets\ne-readers\nmobile phones\ncomputers\nMicrosoft Office programs\nInternet\nresumes and job searching\nusing the library catalog and research. You may also call 937-456-5562\, email prebleref@preblelibrary.org\, or stop by the library in person to set up an appointment if you can’t make it on a Monday.*These sessions will take place at Eaton\, but the Reference Librarian is more than happy to travel to your home branch if 24-hour advance notice is provided*
URL:https://preblelibrary.org/event/book-a-librarian-3/2026-04-27/
LOCATION:All
CATEGORIES:In-Person
ATTACH;FMTTYPE=image/png:https://preblelibrary.org/wp-content/uploads/2023/12/Book-a-Librarian-1.png
END:VEVENT
BEGIN:VEVENT
DTSTART;TZID=America/Detroit:20260427T163000
DTEND;TZID=America/Detroit:20260427T171500
DTSTAMP:20260424T104305
CREATED:20260327T174255Z
LAST-MODIFIED:20260327T174255Z
UID:10012344-1777307400-1777310100@preblelibrary.org
SUMMARY:LEGO Club (Eaton Branch)
DESCRIPTION:Join us on the last Monday of the month for the Eaton Branch Library’s LEGO Club! We will be meeting in person at the Eaton Branch! Bring your LEGOs and your imagination to show off your Master Builder skills! \nThe library will have LEGOs for children to build with!\nThis program will run for approximately 45 minutes.
URL:https://preblelibrary.org/event/lego-club-eaton-branch/2026-04-27/
LOCATION:Eaton
CATEGORIES:In-Person,Lego Club
ATTACH;FMTTYPE=image/png:https://preblelibrary.org/wp-content/uploads/2022/08/LEGO-Club-Eaton-Website.png
END:VEVENT
BEGIN:VEVENT
DTSTART;TZID=America/Detroit:20260427T173000
DTEND;TZID=America/Detroit:20260427T180000
DTSTAMP:20260424T104305
CREATED:20260304T142040Z
LAST-MODIFIED:20260304T142040Z
UID:10012273-1777311000-1777312800@preblelibrary.org
SUMMARY:Spring Storytime
DESCRIPTION:Spring into the library and enjoy a FUN craft and story!
URL:https://preblelibrary.org/event/spring-storytime/2026-04-27/
LOCATION:New Paris
CATEGORIES:Crafting,In-Person,Storytime
ATTACH;FMTTYPE=image/png:https://preblelibrary.org/wp-content/uploads/2026/03/2026.-New-Paris-Think-Spring-Storytime-Website-Graphic-1.png
END:VEVENT
BEGIN:VEVENT
DTSTART;TZID=America/Detroit:20260428T140000
DTEND;TZID=America/Detroit:20260428T200000
DTSTAMP:20260424T104305
CREATED:20260325T140353Z
LAST-MODIFIED:20260325T140353Z
UID:10012326-1777384800-1777406400@preblelibrary.org
SUMMARY:LEGO Day
DESCRIPTION:Stop by the library and build with your friends! Kids can enter their build for a chance to win a small prize!!
URL:https://preblelibrary.org/event/lego-day-9/
LOCATION:New Paris
CATEGORIES:In-Person
ATTACH;FMTTYPE=image/png:https://preblelibrary.org/wp-content/uploads/2025/10/2025.-New-Paris-LEGO-Day-Website-Graphic-7.png
END:VEVENT
BEGIN:VEVENT
DTSTART;TZID=America/Detroit:20260428T153000
DTEND;TZID=America/Detroit:20260428T180000
DTSTAMP:20260424T104305
CREATED:20260327T122712Z
LAST-MODIFIED:20260327T122712Z
UID:10012329-1777390200-1777399200@preblelibrary.org
SUMMARY:Teens: Monthly Movie
DESCRIPTION:Once a month\, enjoy a free screening of a teen-selected film at the Eaton Branch! \nCast your vote and settle in for a movie night with friends. Popcorn is provided! \n*This FREE program is open to patrons in grades 6-12*
URL:https://preblelibrary.org/event/teens-monthly-movie-3/
LOCATION:Eaton
CATEGORIES:In-Person
ATTACH;FMTTYPE=image/png:https://preblelibrary.org/wp-content/uploads/2026/03/2026.-Teens-Monthly-Movie-Website-Graphic-3.png
END:VEVENT
BEGIN:VEVENT
DTSTART;TZID=America/Detroit:20260428T173000
DTEND;TZID=America/Detroit:20260428T183000
DTSTAMP:20260424T104305
CREATED:20260203T162908Z
LAST-MODIFIED:20260203T163037Z
UID:10012125-1777397400-1777401000@preblelibrary.org
SUMMARY:Book Nook Society-Adult Book Club
DESCRIPTION:This month’s Book Nook Society pick is The Man Who Loved Books Too Much by Allison Hoover Bartlett\, a gripping nonfiction account of a rare-book thief and those affected by his crimes. \nOur discussions are always lively\, and we can’t wait to hear your thoughts on John Charles Gilkey—and whether his actions were driven by obsession\, passion\, or something else entirely.
URL:https://preblelibrary.org/event/book-nook-society-adult-book-club-4/
LOCATION:West Alexandria
CATEGORIES:Book Club,In-Person
ATTACH;FMTTYPE=image/png:https://preblelibrary.org/wp-content/uploads/2026/02/2026.-Book-Nook-Society-The-Man-Who-Loved-Books-Too-Much-Flyer-4.png
END:VEVENT
BEGIN:VEVENT
DTSTART;TZID=America/Detroit:20260429T103000
DTEND;TZID=America/Detroit:20260429T113000
DTSTAMP:20260424T104305
CREATED:20260304T190920Z
LAST-MODIFIED:20260304T190920Z
UID:10012279-1777458600-1777462200@preblelibrary.org
SUMMARY:Stay & Play Hour
DESCRIPTION:Stop into the Eaton Branch for our Stay & Play Hour! This is a chance for parents and toddlers to socialize with other families and for kids to play with books\, puppets\, blocks\, a ball pit\, and more! \nThrough play\, children can expand their vocabulary\, learn to problem-solve\, and build social and emotional skills! \nThis program is for children 0-5 years of age.
URL:https://preblelibrary.org/event/stay-play-hour-2/2026-04-29/
LOCATION:Eaton
CATEGORIES:In-Person
ATTACH;FMTTYPE=image/png:https://preblelibrary.org/wp-content/uploads/2023/10/Stay-and-Play-Hour-website.png
END:VEVENT
BEGIN:VEVENT
DTSTART;TZID=America/Detroit:20260429T163000
DTEND;TZID=America/Detroit:20260429T174500
DTSTAMP:20260424T104305
CREATED:20260317T200858Z
LAST-MODIFIED:20260317T200858Z
UID:10012311-1777480200-1777484700@preblelibrary.org
SUMMARY:Mini Diamond Art Month
DESCRIPTION:Come in each Wednesday in April for a mini diamond art craft!
URL:https://preblelibrary.org/event/mini-diamond-art-month/2026-04-29/
LOCATION:West Manchester
CATEGORIES:Crafting,In-Person
ATTACH;FMTTYPE=image/png:https://preblelibrary.org/wp-content/uploads/2026/03/2026.-WM-Mini-Diamond-Art-Month-Website-Graphic.png
END:VEVENT
BEGIN:VEVENT
DTSTART;TZID=America/Detroit:20260429T180000
DTEND;TZID=America/Detroit:20260429T193000
DTSTAMP:20260424T104305
CREATED:20260115T213910Z
LAST-MODIFIED:20260115T213910Z
UID:10012089-1777485600-1777491000@preblelibrary.org
SUMMARY:AYA Book Club
DESCRIPTION:This Adult/Young Adult Book Club is for ages 18+. \nFor each meeting\, a few FREE copies of our selected book club title will be available\, beginning the first of the month. Please register and pick up a copy in advance\, read the book\, and then join us for a relaxed discussion on the scheduled program date. That’s it! We’ll provide the meeting space; you bring the conversation.
URL:https://preblelibrary.org/event/aya-book-club-3/2026-04-29/
LOCATION:Eaton
CATEGORIES:Book Club,In-Person
ATTACH;FMTTYPE=image/png:https://preblelibrary.org/wp-content/uploads/2026/01/AYA-Book-Club.png
END:VEVENT
BEGIN:VEVENT
DTSTART;TZID=America/Detroit:20260429T180000
DTEND;TZID=America/Detroit:20260429T200000
DTSTAMP:20260424T104305
CREATED:20260401T125750Z
LAST-MODIFIED:20260401T130250Z
UID:10012370-1777485600-1777492800@preblelibrary.org
SUMMARY:History Book Club
DESCRIPTION:Join us for an exciting discussion at our history book club! Our next selection is And There Was Light: Abraham Lincoln and the American Struggle. \nThis book tells the story of Lincoln from his birth on the Kentucky frontier in 1809 to his leadership during the Civil War to his tragic assassination in 1865: his rise\, his self-education\, his loves\, his bouts of depression\, his political failures\, his deepening faith\, and his persistent conviction that slavery must end. \nIn a nation shaped by the courage of the enslaved of the era and by the brave witness of Black Americans\, Lincoln’s story illustrates the ways and means of politics in a democracy\, the roots and durability of racism\, and the capacity of conscience to shape events.
URL:https://preblelibrary.org/event/history-book-club-4/
LOCATION:Preble County Genealogy Room
CATEGORIES:Book Club,In-Person
ATTACH;FMTTYPE=image/png:https://preblelibrary.org/wp-content/uploads/2026/04/2025.-PC-Room-History-April-Book-Club.png
END:VEVENT
BEGIN:VEVENT
DTSTART;TZID=America/Detroit:20260430T163000
DTEND;TZID=America/Detroit:20260430T174500
DTSTAMP:20260424T104305
CREATED:20260317T201442Z
LAST-MODIFIED:20260317T201442Z
UID:10012316-1777566600-1777571100@preblelibrary.org
SUMMARY:Mini Diamond Art Month
DESCRIPTION:Come in each Thursday in April for a mini diamond art craft!
URL:https://preblelibrary.org/event/mini-diamond-art-month-2/2026-04-30/
LOCATION:Eldorado
CATEGORIES:Crafting,In-Person
ATTACH;FMTTYPE=image/png:https://preblelibrary.org/wp-content/uploads/2026/03/2026.-WM-Mini-Diamond-Art-Month-Website-Graphic.png
END:VEVENT
BEGIN:VEVENT
DTSTART;TZID=America/Detroit:20260430T180000
DTEND;TZID=America/Detroit:20260430T190000
DTSTAMP:20260424T104305
CREATED:20260327T125511Z
LAST-MODIFIED:20260327T125619Z
UID:10012330-1777572000-1777575600@preblelibrary.org
SUMMARY:Reading Dragons Party
DESCRIPTION:It’s the last day of the official Reading Dragons season\, and we’re celebrating with a party! \nEarn bonus cards\, compete in tournaments\, and trade your duplicates with other players at this social event. \nThis program is open to patrons of all ages and all experience levels! \nJust getting started with the Reading Dragons program? Come see what it’s all about! \n  \nFind more information on Reading Dragons at https://preblelibrary.org/readingdragons
URL:https://preblelibrary.org/event/reading-dragons-party/
LOCATION:Eaton
CATEGORIES:In-Person
ATTACH;FMTTYPE=image/png:https://preblelibrary.org/wp-content/uploads/2026/03/2025.-Eaton-Reading-Dragons-Season-2-2.png
END:VEVENT
END:VCALENDAR