BEGIN:VCALENDAR
VERSION:2.0
PRODID:-//Preble County Library - ECPv6.15.20//NONSGML v1.0//EN
CALSCALE:GREGORIAN
METHOD:PUBLISH
X-WR-CALNAME:Preble County Library
X-ORIGINAL-URL:https://preblelibrary.org
X-WR-CALDESC:Events for Preble County Library
REFRESH-INTERVAL;VALUE=DURATION:PT1H
X-Robots-Tag:noindex
X-PUBLISHED-TTL:PT1H
BEGIN:VTIMEZONE
TZID:America/Detroit
BEGIN:DAYLIGHT
TZOFFSETFROM:-0500
TZOFFSETTO:-0400
TZNAME:EDT
DTSTART:20240310T070000
END:DAYLIGHT
BEGIN:STANDARD
TZOFFSETFROM:-0400
TZOFFSETTO:-0500
TZNAME:EST
DTSTART:20241103T060000
END:STANDARD
BEGIN:DAYLIGHT
TZOFFSETFROM:-0500
TZOFFSETTO:-0400
TZNAME:EDT
DTSTART:20250309T070000
END:DAYLIGHT
BEGIN:STANDARD
TZOFFSETFROM:-0400
TZOFFSETTO:-0500
TZNAME:EST
DTSTART:20251102T060000
END:STANDARD
BEGIN:DAYLIGHT
TZOFFSETFROM:-0500
TZOFFSETTO:-0400
TZNAME:EDT
DTSTART:20260308T070000
END:DAYLIGHT
BEGIN:STANDARD
TZOFFSETFROM:-0400
TZOFFSETTO:-0500
TZNAME:EST
DTSTART:20261101T060000
END:STANDARD
BEGIN:DAYLIGHT
TZOFFSETFROM:-0500
TZOFFSETTO:-0400
TZNAME:EDT
DTSTART:20270314T070000
END:DAYLIGHT
BEGIN:STANDARD
TZOFFSETFROM:-0400
TZOFFSETTO:-0500
TZNAME:EST
DTSTART:20271107T060000
END:STANDARD
END:VTIMEZONE
BEGIN:VEVENT
DTSTART;TZID=America/Detroit:20260129T164500
DTEND;TZID=America/Detroit:20260129T173000
DTSTAMP:20260425T111653
CREATED:20251121T201001Z
LAST-MODIFIED:20251121T201001Z
UID:10011801-1769705100-1769707800@preblelibrary.org
SUMMARY:Family Storytime
DESCRIPTION:Registration is now open for the winter session of storytime at the Eaton Branch. \nFamily Storytime is for families with children ages 0 to 5 years. This class is available on Thursday at 4:45 PM. This is a 45-minute class. \nThe winter session will run from January 8 through February 12. Call the Eaton Branch at 937-456-4331 to register. \nOur storytimes are formulated around the Every Child Ready to Read initiative\, which focuses on the five early literacy practices of talking\, singing\, reading\, writing\, and playing.
URL:https://preblelibrary.org/event/family-storytime-2/2026-01-29/
LOCATION:Eaton
CATEGORIES:In-Person,Storytime
ATTACH;FMTTYPE=image/png:https://preblelibrary.org/wp-content/uploads/2023/07/Family-Storytime-Fall-website-1.png
END:VEVENT
BEGIN:VEVENT
DTSTART;TZID=America/Detroit:20260129T103000
DTEND;TZID=America/Detroit:20260129T111500
DTSTAMP:20260425T111653
CREATED:20251121T200648Z
LAST-MODIFIED:20251121T200648Z
UID:10011793-1769682600-1769685300@preblelibrary.org
SUMMARY:Library Mice Preschool Storytime
DESCRIPTION:Registration is now open for the winter session of storytime at the Eaton Branch. \nLibrary Mice Preschool Storytime is for children three years old to kindergarten. This class is available on Wednesdays or Thursdays at 10:30 AM. This is a 45-minute class. \nThe winter session will run from January 7 through February 12. Call the Eaton Branch at 937-456-4331 to register. \nOur storytimes are formulated around the Every Child Ready to Read initiative\, which focuses on the five early literacy practices of talking\, singing\, reading\, writing\, and playing.
URL:https://preblelibrary.org/event/library-mice-preschool-storytime/2026-01-29/
LOCATION:Eaton
CATEGORIES:In-Person,Storytime
ATTACH;FMTTYPE=image/png:https://preblelibrary.org/wp-content/uploads/2022/07/Library-Mice-Storytime-Eaton.png
END:VEVENT
BEGIN:VEVENT
DTSTART;TZID=America/Detroit:20260129T103000
DTEND;TZID=America/Detroit:20260129T110000
DTSTAMP:20260425T111653
CREATED:20251121T184407Z
LAST-MODIFIED:20251121T200345Z
UID:10011270-1769682600-1769684400@preblelibrary.org
SUMMARY:Mother Goose Baby & Toddler Storytime
DESCRIPTION:Registration is now open for the winter session of storytime at the Eaton Library. \nMother Goose Baby & Toddler Storytime is for children ages birth to 3 years on Wednesdays or Thursdays at 10:30 AM. This is a 30-minute class. \nThe winter session will run from January 7 through February 12. Call the Eaton Branch at 937-456-4331 to register. \nOur storytimes are formulated around the Every Child Ready to Read initiative\, which focuses on the five early literacy practices of talking\, singing\, reading\, writing\, and playing.
URL:https://preblelibrary.org/event/mother-goose-baby-toddler-storytime/2026-01-29/
LOCATION:Eaton
CATEGORIES:In-Person,Storytime
ATTACH;FMTTYPE=image/png:https://preblelibrary.org/wp-content/uploads/2022/07/Mother-Goose-Storytime-Eaton.png
END:VEVENT
BEGIN:VEVENT
DTSTART;TZID=America/Detroit:20260128T103000
DTEND;TZID=America/Detroit:20260128T111500
DTSTAMP:20260425T111653
CREATED:20251121T200648Z
LAST-MODIFIED:20251121T200648Z
UID:10011792-1769596200-1769598900@preblelibrary.org
SUMMARY:Library Mice Preschool Storytime
DESCRIPTION:Registration is now open for the winter session of storytime at the Eaton Branch. \nLibrary Mice Preschool Storytime is for children three years old to kindergarten. This class is available on Wednesdays or Thursdays at 10:30 AM. This is a 45-minute class. \nThe winter session will run from January 7 through February 12. Call the Eaton Branch at 937-456-4331 to register. \nOur storytimes are formulated around the Every Child Ready to Read initiative\, which focuses on the five early literacy practices of talking\, singing\, reading\, writing\, and playing.
URL:https://preblelibrary.org/event/library-mice-preschool-storytime/2026-01-28/
LOCATION:Eaton
CATEGORIES:In-Person,Storytime
ATTACH;FMTTYPE=image/png:https://preblelibrary.org/wp-content/uploads/2022/07/Library-Mice-Storytime-Eaton.png
END:VEVENT
BEGIN:VEVENT
DTSTART;TZID=America/Detroit:20260128T103000
DTEND;TZID=America/Detroit:20260128T110000
DTSTAMP:20260425T111653
CREATED:20251121T184407Z
LAST-MODIFIED:20251121T200345Z
UID:10011269-1769596200-1769598000@preblelibrary.org
SUMMARY:Mother Goose Baby & Toddler Storytime
DESCRIPTION:Registration is now open for the winter session of storytime at the Eaton Library. \nMother Goose Baby & Toddler Storytime is for children ages birth to 3 years on Wednesdays or Thursdays at 10:30 AM. This is a 30-minute class. \nThe winter session will run from January 7 through February 12. Call the Eaton Branch at 937-456-4331 to register. \nOur storytimes are formulated around the Every Child Ready to Read initiative\, which focuses on the five early literacy practices of talking\, singing\, reading\, writing\, and playing.
URL:https://preblelibrary.org/event/mother-goose-baby-toddler-storytime/2026-01-28/
LOCATION:Eaton
CATEGORIES:In-Person,Storytime
ATTACH;FMTTYPE=image/png:https://preblelibrary.org/wp-content/uploads/2022/07/Mother-Goose-Storytime-Eaton.png
END:VEVENT
BEGIN:VEVENT
DTSTART;TZID=America/Detroit:20260122T164500
DTEND;TZID=America/Detroit:20260122T173000
DTSTAMP:20260425T111653
CREATED:20251121T201001Z
LAST-MODIFIED:20251121T201001Z
UID:10011800-1769100300-1769103000@preblelibrary.org
SUMMARY:Family Storytime
DESCRIPTION:Registration is now open for the winter session of storytime at the Eaton Branch. \nFamily Storytime is for families with children ages 0 to 5 years. This class is available on Thursday at 4:45 PM. This is a 45-minute class. \nThe winter session will run from January 8 through February 12. Call the Eaton Branch at 937-456-4331 to register. \nOur storytimes are formulated around the Every Child Ready to Read initiative\, which focuses on the five early literacy practices of talking\, singing\, reading\, writing\, and playing.
URL:https://preblelibrary.org/event/family-storytime-2/2026-01-22/
LOCATION:Eaton
CATEGORIES:In-Person,Storytime
ATTACH;FMTTYPE=image/png:https://preblelibrary.org/wp-content/uploads/2023/07/Family-Storytime-Fall-website-1.png
END:VEVENT
BEGIN:VEVENT
DTSTART;TZID=America/Detroit:20260122T103000
DTEND;TZID=America/Detroit:20260122T111500
DTSTAMP:20260425T111653
CREATED:20251121T200648Z
LAST-MODIFIED:20251121T200648Z
UID:10011791-1769077800-1769080500@preblelibrary.org
SUMMARY:Library Mice Preschool Storytime
DESCRIPTION:Registration is now open for the winter session of storytime at the Eaton Branch. \nLibrary Mice Preschool Storytime is for children three years old to kindergarten. This class is available on Wednesdays or Thursdays at 10:30 AM. This is a 45-minute class. \nThe winter session will run from January 7 through February 12. Call the Eaton Branch at 937-456-4331 to register. \nOur storytimes are formulated around the Every Child Ready to Read initiative\, which focuses on the five early literacy practices of talking\, singing\, reading\, writing\, and playing.
URL:https://preblelibrary.org/event/library-mice-preschool-storytime/2026-01-22/
LOCATION:Eaton
CATEGORIES:In-Person,Storytime
ATTACH;FMTTYPE=image/png:https://preblelibrary.org/wp-content/uploads/2022/07/Library-Mice-Storytime-Eaton.png
END:VEVENT
BEGIN:VEVENT
DTSTART;TZID=America/Detroit:20260122T103000
DTEND;TZID=America/Detroit:20260122T110000
DTSTAMP:20260425T111653
CREATED:20251121T184407Z
LAST-MODIFIED:20251121T200345Z
UID:10011268-1769077800-1769079600@preblelibrary.org
SUMMARY:Mother Goose Baby & Toddler Storytime
DESCRIPTION:Registration is now open for the winter session of storytime at the Eaton Library. \nMother Goose Baby & Toddler Storytime is for children ages birth to 3 years on Wednesdays or Thursdays at 10:30 AM. This is a 30-minute class. \nThe winter session will run from January 7 through February 12. Call the Eaton Branch at 937-456-4331 to register. \nOur storytimes are formulated around the Every Child Ready to Read initiative\, which focuses on the five early literacy practices of talking\, singing\, reading\, writing\, and playing.
URL:https://preblelibrary.org/event/mother-goose-baby-toddler-storytime/2026-01-22/
LOCATION:Eaton
CATEGORIES:In-Person,Storytime
ATTACH;FMTTYPE=image/png:https://preblelibrary.org/wp-content/uploads/2022/07/Mother-Goose-Storytime-Eaton.png
END:VEVENT
BEGIN:VEVENT
DTSTART;TZID=America/Detroit:20260121T103000
DTEND;TZID=America/Detroit:20260121T111500
DTSTAMP:20260425T111653
CREATED:20251121T200648Z
LAST-MODIFIED:20251121T200648Z
UID:10011790-1768991400-1768994100@preblelibrary.org
SUMMARY:Library Mice Preschool Storytime
DESCRIPTION:Registration is now open for the winter session of storytime at the Eaton Branch. \nLibrary Mice Preschool Storytime is for children three years old to kindergarten. This class is available on Wednesdays or Thursdays at 10:30 AM. This is a 45-minute class. \nThe winter session will run from January 7 through February 12. Call the Eaton Branch at 937-456-4331 to register. \nOur storytimes are formulated around the Every Child Ready to Read initiative\, which focuses on the five early literacy practices of talking\, singing\, reading\, writing\, and playing.
URL:https://preblelibrary.org/event/library-mice-preschool-storytime/2026-01-21/
LOCATION:Eaton
CATEGORIES:In-Person,Storytime
ATTACH;FMTTYPE=image/png:https://preblelibrary.org/wp-content/uploads/2022/07/Library-Mice-Storytime-Eaton.png
END:VEVENT
BEGIN:VEVENT
DTSTART;TZID=America/Detroit:20260121T103000
DTEND;TZID=America/Detroit:20260121T110000
DTSTAMP:20260425T111653
CREATED:20251121T184407Z
LAST-MODIFIED:20251121T200345Z
UID:10011267-1768991400-1768993200@preblelibrary.org
SUMMARY:Mother Goose Baby & Toddler Storytime
DESCRIPTION:Registration is now open for the winter session of storytime at the Eaton Library. \nMother Goose Baby & Toddler Storytime is for children ages birth to 3 years on Wednesdays or Thursdays at 10:30 AM. This is a 30-minute class. \nThe winter session will run from January 7 through February 12. Call the Eaton Branch at 937-456-4331 to register. \nOur storytimes are formulated around the Every Child Ready to Read initiative\, which focuses on the five early literacy practices of talking\, singing\, reading\, writing\, and playing.
URL:https://preblelibrary.org/event/mother-goose-baby-toddler-storytime/2026-01-21/
LOCATION:Eaton
CATEGORIES:In-Person,Storytime
ATTACH;FMTTYPE=image/png:https://preblelibrary.org/wp-content/uploads/2022/07/Mother-Goose-Storytime-Eaton.png
END:VEVENT
BEGIN:VEVENT
DTSTART;TZID=America/Detroit:20260119T173000
DTEND;TZID=America/Detroit:20260119T180000
DTSTAMP:20260425T111653
CREATED:20251210T154946Z
LAST-MODIFIED:20251210T155126Z
UID:10011881-1768843800-1768845600@preblelibrary.org
SUMMARY:Winter Storytime
DESCRIPTION:Warm up at the New Paris Library with a FUN story and craft! \n  \nAdditional Storytime dates: \nJanuary 26th 5:30pm-6:00pm
URL:https://preblelibrary.org/event/winter-storytime-3/
LOCATION:New Paris
CATEGORIES:Crafting,In-Person,Storytime
ATTACH;FMTTYPE=image/png:https://preblelibrary.org/wp-content/uploads/2025/12/2026.-New-Paris-Winter-Storytime-Flyer-3.png
END:VEVENT
BEGIN:VEVENT
DTSTART;TZID=America/Detroit:20260115T164500
DTEND;TZID=America/Detroit:20260115T173000
DTSTAMP:20260425T111653
CREATED:20251121T201001Z
LAST-MODIFIED:20251121T201001Z
UID:10011799-1768495500-1768498200@preblelibrary.org
SUMMARY:Family Storytime
DESCRIPTION:Registration is now open for the winter session of storytime at the Eaton Branch. \nFamily Storytime is for families with children ages 0 to 5 years. This class is available on Thursday at 4:45 PM. This is a 45-minute class. \nThe winter session will run from January 8 through February 12. Call the Eaton Branch at 937-456-4331 to register. \nOur storytimes are formulated around the Every Child Ready to Read initiative\, which focuses on the five early literacy practices of talking\, singing\, reading\, writing\, and playing.
URL:https://preblelibrary.org/event/family-storytime-2/2026-01-15/
LOCATION:Eaton
CATEGORIES:In-Person,Storytime
ATTACH;FMTTYPE=image/png:https://preblelibrary.org/wp-content/uploads/2023/07/Family-Storytime-Fall-website-1.png
END:VEVENT
BEGIN:VEVENT
DTSTART;TZID=America/Detroit:20260115T103000
DTEND;TZID=America/Detroit:20260115T111500
DTSTAMP:20260425T111653
CREATED:20251121T200648Z
LAST-MODIFIED:20251121T200648Z
UID:10011789-1768473000-1768475700@preblelibrary.org
SUMMARY:Library Mice Preschool Storytime
DESCRIPTION:Registration is now open for the winter session of storytime at the Eaton Branch. \nLibrary Mice Preschool Storytime is for children three years old to kindergarten. This class is available on Wednesdays or Thursdays at 10:30 AM. This is a 45-minute class. \nThe winter session will run from January 7 through February 12. Call the Eaton Branch at 937-456-4331 to register. \nOur storytimes are formulated around the Every Child Ready to Read initiative\, which focuses on the five early literacy practices of talking\, singing\, reading\, writing\, and playing.
URL:https://preblelibrary.org/event/library-mice-preschool-storytime/2026-01-15/
LOCATION:Eaton
CATEGORIES:In-Person,Storytime
ATTACH;FMTTYPE=image/png:https://preblelibrary.org/wp-content/uploads/2022/07/Library-Mice-Storytime-Eaton.png
END:VEVENT
BEGIN:VEVENT
DTSTART;TZID=America/Detroit:20260115T103000
DTEND;TZID=America/Detroit:20260115T110000
DTSTAMP:20260425T111653
CREATED:20251121T184407Z
LAST-MODIFIED:20251121T200345Z
UID:10011266-1768473000-1768474800@preblelibrary.org
SUMMARY:Mother Goose Baby & Toddler Storytime
DESCRIPTION:Registration is now open for the winter session of storytime at the Eaton Library. \nMother Goose Baby & Toddler Storytime is for children ages birth to 3 years on Wednesdays or Thursdays at 10:30 AM. This is a 30-minute class. \nThe winter session will run from January 7 through February 12. Call the Eaton Branch at 937-456-4331 to register. \nOur storytimes are formulated around the Every Child Ready to Read initiative\, which focuses on the five early literacy practices of talking\, singing\, reading\, writing\, and playing.
URL:https://preblelibrary.org/event/mother-goose-baby-toddler-storytime/2026-01-15/
LOCATION:Eaton
CATEGORIES:In-Person,Storytime
ATTACH;FMTTYPE=image/png:https://preblelibrary.org/wp-content/uploads/2022/07/Mother-Goose-Storytime-Eaton.png
END:VEVENT
BEGIN:VEVENT
DTSTART;TZID=America/Detroit:20260114T103000
DTEND;TZID=America/Detroit:20260114T111500
DTSTAMP:20260425T111653
CREATED:20251121T200648Z
LAST-MODIFIED:20251121T200648Z
UID:10011788-1768386600-1768389300@preblelibrary.org
SUMMARY:Library Mice Preschool Storytime
DESCRIPTION:Registration is now open for the winter session of storytime at the Eaton Branch. \nLibrary Mice Preschool Storytime is for children three years old to kindergarten. This class is available on Wednesdays or Thursdays at 10:30 AM. This is a 45-minute class. \nThe winter session will run from January 7 through February 12. Call the Eaton Branch at 937-456-4331 to register. \nOur storytimes are formulated around the Every Child Ready to Read initiative\, which focuses on the five early literacy practices of talking\, singing\, reading\, writing\, and playing.
URL:https://preblelibrary.org/event/library-mice-preschool-storytime/2026-01-14/
LOCATION:Eaton
CATEGORIES:In-Person,Storytime
ATTACH;FMTTYPE=image/png:https://preblelibrary.org/wp-content/uploads/2022/07/Library-Mice-Storytime-Eaton.png
END:VEVENT
BEGIN:VEVENT
DTSTART;TZID=America/Detroit:20260114T103000
DTEND;TZID=America/Detroit:20260114T110000
DTSTAMP:20260425T111653
CREATED:20251121T184407Z
LAST-MODIFIED:20251121T200345Z
UID:10011265-1768386600-1768388400@preblelibrary.org
SUMMARY:Mother Goose Baby & Toddler Storytime
DESCRIPTION:Registration is now open for the winter session of storytime at the Eaton Library. \nMother Goose Baby & Toddler Storytime is for children ages birth to 3 years on Wednesdays or Thursdays at 10:30 AM. This is a 30-minute class. \nThe winter session will run from January 7 through February 12. Call the Eaton Branch at 937-456-4331 to register. \nOur storytimes are formulated around the Every Child Ready to Read initiative\, which focuses on the five early literacy practices of talking\, singing\, reading\, writing\, and playing.
URL:https://preblelibrary.org/event/mother-goose-baby-toddler-storytime/2026-01-14/
LOCATION:Eaton
CATEGORIES:In-Person,Storytime
ATTACH;FMTTYPE=image/png:https://preblelibrary.org/wp-content/uploads/2022/07/Mother-Goose-Storytime-Eaton.png
END:VEVENT
BEGIN:VEVENT
DTSTART;TZID=America/Detroit:20260112T173000
DTEND;TZID=America/Detroit:20260112T180000
DTSTAMP:20260425T111653
CREATED:20251210T154725Z
LAST-MODIFIED:20251210T155235Z
UID:10011880-1768239000-1768240800@preblelibrary.org
SUMMARY:Winter Storytime
DESCRIPTION:Warm up at the New Paris Library with a FUN story and craft! \n  \nAdditional Storytime dates: \nJanuary 19th 5:30pm-6:00pm\nJanuary 26th 5:30pm-6:00pm
URL:https://preblelibrary.org/event/winter-storytime-2/
LOCATION:New Paris
CATEGORIES:Crafting,In-Person,Storytime
ATTACH;FMTTYPE=image/png:https://preblelibrary.org/wp-content/uploads/2025/12/2026.-New-Paris-Winter-Storytime-Flyer-3.png
END:VEVENT
BEGIN:VEVENT
DTSTART;TZID=America/Detroit:20260108T164500
DTEND;TZID=America/Detroit:20260108T173000
DTSTAMP:20260425T111653
CREATED:20251121T201001Z
LAST-MODIFIED:20251121T201001Z
UID:10011798-1767890700-1767893400@preblelibrary.org
SUMMARY:Family Storytime
DESCRIPTION:Registration is now open for the winter session of storytime at the Eaton Branch. \nFamily Storytime is for families with children ages 0 to 5 years. This class is available on Thursday at 4:45 PM. This is a 45-minute class. \nThe winter session will run from January 8 through February 12. Call the Eaton Branch at 937-456-4331 to register. \nOur storytimes are formulated around the Every Child Ready to Read initiative\, which focuses on the five early literacy practices of talking\, singing\, reading\, writing\, and playing.
URL:https://preblelibrary.org/event/family-storytime-2/2026-01-08/
LOCATION:Eaton
CATEGORIES:In-Person,Storytime
ATTACH;FMTTYPE=image/png:https://preblelibrary.org/wp-content/uploads/2023/07/Family-Storytime-Fall-website-1.png
END:VEVENT
BEGIN:VEVENT
DTSTART;TZID=America/Detroit:20260108T103000
DTEND;TZID=America/Detroit:20260108T111500
DTSTAMP:20260425T111653
CREATED:20251121T200648Z
LAST-MODIFIED:20251121T200648Z
UID:10011787-1767868200-1767870900@preblelibrary.org
SUMMARY:Library Mice Preschool Storytime
DESCRIPTION:Registration is now open for the winter session of storytime at the Eaton Branch. \nLibrary Mice Preschool Storytime is for children three years old to kindergarten. This class is available on Wednesdays or Thursdays at 10:30 AM. This is a 45-minute class. \nThe winter session will run from January 7 through February 12. Call the Eaton Branch at 937-456-4331 to register. \nOur storytimes are formulated around the Every Child Ready to Read initiative\, which focuses on the five early literacy practices of talking\, singing\, reading\, writing\, and playing.
URL:https://preblelibrary.org/event/library-mice-preschool-storytime/2026-01-08/
LOCATION:Eaton
CATEGORIES:In-Person,Storytime
ATTACH;FMTTYPE=image/png:https://preblelibrary.org/wp-content/uploads/2022/07/Library-Mice-Storytime-Eaton.png
END:VEVENT
BEGIN:VEVENT
DTSTART;TZID=America/Detroit:20260108T103000
DTEND;TZID=America/Detroit:20260108T110000
DTSTAMP:20260425T111653
CREATED:20251121T184407Z
LAST-MODIFIED:20251121T200345Z
UID:10011264-1767868200-1767870000@preblelibrary.org
SUMMARY:Mother Goose Baby & Toddler Storytime
DESCRIPTION:Registration is now open for the winter session of storytime at the Eaton Library. \nMother Goose Baby & Toddler Storytime is for children ages birth to 3 years on Wednesdays or Thursdays at 10:30 AM. This is a 30-minute class. \nThe winter session will run from January 7 through February 12. Call the Eaton Branch at 937-456-4331 to register. \nOur storytimes are formulated around the Every Child Ready to Read initiative\, which focuses on the five early literacy practices of talking\, singing\, reading\, writing\, and playing.
URL:https://preblelibrary.org/event/mother-goose-baby-toddler-storytime/2026-01-08/
LOCATION:Eaton
CATEGORIES:In-Person,Storytime
ATTACH;FMTTYPE=image/png:https://preblelibrary.org/wp-content/uploads/2022/07/Mother-Goose-Storytime-Eaton.png
END:VEVENT
BEGIN:VEVENT
DTSTART;TZID=America/Detroit:20260107T103000
DTEND;TZID=America/Detroit:20260107T111500
DTSTAMP:20260425T111653
CREATED:20251121T200648Z
LAST-MODIFIED:20251121T200648Z
UID:10011786-1767781800-1767784500@preblelibrary.org
SUMMARY:Library Mice Preschool Storytime
DESCRIPTION:Registration is now open for the winter session of storytime at the Eaton Branch. \nLibrary Mice Preschool Storytime is for children three years old to kindergarten. This class is available on Wednesdays or Thursdays at 10:30 AM. This is a 45-minute class. \nThe winter session will run from January 7 through February 12. Call the Eaton Branch at 937-456-4331 to register. \nOur storytimes are formulated around the Every Child Ready to Read initiative\, which focuses on the five early literacy practices of talking\, singing\, reading\, writing\, and playing.
URL:https://preblelibrary.org/event/library-mice-preschool-storytime/2026-01-07/
LOCATION:Eaton
CATEGORIES:In-Person,Storytime
ATTACH;FMTTYPE=image/png:https://preblelibrary.org/wp-content/uploads/2022/07/Library-Mice-Storytime-Eaton.png
END:VEVENT
BEGIN:VEVENT
DTSTART;TZID=America/Detroit:20260107T103000
DTEND;TZID=America/Detroit:20260107T110000
DTSTAMP:20260425T111653
CREATED:20251121T184407Z
LAST-MODIFIED:20251121T200345Z
UID:10011263-1767781800-1767783600@preblelibrary.org
SUMMARY:Mother Goose Baby & Toddler Storytime
DESCRIPTION:Registration is now open for the winter session of storytime at the Eaton Library. \nMother Goose Baby & Toddler Storytime is for children ages birth to 3 years on Wednesdays or Thursdays at 10:30 AM. This is a 30-minute class. \nThe winter session will run from January 7 through February 12. Call the Eaton Branch at 937-456-4331 to register. \nOur storytimes are formulated around the Every Child Ready to Read initiative\, which focuses on the five early literacy practices of talking\, singing\, reading\, writing\, and playing.
URL:https://preblelibrary.org/event/mother-goose-baby-toddler-storytime/2026-01-07/
LOCATION:Eaton
CATEGORIES:In-Person,Storytime
ATTACH;FMTTYPE=image/png:https://preblelibrary.org/wp-content/uploads/2022/07/Mother-Goose-Storytime-Eaton.png
END:VEVENT
BEGIN:VEVENT
DTSTART;TZID=America/Detroit:20260105T173000
DTEND;TZID=America/Detroit:20260105T180000
DTSTAMP:20260425T111653
CREATED:20251210T154439Z
LAST-MODIFIED:20251210T155208Z
UID:10011879-1767634200-1767636000@preblelibrary.org
SUMMARY:Winter Storytime
DESCRIPTION:Warm up at the New Paris Library with a FUN story and craft! \n  \nAdditional Storytime dates: \nJanuary 12th 5:30pm-6:00pm\nJanuary 19th 5:30pm-6:00pm\nJanuary 26th 5:30pm-6:00pm \n 
URL:https://preblelibrary.org/event/winter-storytime/
LOCATION:New Paris
CATEGORIES:Crafting,In-Person,Storytime
ATTACH;FMTTYPE=image/png:https://preblelibrary.org/wp-content/uploads/2025/12/2026.-New-Paris-Winter-Storytime-Flyer-3.png
END:VEVENT
BEGIN:VEVENT
DTSTART;VALUE=DATE:20251201
DTEND;VALUE=DATE:20251202
DTSTAMP:20260425T111653
CREATED:20251016T152338Z
LAST-MODIFIED:20251016T152338Z
UID:10011170-1764547200-1764633599@preblelibrary.org
SUMMARY:Winter Storytime Sign-Ups Begin!
DESCRIPTION:The Eaton Branch of the Preble County District Library will begin registration for the winter session of storytimes. Registration starts on Monday\, December 1\, at 9:00 AM. \nThe programs offered are: \n\nMother Goose Baby & Toddler Storytime is for children ages birth to 3 years on Wednesdays or Thursdays at 10:30 AM. This is a 30-minute class.\nLibrary Mice Preschool Storytime is for children ages 3 years old to kindergarten. This class is available on Wednesday or Thursday at 10:30 AM. This is a 45-minute class.\nFamily Storytime is for families with children ages 0 to 5 years. This class is available on Thursday at 4:45 PM. This is a 45-minute class.\nAfter School Crew is a crafts and activity-based program for children ages 6 to 12. This class is available on Thursday afternoons at 4:45 PM\, and this program runs for 1 hour.\n\nThe winter session will run weekly from January 7 to February 12. \nCall the Eaton Branch at 937-456-4331 to register. \nOur storytimes are formulated around the Every Child Ready to Read initiative\, which focuses on the five early literacy practices of talking\, singing\, reading\, writing\, and playing.
URL:https://preblelibrary.org/event/winter-storytime-sign-ups-begin/
LOCATION:Eaton
CATEGORIES:Storytime
ATTACH;FMTTYPE=image/png:https://preblelibrary.org/wp-content/uploads/2023/11/WINTER-STORYTIME.png
END:VEVENT
END:VCALENDAR