BEGIN:VCALENDAR
VERSION:2.0
PRODID:-//Preble County Library - ECPv6.15.20//NONSGML v1.0//EN
CALSCALE:GREGORIAN
METHOD:PUBLISH
X-WR-CALNAME:Preble County Library
X-ORIGINAL-URL:https://preblelibrary.org
X-WR-CALDESC:Events for Preble County Library
REFRESH-INTERVAL;VALUE=DURATION:PT1H
X-Robots-Tag:noindex
X-PUBLISHED-TTL:PT1H
BEGIN:VTIMEZONE
TZID:America/Detroit
BEGIN:DAYLIGHT
TZOFFSETFROM:-0500
TZOFFSETTO:-0400
TZNAME:EDT
DTSTART:20250309T070000
END:DAYLIGHT
BEGIN:STANDARD
TZOFFSETFROM:-0400
TZOFFSETTO:-0500
TZNAME:EST
DTSTART:20251102T060000
END:STANDARD
BEGIN:DAYLIGHT
TZOFFSETFROM:-0500
TZOFFSETTO:-0400
TZNAME:EDT
DTSTART:20260308T070000
END:DAYLIGHT
BEGIN:STANDARD
TZOFFSETFROM:-0400
TZOFFSETTO:-0500
TZNAME:EST
DTSTART:20261101T060000
END:STANDARD
BEGIN:DAYLIGHT
TZOFFSETFROM:-0500
TZOFFSETTO:-0400
TZNAME:EDT
DTSTART:20270314T070000
END:DAYLIGHT
BEGIN:STANDARD
TZOFFSETFROM:-0400
TZOFFSETTO:-0500
TZNAME:EST
DTSTART:20271107T060000
END:STANDARD
BEGIN:DAYLIGHT
TZOFFSETFROM:-0500
TZOFFSETTO:-0400
TZNAME:EDT
DTSTART:20280312T070000
END:DAYLIGHT
BEGIN:STANDARD
TZOFFSETFROM:-0400
TZOFFSETTO:-0500
TZNAME:EST
DTSTART:20281105T060000
END:STANDARD
BEGIN:DAYLIGHT
TZOFFSETFROM:-0500
TZOFFSETTO:-0400
TZNAME:EDT
DTSTART:20290311T070000
END:DAYLIGHT
BEGIN:STANDARD
TZOFFSETFROM:-0400
TZOFFSETTO:-0500
TZNAME:EST
DTSTART:20291104T060000
END:STANDARD
END:VTIMEZONE
BEGIN:VEVENT
DTSTART;TZID=America/Detroit:20260519T173000
DTEND;TZID=America/Detroit:20260519T183000
DTSTAMP:20260424T090310
CREATED:20250515T190953Z
LAST-MODIFIED:20260407T203359Z
UID:10010731-1779211800-1779215400@preblelibrary.org
SUMMARY:Little Ones Storytime
DESCRIPTION:Join us for Storytime at the Camden Branch!\nHelp your kids develop a love for books and make new friends!\nOn the third Tuesday of every month\, each Storytime will have a new theme and activity. \nNo reservation needed.
URL:https://preblelibrary.org/event/little-ones-storytime-5-2/2026-05-19/
LOCATION:Camden
CATEGORIES:In-Person
ATTACH;FMTTYPE=image/png:https://preblelibrary.org/wp-content/uploads/2022/09/Little-Ones-Storytime-Website.png
END:VEVENT
BEGIN:VEVENT
DTSTART;TZID=America/Detroit:20260818T173000
DTEND;TZID=America/Detroit:20260818T183000
DTSTAMP:20260424T090310
CREATED:20250515T190953Z
LAST-MODIFIED:20260407T203359Z
UID:10010734-1787074200-1787077800@preblelibrary.org
SUMMARY:Little Ones Storytime
DESCRIPTION:Join us for Storytime at the Camden Branch!\nHelp your kids develop a love for books and make new friends!\nOn the third Tuesday of every month\, each Storytime will have a new theme and activity. \nNo reservation needed.
URL:https://preblelibrary.org/event/little-ones-storytime-5-2/2026-08-18/
LOCATION:Camden
CATEGORIES:In-Person
ATTACH;FMTTYPE=image/png:https://preblelibrary.org/wp-content/uploads/2022/09/Little-Ones-Storytime-Website.png
END:VEVENT
BEGIN:VEVENT
DTSTART;TZID=America/Detroit:20260915T173000
DTEND;TZID=America/Detroit:20260915T183000
DTSTAMP:20260424T090310
CREATED:20250515T190953Z
LAST-MODIFIED:20260407T203359Z
UID:10010735-1789493400-1789497000@preblelibrary.org
SUMMARY:Little Ones Storytime
DESCRIPTION:Join us for Storytime at the Camden Branch!\nHelp your kids develop a love for books and make new friends!\nOn the third Tuesday of every month\, each Storytime will have a new theme and activity. \nNo reservation needed.
URL:https://preblelibrary.org/event/little-ones-storytime-5-2/2026-09-15/
LOCATION:Camden
CATEGORIES:In-Person
ATTACH;FMTTYPE=image/png:https://preblelibrary.org/wp-content/uploads/2022/09/Little-Ones-Storytime-Website.png
END:VEVENT
BEGIN:VEVENT
DTSTART;TZID=America/Detroit:20261020T173000
DTEND;TZID=America/Detroit:20261020T183000
DTSTAMP:20260424T090310
CREATED:20250515T190953Z
LAST-MODIFIED:20260407T203359Z
UID:10009265-1792517400-1792521000@preblelibrary.org
SUMMARY:Little Ones Storytime
DESCRIPTION:Join us for Storytime at the Camden Branch!\nHelp your kids develop a love for books and make new friends!\nOn the third Tuesday of every month\, each Storytime will have a new theme and activity. \nNo reservation needed.
URL:https://preblelibrary.org/event/little-ones-storytime-5-2/2026-10-20/
LOCATION:Camden
CATEGORIES:In-Person
ATTACH;FMTTYPE=image/png:https://preblelibrary.org/wp-content/uploads/2022/09/Little-Ones-Storytime-Website.png
END:VEVENT
BEGIN:VEVENT
DTSTART;TZID=America/Detroit:20261117T173000
DTEND;TZID=America/Detroit:20261117T183000
DTSTAMP:20260424T090310
CREATED:20250515T190953Z
LAST-MODIFIED:20260407T203359Z
UID:10010736-1794936600-1794940200@preblelibrary.org
SUMMARY:Little Ones Storytime
DESCRIPTION:Join us for Storytime at the Camden Branch!\nHelp your kids develop a love for books and make new friends!\nOn the third Tuesday of every month\, each Storytime will have a new theme and activity. \nNo reservation needed.
URL:https://preblelibrary.org/event/little-ones-storytime-5-2/2026-11-17/
LOCATION:Camden
CATEGORIES:In-Person
ATTACH;FMTTYPE=image/png:https://preblelibrary.org/wp-content/uploads/2022/09/Little-Ones-Storytime-Website.png
END:VEVENT
BEGIN:VEVENT
DTSTART;TZID=America/Detroit:20261215T173000
DTEND;TZID=America/Detroit:20261215T183000
DTSTAMP:20260424T090310
CREATED:20250515T190953Z
LAST-MODIFIED:20260407T203359Z
UID:10010737-1797355800-1797359400@preblelibrary.org
SUMMARY:Little Ones Storytime
DESCRIPTION:Join us for Storytime at the Camden Branch!\nHelp your kids develop a love for books and make new friends!\nOn the third Tuesday of every month\, each Storytime will have a new theme and activity. \nNo reservation needed.
URL:https://preblelibrary.org/event/little-ones-storytime-5-2/2026-12-15/
LOCATION:Camden
CATEGORIES:In-Person
ATTACH;FMTTYPE=image/png:https://preblelibrary.org/wp-content/uploads/2022/09/Little-Ones-Storytime-Website.png
END:VEVENT
BEGIN:VEVENT
DTSTART;TZID=America/Detroit:20270119T173000
DTEND;TZID=America/Detroit:20270119T183000
DTSTAMP:20260424T090310
CREATED:20250515T190953Z
LAST-MODIFIED:20260407T203359Z
UID:10010738-1800379800-1800383400@preblelibrary.org
SUMMARY:Little Ones Storytime
DESCRIPTION:Join us for Storytime at the Camden Branch!\nHelp your kids develop a love for books and make new friends!\nOn the third Tuesday of every month\, each Storytime will have a new theme and activity. \nNo reservation needed.
URL:https://preblelibrary.org/event/little-ones-storytime-5-2/2027-01-19/
LOCATION:Camden
CATEGORIES:In-Person
ATTACH;FMTTYPE=image/png:https://preblelibrary.org/wp-content/uploads/2022/09/Little-Ones-Storytime-Website.png
END:VEVENT
BEGIN:VEVENT
DTSTART;TZID=America/Detroit:20270216T173000
DTEND;TZID=America/Detroit:20270216T183000
DTSTAMP:20260424T090310
CREATED:20250515T190953Z
LAST-MODIFIED:20260407T203359Z
UID:10010739-1802799000-1802802600@preblelibrary.org
SUMMARY:Little Ones Storytime
DESCRIPTION:Join us for Storytime at the Camden Branch!\nHelp your kids develop a love for books and make new friends!\nOn the third Tuesday of every month\, each Storytime will have a new theme and activity. \nNo reservation needed.
URL:https://preblelibrary.org/event/little-ones-storytime-5-2/2027-02-16/
LOCATION:Camden
CATEGORIES:In-Person
ATTACH;FMTTYPE=image/png:https://preblelibrary.org/wp-content/uploads/2022/09/Little-Ones-Storytime-Website.png
END:VEVENT
BEGIN:VEVENT
DTSTART;TZID=America/Detroit:20270316T173000
DTEND;TZID=America/Detroit:20270316T183000
DTSTAMP:20260424T090310
CREATED:20250515T190953Z
LAST-MODIFIED:20260407T203359Z
UID:10010740-1805218200-1805221800@preblelibrary.org
SUMMARY:Little Ones Storytime
DESCRIPTION:Join us for Storytime at the Camden Branch!\nHelp your kids develop a love for books and make new friends!\nOn the third Tuesday of every month\, each Storytime will have a new theme and activity. \nNo reservation needed.
URL:https://preblelibrary.org/event/little-ones-storytime-5-2/2027-03-16/
LOCATION:Camden
CATEGORIES:In-Person
ATTACH;FMTTYPE=image/png:https://preblelibrary.org/wp-content/uploads/2022/09/Little-Ones-Storytime-Website.png
END:VEVENT
BEGIN:VEVENT
DTSTART;TZID=America/Detroit:20270420T173000
DTEND;TZID=America/Detroit:20270420T183000
DTSTAMP:20260424T090310
CREATED:20250515T190953Z
LAST-MODIFIED:20260407T203359Z
UID:10009271-1808242200-1808245800@preblelibrary.org
SUMMARY:Little Ones Storytime
DESCRIPTION:Join us for Storytime at the Camden Branch!\nHelp your kids develop a love for books and make new friends!\nOn the third Tuesday of every month\, each Storytime will have a new theme and activity. \nNo reservation needed.
URL:https://preblelibrary.org/event/little-ones-storytime-5-2/2027-04-20/
LOCATION:Camden
CATEGORIES:In-Person
ATTACH;FMTTYPE=image/png:https://preblelibrary.org/wp-content/uploads/2022/09/Little-Ones-Storytime-Website.png
END:VEVENT
BEGIN:VEVENT
DTSTART;TZID=America/Detroit:20270518T173000
DTEND;TZID=America/Detroit:20270518T183000
DTSTAMP:20260424T090310
CREATED:20250515T190953Z
LAST-MODIFIED:20260407T203359Z
UID:10010741-1810661400-1810665000@preblelibrary.org
SUMMARY:Little Ones Storytime
DESCRIPTION:Join us for Storytime at the Camden Branch!\nHelp your kids develop a love for books and make new friends!\nOn the third Tuesday of every month\, each Storytime will have a new theme and activity. \nNo reservation needed.
URL:https://preblelibrary.org/event/little-ones-storytime-5-2/2027-05-18/
LOCATION:Camden
CATEGORIES:In-Person
ATTACH;FMTTYPE=image/png:https://preblelibrary.org/wp-content/uploads/2022/09/Little-Ones-Storytime-Website.png
END:VEVENT
BEGIN:VEVENT
DTSTART;TZID=America/Detroit:20270615T173000
DTEND;TZID=America/Detroit:20270615T183000
DTSTAMP:20260424T090310
CREATED:20250515T190953Z
LAST-MODIFIED:20260407T203359Z
UID:10010742-1813080600-1813084200@preblelibrary.org
SUMMARY:Little Ones Storytime
DESCRIPTION:Join us for Storytime at the Camden Branch!\nHelp your kids develop a love for books and make new friends!\nOn the third Tuesday of every month\, each Storytime will have a new theme and activity. \nNo reservation needed.
URL:https://preblelibrary.org/event/little-ones-storytime-5-2/2027-06-15/
LOCATION:Camden
CATEGORIES:In-Person
ATTACH;FMTTYPE=image/png:https://preblelibrary.org/wp-content/uploads/2022/09/Little-Ones-Storytime-Website.png
END:VEVENT
BEGIN:VEVENT
DTSTART;TZID=America/Detroit:20270720T173000
DTEND;TZID=America/Detroit:20270720T183000
DTSTAMP:20260424T090310
CREATED:20250515T190953Z
LAST-MODIFIED:20260407T203359Z
UID:10009274-1816104600-1816108200@preblelibrary.org
SUMMARY:Little Ones Storytime
DESCRIPTION:Join us for Storytime at the Camden Branch!\nHelp your kids develop a love for books and make new friends!\nOn the third Tuesday of every month\, each Storytime will have a new theme and activity. \nNo reservation needed.
URL:https://preblelibrary.org/event/little-ones-storytime-5-2/2027-07-20/
LOCATION:Camden
CATEGORIES:In-Person
ATTACH;FMTTYPE=image/png:https://preblelibrary.org/wp-content/uploads/2022/09/Little-Ones-Storytime-Website.png
END:VEVENT
BEGIN:VEVENT
DTSTART;TZID=America/Detroit:20270817T173000
DTEND;TZID=America/Detroit:20270817T183000
DTSTAMP:20260424T090310
CREATED:20250515T190953Z
LAST-MODIFIED:20260407T203359Z
UID:10010743-1818523800-1818527400@preblelibrary.org
SUMMARY:Little Ones Storytime
DESCRIPTION:Join us for Storytime at the Camden Branch!\nHelp your kids develop a love for books and make new friends!\nOn the third Tuesday of every month\, each Storytime will have a new theme and activity. \nNo reservation needed.
URL:https://preblelibrary.org/event/little-ones-storytime-5-2/2027-08-17/
LOCATION:Camden
CATEGORIES:In-Person
ATTACH;FMTTYPE=image/png:https://preblelibrary.org/wp-content/uploads/2022/09/Little-Ones-Storytime-Website.png
END:VEVENT
BEGIN:VEVENT
DTSTART;TZID=America/Detroit:20270921T173000
DTEND;TZID=America/Detroit:20270921T183000
DTSTAMP:20260424T090310
CREATED:20250515T190953Z
LAST-MODIFIED:20260407T203359Z
UID:10010744-1821547800-1821551400@preblelibrary.org
SUMMARY:Little Ones Storytime
DESCRIPTION:Join us for Storytime at the Camden Branch!\nHelp your kids develop a love for books and make new friends!\nOn the third Tuesday of every month\, each Storytime will have a new theme and activity. \nNo reservation needed.
URL:https://preblelibrary.org/event/little-ones-storytime-5-2/2027-09-21/
LOCATION:Camden
CATEGORIES:In-Person
ATTACH;FMTTYPE=image/png:https://preblelibrary.org/wp-content/uploads/2022/09/Little-Ones-Storytime-Website.png
END:VEVENT
BEGIN:VEVENT
DTSTART;TZID=America/Detroit:20271019T173000
DTEND;TZID=America/Detroit:20271019T183000
DTSTAMP:20260424T090310
CREATED:20250515T190953Z
LAST-MODIFIED:20260407T203359Z
UID:10010745-1823967000-1823970600@preblelibrary.org
SUMMARY:Little Ones Storytime
DESCRIPTION:Join us for Storytime at the Camden Branch!\nHelp your kids develop a love for books and make new friends!\nOn the third Tuesday of every month\, each Storytime will have a new theme and activity. \nNo reservation needed.
URL:https://preblelibrary.org/event/little-ones-storytime-5-2/2027-10-19/
LOCATION:Camden
CATEGORIES:In-Person
ATTACH;FMTTYPE=image/png:https://preblelibrary.org/wp-content/uploads/2022/09/Little-Ones-Storytime-Website.png
END:VEVENT
BEGIN:VEVENT
DTSTART;TZID=America/Detroit:20271116T173000
DTEND;TZID=America/Detroit:20271116T183000
DTSTAMP:20260424T090310
CREATED:20250515T190953Z
LAST-MODIFIED:20260407T203359Z
UID:10010746-1826386200-1826389800@preblelibrary.org
SUMMARY:Little Ones Storytime
DESCRIPTION:Join us for Storytime at the Camden Branch!\nHelp your kids develop a love for books and make new friends!\nOn the third Tuesday of every month\, each Storytime will have a new theme and activity. \nNo reservation needed.
URL:https://preblelibrary.org/event/little-ones-storytime-5-2/2027-11-16/
LOCATION:Camden
CATEGORIES:In-Person
ATTACH;FMTTYPE=image/png:https://preblelibrary.org/wp-content/uploads/2022/09/Little-Ones-Storytime-Website.png
END:VEVENT
BEGIN:VEVENT
DTSTART;TZID=America/Detroit:20271221T173000
DTEND;TZID=America/Detroit:20271221T183000
DTSTAMP:20260424T090310
CREATED:20250515T190953Z
LAST-MODIFIED:20260407T203359Z
UID:10010747-1829410200-1829413800@preblelibrary.org
SUMMARY:Little Ones Storytime
DESCRIPTION:Join us for Storytime at the Camden Branch!\nHelp your kids develop a love for books and make new friends!\nOn the third Tuesday of every month\, each Storytime will have a new theme and activity. \nNo reservation needed.
URL:https://preblelibrary.org/event/little-ones-storytime-5-2/2027-12-21/
LOCATION:Camden
CATEGORIES:In-Person
ATTACH;FMTTYPE=image/png:https://preblelibrary.org/wp-content/uploads/2022/09/Little-Ones-Storytime-Website.png
END:VEVENT
BEGIN:VEVENT
DTSTART;TZID=America/Detroit:20280118T173000
DTEND;TZID=America/Detroit:20280118T183000
DTSTAMP:20260424T090310
CREATED:20250515T190953Z
LAST-MODIFIED:20260407T203359Z
UID:10010748-1831829400-1831833000@preblelibrary.org
SUMMARY:Little Ones Storytime
DESCRIPTION:Join us for Storytime at the Camden Branch!\nHelp your kids develop a love for books and make new friends!\nOn the third Tuesday of every month\, each Storytime will have a new theme and activity. \nNo reservation needed.
URL:https://preblelibrary.org/event/little-ones-storytime-5-2/2028-01-18/
LOCATION:Camden
CATEGORIES:In-Person
ATTACH;FMTTYPE=image/png:https://preblelibrary.org/wp-content/uploads/2022/09/Little-Ones-Storytime-Website.png
END:VEVENT
BEGIN:VEVENT
DTSTART;TZID=America/Detroit:20280215T173000
DTEND;TZID=America/Detroit:20280215T183000
DTSTAMP:20260424T090310
CREATED:20250515T190953Z
LAST-MODIFIED:20260407T203359Z
UID:10010749-1834248600-1834252200@preblelibrary.org
SUMMARY:Little Ones Storytime
DESCRIPTION:Join us for Storytime at the Camden Branch!\nHelp your kids develop a love for books and make new friends!\nOn the third Tuesday of every month\, each Storytime will have a new theme and activity. \nNo reservation needed.
URL:https://preblelibrary.org/event/little-ones-storytime-5-2/2028-02-15/
LOCATION:Camden
CATEGORIES:In-Person
ATTACH;FMTTYPE=image/png:https://preblelibrary.org/wp-content/uploads/2022/09/Little-Ones-Storytime-Website.png
END:VEVENT
BEGIN:VEVENT
DTSTART;TZID=America/Detroit:20280321T173000
DTEND;TZID=America/Detroit:20280321T183000
DTSTAMP:20260424T090310
CREATED:20250515T190953Z
LAST-MODIFIED:20260407T203359Z
UID:10010750-1837272600-1837276200@preblelibrary.org
SUMMARY:Little Ones Storytime
DESCRIPTION:Join us for Storytime at the Camden Branch!\nHelp your kids develop a love for books and make new friends!\nOn the third Tuesday of every month\, each Storytime will have a new theme and activity. \nNo reservation needed.
URL:https://preblelibrary.org/event/little-ones-storytime-5-2/2028-03-21/
LOCATION:Camden
CATEGORIES:In-Person
ATTACH;FMTTYPE=image/png:https://preblelibrary.org/wp-content/uploads/2022/09/Little-Ones-Storytime-Website.png
END:VEVENT
BEGIN:VEVENT
DTSTART;TZID=America/Detroit:20280418T173000
DTEND;TZID=America/Detroit:20280418T183000
DTSTAMP:20260424T090310
CREATED:20250515T190953Z
LAST-MODIFIED:20260407T203359Z
UID:10010751-1839691800-1839695400@preblelibrary.org
SUMMARY:Little Ones Storytime
DESCRIPTION:Join us for Storytime at the Camden Branch!\nHelp your kids develop a love for books and make new friends!\nOn the third Tuesday of every month\, each Storytime will have a new theme and activity. \nNo reservation needed.
URL:https://preblelibrary.org/event/little-ones-storytime-5-2/2028-04-18/
LOCATION:Camden
CATEGORIES:In-Person
ATTACH;FMTTYPE=image/png:https://preblelibrary.org/wp-content/uploads/2022/09/Little-Ones-Storytime-Website.png
END:VEVENT
BEGIN:VEVENT
DTSTART;TZID=America/Detroit:20280516T173000
DTEND;TZID=America/Detroit:20280516T183000
DTSTAMP:20260424T090310
CREATED:20250515T190953Z
LAST-MODIFIED:20260407T203359Z
UID:10010752-1842111000-1842114600@preblelibrary.org
SUMMARY:Little Ones Storytime
DESCRIPTION:Join us for Storytime at the Camden Branch!\nHelp your kids develop a love for books and make new friends!\nOn the third Tuesday of every month\, each Storytime will have a new theme and activity. \nNo reservation needed.
URL:https://preblelibrary.org/event/little-ones-storytime-5-2/2028-05-16/
LOCATION:Camden
CATEGORIES:In-Person
ATTACH;FMTTYPE=image/png:https://preblelibrary.org/wp-content/uploads/2022/09/Little-Ones-Storytime-Website.png
END:VEVENT
BEGIN:VEVENT
DTSTART;TZID=America/Detroit:20280620T173000
DTEND;TZID=America/Detroit:20280620T183000
DTSTAMP:20260424T090310
CREATED:20250515T190953Z
LAST-MODIFIED:20260407T203359Z
UID:10009285-1845135000-1845138600@preblelibrary.org
SUMMARY:Little Ones Storytime
DESCRIPTION:Join us for Storytime at the Camden Branch!\nHelp your kids develop a love for books and make new friends!\nOn the third Tuesday of every month\, each Storytime will have a new theme and activity. \nNo reservation needed.
URL:https://preblelibrary.org/event/little-ones-storytime-5-2/2028-06-20/
LOCATION:Camden
CATEGORIES:In-Person
ATTACH;FMTTYPE=image/png:https://preblelibrary.org/wp-content/uploads/2022/09/Little-Ones-Storytime-Website.png
END:VEVENT
BEGIN:VEVENT
DTSTART;TZID=America/Detroit:20280718T173000
DTEND;TZID=America/Detroit:20280718T183000
DTSTAMP:20260424T090310
CREATED:20250515T190953Z
LAST-MODIFIED:20260407T203359Z
UID:10010753-1847554200-1847557800@preblelibrary.org
SUMMARY:Little Ones Storytime
DESCRIPTION:Join us for Storytime at the Camden Branch!\nHelp your kids develop a love for books and make new friends!\nOn the third Tuesday of every month\, each Storytime will have a new theme and activity. \nNo reservation needed.
URL:https://preblelibrary.org/event/little-ones-storytime-5-2/2028-07-18/
LOCATION:Camden
CATEGORIES:In-Person
ATTACH;FMTTYPE=image/png:https://preblelibrary.org/wp-content/uploads/2022/09/Little-Ones-Storytime-Website.png
END:VEVENT
BEGIN:VEVENT
DTSTART;TZID=America/Detroit:20280815T173000
DTEND;TZID=America/Detroit:20280815T183000
DTSTAMP:20260424T090310
CREATED:20250515T190953Z
LAST-MODIFIED:20260407T203359Z
UID:10010754-1849973400-1849977000@preblelibrary.org
SUMMARY:Little Ones Storytime
DESCRIPTION:Join us for Storytime at the Camden Branch!\nHelp your kids develop a love for books and make new friends!\nOn the third Tuesday of every month\, each Storytime will have a new theme and activity. \nNo reservation needed.
URL:https://preblelibrary.org/event/little-ones-storytime-5-2/2028-08-15/
LOCATION:Camden
CATEGORIES:In-Person
ATTACH;FMTTYPE=image/png:https://preblelibrary.org/wp-content/uploads/2022/09/Little-Ones-Storytime-Website.png
END:VEVENT
BEGIN:VEVENT
DTSTART;TZID=America/Detroit:20280919T173000
DTEND;TZID=America/Detroit:20280919T183000
DTSTAMP:20260424T090310
CREATED:20250515T190953Z
LAST-MODIFIED:20260407T203359Z
UID:10010755-1852997400-1853001000@preblelibrary.org
SUMMARY:Little Ones Storytime
DESCRIPTION:Join us for Storytime at the Camden Branch!\nHelp your kids develop a love for books and make new friends!\nOn the third Tuesday of every month\, each Storytime will have a new theme and activity. \nNo reservation needed.
URL:https://preblelibrary.org/event/little-ones-storytime-5-2/2028-09-19/
LOCATION:Camden
CATEGORIES:In-Person
ATTACH;FMTTYPE=image/png:https://preblelibrary.org/wp-content/uploads/2022/09/Little-Ones-Storytime-Website.png
END:VEVENT
BEGIN:VEVENT
DTSTART;TZID=America/Detroit:20281017T173000
DTEND;TZID=America/Detroit:20281017T183000
DTSTAMP:20260424T090310
CREATED:20250515T190953Z
LAST-MODIFIED:20260407T203359Z
UID:10010756-1855416600-1855420200@preblelibrary.org
SUMMARY:Little Ones Storytime
DESCRIPTION:Join us for Storytime at the Camden Branch!\nHelp your kids develop a love for books and make new friends!\nOn the third Tuesday of every month\, each Storytime will have a new theme and activity. \nNo reservation needed.
URL:https://preblelibrary.org/event/little-ones-storytime-5-2/2028-10-17/
LOCATION:Camden
CATEGORIES:In-Person
ATTACH;FMTTYPE=image/png:https://preblelibrary.org/wp-content/uploads/2022/09/Little-Ones-Storytime-Website.png
END:VEVENT
BEGIN:VEVENT
DTSTART;TZID=America/Detroit:20281121T173000
DTEND;TZID=America/Detroit:20281121T183000
DTSTAMP:20260424T090310
CREATED:20250515T190953Z
LAST-MODIFIED:20260407T203359Z
UID:10010757-1858440600-1858444200@preblelibrary.org
SUMMARY:Little Ones Storytime
DESCRIPTION:Join us for Storytime at the Camden Branch!\nHelp your kids develop a love for books and make new friends!\nOn the third Tuesday of every month\, each Storytime will have a new theme and activity. \nNo reservation needed.
URL:https://preblelibrary.org/event/little-ones-storytime-5-2/2028-11-21/
LOCATION:Camden
CATEGORIES:In-Person
ATTACH;FMTTYPE=image/png:https://preblelibrary.org/wp-content/uploads/2022/09/Little-Ones-Storytime-Website.png
END:VEVENT
BEGIN:VEVENT
DTSTART;TZID=America/Detroit:20281219T173000
DTEND;TZID=America/Detroit:20281219T183000
DTSTAMP:20260424T090310
CREATED:20250515T190953Z
LAST-MODIFIED:20260407T203359Z
UID:10010758-1860859800-1860863400@preblelibrary.org
SUMMARY:Little Ones Storytime
DESCRIPTION:Join us for Storytime at the Camden Branch!\nHelp your kids develop a love for books and make new friends!\nOn the third Tuesday of every month\, each Storytime will have a new theme and activity. \nNo reservation needed.
URL:https://preblelibrary.org/event/little-ones-storytime-5-2/2028-12-19/
LOCATION:Camden
CATEGORIES:In-Person
ATTACH;FMTTYPE=image/png:https://preblelibrary.org/wp-content/uploads/2022/09/Little-Ones-Storytime-Website.png
END:VEVENT
END:VCALENDAR