BEGIN:VCALENDAR
VERSION:2.0
PRODID:-//Preble County Library - ECPv6.15.20//NONSGML v1.0//EN
CALSCALE:GREGORIAN
METHOD:PUBLISH
X-WR-CALNAME:Preble County Library
X-ORIGINAL-URL:https://preblelibrary.org
X-WR-CALDESC:Events for Preble County Library
REFRESH-INTERVAL;VALUE=DURATION:PT1H
X-Robots-Tag:noindex
X-PUBLISHED-TTL:PT1H
BEGIN:VTIMEZONE
TZID:America/Detroit
BEGIN:DAYLIGHT
TZOFFSETFROM:-0500
TZOFFSETTO:-0400
TZNAME:EDT
DTSTART:20250309T070000
END:DAYLIGHT
BEGIN:STANDARD
TZOFFSETFROM:-0400
TZOFFSETTO:-0500
TZNAME:EST
DTSTART:20251102T060000
END:STANDARD
BEGIN:DAYLIGHT
TZOFFSETFROM:-0500
TZOFFSETTO:-0400
TZNAME:EDT
DTSTART:20260308T070000
END:DAYLIGHT
BEGIN:STANDARD
TZOFFSETFROM:-0400
TZOFFSETTO:-0500
TZNAME:EST
DTSTART:20261101T060000
END:STANDARD
BEGIN:DAYLIGHT
TZOFFSETFROM:-0500
TZOFFSETTO:-0400
TZNAME:EDT
DTSTART:20270314T070000
END:DAYLIGHT
BEGIN:STANDARD
TZOFFSETFROM:-0400
TZOFFSETTO:-0500
TZNAME:EST
DTSTART:20271107T060000
END:STANDARD
BEGIN:DAYLIGHT
TZOFFSETFROM:-0500
TZOFFSETTO:-0400
TZNAME:EDT
DTSTART:20280312T070000
END:DAYLIGHT
BEGIN:STANDARD
TZOFFSETFROM:-0400
TZOFFSETTO:-0500
TZNAME:EST
DTSTART:20281105T060000
END:STANDARD
END:VTIMEZONE
BEGIN:VEVENT
DTSTART;TZID=America/Detroit:20260520T180000
DTEND;TZID=America/Detroit:20260520T190000
DTSTAMP:20260424T090426
CREATED:20260107T152812Z
LAST-MODIFIED:20260407T203634Z
UID:10011989-1779300000-1779303600@preblelibrary.org
SUMMARY:After School Fun
DESCRIPTION:Come to the Camden Branch and play games\, do crafts\, and have snacks!
URL:https://preblelibrary.org/event/after-school-fun/2026-05-20/
LOCATION:Camden
CATEGORIES:In-Person
ATTACH;FMTTYPE=image/png:https://preblelibrary.org/wp-content/uploads/2022/12/After-School-Crew-January-website.png
END:VEVENT
BEGIN:VEVENT
DTSTART;TZID=America/Detroit:20260819T180000
DTEND;TZID=America/Detroit:20260819T190000
DTSTAMP:20260424T090426
CREATED:20260107T152812Z
LAST-MODIFIED:20260407T203634Z
UID:10011992-1787162400-1787166000@preblelibrary.org
SUMMARY:After School Fun
DESCRIPTION:Come to the Camden Branch and play games\, do crafts\, and have snacks!
URL:https://preblelibrary.org/event/after-school-fun/2026-08-19/
LOCATION:Camden
CATEGORIES:In-Person
ATTACH;FMTTYPE=image/png:https://preblelibrary.org/wp-content/uploads/2022/12/After-School-Crew-January-website.png
END:VEVENT
BEGIN:VEVENT
DTSTART;TZID=America/Detroit:20260916T180000
DTEND;TZID=America/Detroit:20260916T190000
DTSTAMP:20260424T090426
CREATED:20260107T152812Z
LAST-MODIFIED:20260407T203634Z
UID:10011993-1789581600-1789585200@preblelibrary.org
SUMMARY:After School Fun
DESCRIPTION:Come to the Camden Branch and play games\, do crafts\, and have snacks!
URL:https://preblelibrary.org/event/after-school-fun/2026-09-16/
LOCATION:Camden
CATEGORIES:In-Person
ATTACH;FMTTYPE=image/png:https://preblelibrary.org/wp-content/uploads/2022/12/After-School-Crew-January-website.png
END:VEVENT
BEGIN:VEVENT
DTSTART;TZID=America/Detroit:20261021T180000
DTEND;TZID=America/Detroit:20261021T190000
DTSTAMP:20260424T090426
CREATED:20260107T152812Z
LAST-MODIFIED:20260407T203634Z
UID:10011994-1792605600-1792609200@preblelibrary.org
SUMMARY:After School Fun
DESCRIPTION:Come to the Camden Branch and play games\, do crafts\, and have snacks!
URL:https://preblelibrary.org/event/after-school-fun/2026-10-21/
LOCATION:Camden
CATEGORIES:In-Person
ATTACH;FMTTYPE=image/png:https://preblelibrary.org/wp-content/uploads/2022/12/After-School-Crew-January-website.png
END:VEVENT
BEGIN:VEVENT
DTSTART;TZID=America/Detroit:20261118T180000
DTEND;TZID=America/Detroit:20261118T190000
DTSTAMP:20260424T090426
CREATED:20260107T152812Z
LAST-MODIFIED:20260407T203634Z
UID:10011995-1795024800-1795028400@preblelibrary.org
SUMMARY:After School Fun
DESCRIPTION:Come to the Camden Branch and play games\, do crafts\, and have snacks!
URL:https://preblelibrary.org/event/after-school-fun/2026-11-18/
LOCATION:Camden
CATEGORIES:In-Person
ATTACH;FMTTYPE=image/png:https://preblelibrary.org/wp-content/uploads/2022/12/After-School-Crew-January-website.png
END:VEVENT
BEGIN:VEVENT
DTSTART;TZID=America/Detroit:20261216T180000
DTEND;TZID=America/Detroit:20261216T190000
DTSTAMP:20260424T090426
CREATED:20260107T152812Z
LAST-MODIFIED:20260407T203634Z
UID:10011996-1797444000-1797447600@preblelibrary.org
SUMMARY:After School Fun
DESCRIPTION:Come to the Camden Branch and play games\, do crafts\, and have snacks!
URL:https://preblelibrary.org/event/after-school-fun/2026-12-16/
LOCATION:Camden
CATEGORIES:In-Person
ATTACH;FMTTYPE=image/png:https://preblelibrary.org/wp-content/uploads/2022/12/After-School-Crew-January-website.png
END:VEVENT
BEGIN:VEVENT
DTSTART;TZID=America/Detroit:20270120T180000
DTEND;TZID=America/Detroit:20270120T190000
DTSTAMP:20260424T090426
CREATED:20260107T152812Z
LAST-MODIFIED:20260407T203634Z
UID:10011997-1800468000-1800471600@preblelibrary.org
SUMMARY:After School Fun
DESCRIPTION:Come to the Camden Branch and play games\, do crafts\, and have snacks!
URL:https://preblelibrary.org/event/after-school-fun/2027-01-20/
LOCATION:Camden
CATEGORIES:In-Person
ATTACH;FMTTYPE=image/png:https://preblelibrary.org/wp-content/uploads/2022/12/After-School-Crew-January-website.png
END:VEVENT
END:VCALENDAR