BEGIN:VCALENDAR
VERSION:2.0
PRODID:-//Preble County Library - ECPv6.15.20//NONSGML v1.0//EN
CALSCALE:GREGORIAN
METHOD:PUBLISH
X-WR-CALNAME:Preble County Library
X-ORIGINAL-URL:https://preblelibrary.org
X-WR-CALDESC:Events for Preble County Library
REFRESH-INTERVAL;VALUE=DURATION:PT1H
X-Robots-Tag:noindex
X-PUBLISHED-TTL:PT1H
BEGIN:VTIMEZONE
TZID:America/Detroit
BEGIN:DAYLIGHT
TZOFFSETFROM:-0500
TZOFFSETTO:-0400
TZNAME:EDT
DTSTART:20250309T070000
END:DAYLIGHT
BEGIN:STANDARD
TZOFFSETFROM:-0400
TZOFFSETTO:-0500
TZNAME:EST
DTSTART:20251102T060000
END:STANDARD
BEGIN:DAYLIGHT
TZOFFSETFROM:-0500
TZOFFSETTO:-0400
TZNAME:EDT
DTSTART:20260308T070000
END:DAYLIGHT
BEGIN:STANDARD
TZOFFSETFROM:-0400
TZOFFSETTO:-0500
TZNAME:EST
DTSTART:20261101T060000
END:STANDARD
BEGIN:DAYLIGHT
TZOFFSETFROM:-0500
TZOFFSETTO:-0400
TZNAME:EDT
DTSTART:20270314T070000
END:DAYLIGHT
BEGIN:STANDARD
TZOFFSETFROM:-0400
TZOFFSETTO:-0500
TZNAME:EST
DTSTART:20271107T060000
END:STANDARD
END:VTIMEZONE
BEGIN:VEVENT
DTSTART;VALUE=DATE:20260501
DTEND;VALUE=DATE:20260502
DTSTAMP:20260424T120326
CREATED:20260212T191439Z
LAST-MODIFIED:20260212T191439Z
UID:10012189-1777593600-1777679999@preblelibrary.org
SUMMARY:Plant Swap
DESCRIPTION:Help our communities grow! Sprouting up this May is our Eaton Branch Plant Swap! Patrons can drop off cuttings\, rootings\, seeds\, and plants in exchange for others. Everyone gets to pick a new friend to take home. \nThe Plant Swap will be open the entire month of May. \n*Please only bring in healthy\, pest-free plants and cuttings.
URL:https://preblelibrary.org/event/plant-swap/
LOCATION:Eaton
CATEGORIES:In-Person,Plant Swap
ATTACH;FMTTYPE=image/png:https://preblelibrary.org/wp-content/uploads/2026/02/Plant-Swap.png
END:VEVENT
BEGIN:VEVENT
DTSTART;VALUE=DATE:20260501
DTEND;VALUE=DATE:20260502
DTSTAMP:20260424T120326
CREATED:20260306T202820Z
LAST-MODIFIED:20260306T203127Z
UID:10012292-1777593600-1777679999@preblelibrary.org
SUMMARY:Coloring Collab for America's 250th
DESCRIPTION:Make your mark by helping us decorate the library for America’s 250th Birthday! Sign up and get a square to color. Return your finished square to the library. All the pieces will be assembled into a bulletin board display to help us celebrate America’s birthday! You won’t know what the finished design is until it is assembled! \nPieces can be picked up beginning May 1. Completed pieces are due back to the Eaton Library by May 25. \nThis program is open to artists of all ages! \n*Use any art supplies you have. No art supplies at home? Feel free to ask at the front desk to utilize the library supplies!
URL:https://preblelibrary.org/event/coloring-collab-for-americas-250th/
LOCATION:Eaton
ATTACH;FMTTYPE=image/png:https://preblelibrary.org/wp-content/uploads/2026/03/Event-Calendar-Images-47.png
END:VEVENT
BEGIN:VEVENT
DTSTART;VALUE=DATE:20260501
DTEND;VALUE=DATE:20260502
DTSTAMP:20260424T120326
CREATED:20260331T173143Z
LAST-MODIFIED:20260331T173143Z
UID:10012360-1777593600-1777679999@preblelibrary.org
SUMMARY:New Paris Plant Swap
DESCRIPTION:New Paris Plant Swap – Bring a Plant\, Take a Plant! – May 1st – 30th during our open hours. \nBring potted plants\, seeds\, bulbs or cuttings in water to trade. Label your plants as best as you can. Please NO PESTS. Healthy items only.
URL:https://preblelibrary.org/event/new-paris-plant-swap/2026-05-01/
LOCATION:New Paris
CATEGORIES:In-Person
ATTACH;FMTTYPE=image/png:https://preblelibrary.org/wp-content/uploads/2026/03/Plant-Swap-5.png
END:VEVENT
BEGIN:VEVENT
DTSTART;VALUE=DATE:20260501
DTEND;VALUE=DATE:20260502
DTSTAMP:20260424T120326
CREATED:20260331T183440Z
LAST-MODIFIED:20260331T183725Z
UID:10012365-1777593600-1777679999@preblelibrary.org
SUMMARY:Ohio Trivia: Arts\, Culture\, Literature\, and Movies
DESCRIPTION:How much do you know about movies\, tv shows\, bands\, or authors from Ohio? \nCome to the Eaton Branch during the month of May and answer trivia questions for a chance to win an Ohio-Themed Gift Basket! \nThis challenge is for all ages. In order to be considered to win\, you must answer all 12 questions. The winner of the basket will be drawn on June 1.
URL:https://preblelibrary.org/event/ohio-trivia-arts-culture-literature-and-movies/2026-05-01/
LOCATION:Eaton
CATEGORIES:Contest,In-Person
ATTACH;FMTTYPE=image/png:https://preblelibrary.org/wp-content/uploads/2026/03/2026.-Eaton-Ohio-Trivia-Arts-Culture-Literature-and-Movies-Website-Graphic-1.png
END:VEVENT
BEGIN:VEVENT
DTSTART;TZID=America/Detroit:20260504T120000
DTEND;TZID=America/Detroit:20260504T190000
DTSTAMP:20260424T120326
CREATED:20260406T112859Z
LAST-MODIFIED:20260406T113156Z
UID:10012434-1777896000-1777921200@preblelibrary.org
SUMMARY:May the 4th Be With You
DESCRIPTION:Celebrate May 4th (Star Wars Day) by visiting the West Alexandria Library. While you’re here\, enter to win a selection of Star Wars books—just for visiting! \nMay the force be with you.
URL:https://preblelibrary.org/event/may-the-4th-be-with-you/
LOCATION:West Alexandria
CATEGORIES:In-Person
ATTACH;FMTTYPE=image/png:https://preblelibrary.org/wp-content/uploads/2026/04/2026.-WA-May-the-4th-Be-With-You-Website-Graphic-1.png
END:VEVENT
BEGIN:VEVENT
DTSTART;TZID=America/Detroit:20260505T173000
DTEND;TZID=America/Detroit:20260505T183000
DTSTAMP:20260424T120326
CREATED:20260413T155259Z
LAST-MODIFIED:20260413T155259Z
UID:10012449-1778002200-1778005800@preblelibrary.org
SUMMARY:Adult Craft Night: Mini Scrapbooks
DESCRIPTION:Celebrate National Scrapbooking Month by creating your own mini scrapbooks to fill with all your favorite photos to show off.  \nBring your own 2.5″ x 3″ pictures or add them later at home.  \nNo registration is required\, but it is highly encouraged to ensure we have enough supplies for everyone.
URL:https://preblelibrary.org/event/adult-craft-night-mini-scrapbooks/
LOCATION:West Alexandria
CATEGORIES:Crafting,In-Person
ATTACH;FMTTYPE=image/png:https://preblelibrary.org/wp-content/uploads/2026/04/2026.-WA-Mini-Scrapbooks-Website-Graphic.png
END:VEVENT
BEGIN:VEVENT
DTSTART;TZID=America/Detroit:20260505T180000
DTEND;TZID=America/Detroit:20260505T190000
DTSTAMP:20260424T120326
CREATED:20260401T133245Z
LAST-MODIFIED:20260401T133245Z
UID:10012371-1778004000-1778007600@preblelibrary.org
SUMMARY:Adult Craft: Crayon Resist Art
DESCRIPTION:You won’t be able to “resist” this simple craft with a cool scientific reaction! \nAll supplies provided. A limited number of grab and go kits will be available May 6.
URL:https://preblelibrary.org/event/adult-craft-crayon-resist-art/
LOCATION:Eaton
CATEGORIES:In-Person
ATTACH;FMTTYPE=image/png:https://preblelibrary.org/wp-content/uploads/2026/04/2026.-Eaton-Crayon-Resist-Art-Website-Graphic-.png
END:VEVENT
BEGIN:VEVENT
DTSTART;TZID=America/Detroit:20260505T180000
DTEND;TZID=America/Detroit:20260505T200000
DTSTAMP:20260424T120326
CREATED:20260107T173002Z
LAST-MODIFIED:20260107T173002Z
UID:10012005-1778004000-1778011200@preblelibrary.org
SUMMARY:History Hunters
DESCRIPTION:Love history? Join fellow enthusiasts for lively conversations about the past\, from local legends to national events. Whether you’re a casual fan or a history buff\, come share your interests and discover something new!
URL:https://preblelibrary.org/event/history-hunters/2026-05-05/
LOCATION:Preble County Genealogy Room
CATEGORIES:In-Person
ATTACH;FMTTYPE=image/png:https://preblelibrary.org/wp-content/uploads/2026/01/2026.-PC-Room-History-Hunters-Website-Graphic.png
END:VEVENT
BEGIN:VEVENT
DTSTART;TZID=America/Detroit:20260507T163000
DTEND;TZID=America/Detroit:20260507T173000
DTSTAMP:20260424T120326
CREATED:20251222T142426Z
LAST-MODIFIED:20260225T151839Z
UID:10012131-1778171400-1778175000@preblelibrary.org
SUMMARY:Rummy Club
DESCRIPTION:Join our Rummy Club! The West Elkton Branch is holding this fun event on the first Thursday of each month! Come join us for rounds of this fun card game\, snacks and friendly competition in a laid-back environment! We hope to see you there! \n 
URL:https://preblelibrary.org/event/rummy-club-5/2026-05-07/
LOCATION:West Elkton
CATEGORIES:In-Person
ATTACH;FMTTYPE=image/png:https://preblelibrary.org/wp-content/uploads/2025/12/2025.-West-Elkton-Rummy-Club-15.png
END:VEVENT
BEGIN:VEVENT
DTSTART;TZID=America/Detroit:20260507T163000
DTEND;TZID=America/Detroit:20260507T174500
DTSTAMP:20260424T120326
CREATED:20260420T151139Z
LAST-MODIFIED:20260420T151233Z
UID:10012461-1778171400-1778175900@preblelibrary.org
SUMMARY:Paper Craft Month
DESCRIPTION:Come do a different paper craft every week with us in May!
URL:https://preblelibrary.org/event/paper-craft-month-2/2026-05-07/
LOCATION:Eldorado
CATEGORIES:In-Person
ATTACH;FMTTYPE=image/png:https://preblelibrary.org/wp-content/uploads/2026/04/2026.-Eldorado-Paper-Craft-Month-Website-Graphic.png
END:VEVENT
BEGIN:VEVENT
DTSTART;VALUE=DATE:20260508
DTEND;VALUE=DATE:20260509
DTSTAMP:20260424T120326
CREATED:20260331T173143Z
LAST-MODIFIED:20260331T173143Z
UID:10012361-1778198400-1778284799@preblelibrary.org
SUMMARY:New Paris Plant Swap
DESCRIPTION:New Paris Plant Swap – Bring a Plant\, Take a Plant! – May 1st – 30th during our open hours. \nBring potted plants\, seeds\, bulbs or cuttings in water to trade. Label your plants as best as you can. Please NO PESTS. Healthy items only.
URL:https://preblelibrary.org/event/new-paris-plant-swap/2026-05-08/
LOCATION:New Paris
CATEGORIES:In-Person
ATTACH;FMTTYPE=image/png:https://preblelibrary.org/wp-content/uploads/2026/03/Plant-Swap-5.png
END:VEVENT
BEGIN:VEVENT
DTSTART;VALUE=DATE:20260508
DTEND;VALUE=DATE:20260509
DTSTAMP:20260424T120326
CREATED:20260331T183440Z
LAST-MODIFIED:20260331T183725Z
UID:10012366-1778198400-1778284799@preblelibrary.org
SUMMARY:Ohio Trivia: Arts\, Culture\, Literature\, and Movies
DESCRIPTION:How much do you know about movies\, tv shows\, bands\, or authors from Ohio? \nCome to the Eaton Branch during the month of May and answer trivia questions for a chance to win an Ohio-Themed Gift Basket! \nThis challenge is for all ages. In order to be considered to win\, you must answer all 12 questions. The winner of the basket will be drawn on June 1.
URL:https://preblelibrary.org/event/ohio-trivia-arts-culture-literature-and-movies/2026-05-08/
LOCATION:Eaton
CATEGORIES:Contest,In-Person
ATTACH;FMTTYPE=image/png:https://preblelibrary.org/wp-content/uploads/2026/03/2026.-Eaton-Ohio-Trivia-Arts-Culture-Literature-and-Movies-Website-Graphic-1.png
END:VEVENT
BEGIN:VEVENT
DTSTART;VALUE=DATE:20260511
DTEND;VALUE=DATE:20260512
DTSTAMP:20260424T120326
CREATED:20260401T151724Z
LAST-MODIFIED:20260401T152031Z
UID:10012372-1778457600-1778543999@preblelibrary.org
SUMMARY:America 250: Patriotic Plant Swap
DESCRIPTION:We salute the great red\, white\, and blue! In celebration of America’s 250th birthday\, we’re switching things up for this year’s plant swap! \nDo you already have enough houseplants from our prior swaps? If so\, we’re focusing more on outdoor annual and perennial flowers this year—and\, you guessed it\, a lot of red\, white\, and blue! \nGet your outdoor flowerpots ready to display the colors of the American flag all around your home this season! \nBring in any pest-free annuals and perennials to swap with our patriotic annual and perennial plant selection from May 11 through June 11\, during regular business hours!
URL:https://preblelibrary.org/event/america-250-patriotic-plant-swap/2026-05-11/
LOCATION:West Elkton
CATEGORIES:In-Person,Plant Swap
ATTACH;FMTTYPE=image/png:https://preblelibrary.org/wp-content/uploads/2026/04/2026.-WE-America-250-Patriotic-Plant-Swap-Website-Graphic.png
END:VEVENT
BEGIN:VEVENT
DTSTART;TZID=America/Detroit:20260512T180000
DTEND;TZID=America/Detroit:20260512T190000
DTSTAMP:20260424T120326
CREATED:20260116T124332Z
LAST-MODIFIED:20260116T124332Z
UID:10012094-1778608800-1778612400@preblelibrary.org
SUMMARY:Camden Book Buddies Book Club
DESCRIPTION:If you love reading\, join us for great books and discussion on the second Tuesday of every month!
URL:https://preblelibrary.org/event/camden-book-buddies-book-club/2026-05-12/
LOCATION:Camden
CATEGORIES:Book Club,In-Person
ATTACH;FMTTYPE=image/png:https://preblelibrary.org/wp-content/uploads/2026/01/2026.-Camden-Book-Buddies-Book-Club-Flyer.png
END:VEVENT
BEGIN:VEVENT
DTSTART;TZID=America/Detroit:20260512T180000
DTEND;TZID=America/Detroit:20260512T190000
DTSTAMP:20260424T120326
CREATED:20260402T151518Z
LAST-MODIFIED:20260402T151613Z
UID:10012430-1778608800-1778612400@preblelibrary.org
SUMMARY:Beginners' Excel Class
DESCRIPTION:New to Excel? \nLearn the difference between cells\, rows and columns\, as well as basic formulas and functions and formatting techniques. \nSome computer experience required. Class size limited to 4. \nRegistration required.
URL:https://preblelibrary.org/event/beginners-excel-class/
LOCATION:Eaton
CATEGORIES:In-Person
ATTACH;FMTTYPE=image/png:https://preblelibrary.org/wp-content/uploads/2026/04/2026.-Eaton-Excel-For-Beginners-Website-Graphic.png
END:VEVENT
BEGIN:VEVENT
DTSTART;TZID=America/Detroit:20260513T180000
DTEND;TZID=America/Detroit:20260513T194500
DTSTAMP:20260424T120326
CREATED:20251219T140649Z
LAST-MODIFIED:20251219T140649Z
UID:10011945-1778695200-1778701500@preblelibrary.org
SUMMARY:Solvers
DESCRIPTION:Attention riddlers\, puzzle-solvers\, and amateur detectives– this new monthly program has all the pieces you’re searching for! \nDo you know the killer in every episode of SVU? Have you worn out your Agatha Christie collection? Do your friends call you up for internet deep-dives on true crime podcasts? \nPut your investigation skills together to solve murder mysteries\, puzzle games\, and escape rooms! \n*This program may include mature themes\, and is strictly offered for ages 18+* \n**This event will be held the second Wednesday of each month.
URL:https://preblelibrary.org/event/solvers-8/
LOCATION:Eaton
CATEGORIES:In-Person
ATTACH;FMTTYPE=image/png:https://preblelibrary.org/wp-content/uploads/2025/09/Solvers.png
END:VEVENT
BEGIN:VEVENT
DTSTART;TZID=America/Detroit:20260514T163000
DTEND;TZID=America/Detroit:20260514T174500
DTSTAMP:20260424T120326
CREATED:20260420T151139Z
LAST-MODIFIED:20260420T151233Z
UID:10012462-1778776200-1778780700@preblelibrary.org
SUMMARY:Paper Craft Month
DESCRIPTION:Come do a different paper craft every week with us in May!
URL:https://preblelibrary.org/event/paper-craft-month-2/2026-05-14/
LOCATION:Eldorado
CATEGORIES:In-Person
ATTACH;FMTTYPE=image/png:https://preblelibrary.org/wp-content/uploads/2026/04/2026.-Eldorado-Paper-Craft-Month-Website-Graphic.png
END:VEVENT
BEGIN:VEVENT
DTSTART;VALUE=DATE:20260515
DTEND;VALUE=DATE:20260516
DTSTAMP:20260424T120326
CREATED:20260331T173143Z
LAST-MODIFIED:20260331T173143Z
UID:10012362-1778803200-1778889599@preblelibrary.org
SUMMARY:New Paris Plant Swap
DESCRIPTION:New Paris Plant Swap – Bring a Plant\, Take a Plant! – May 1st – 30th during our open hours. \nBring potted plants\, seeds\, bulbs or cuttings in water to trade. Label your plants as best as you can. Please NO PESTS. Healthy items only.
URL:https://preblelibrary.org/event/new-paris-plant-swap/2026-05-15/
LOCATION:New Paris
CATEGORIES:In-Person
ATTACH;FMTTYPE=image/png:https://preblelibrary.org/wp-content/uploads/2026/03/Plant-Swap-5.png
END:VEVENT
BEGIN:VEVENT
DTSTART;VALUE=DATE:20260515
DTEND;VALUE=DATE:20260516
DTSTAMP:20260424T120326
CREATED:20260331T183440Z
LAST-MODIFIED:20260331T183725Z
UID:10012367-1778803200-1778889599@preblelibrary.org
SUMMARY:Ohio Trivia: Arts\, Culture\, Literature\, and Movies
DESCRIPTION:How much do you know about movies\, tv shows\, bands\, or authors from Ohio? \nCome to the Eaton Branch during the month of May and answer trivia questions for a chance to win an Ohio-Themed Gift Basket! \nThis challenge is for all ages. In order to be considered to win\, you must answer all 12 questions. The winner of the basket will be drawn on June 1.
URL:https://preblelibrary.org/event/ohio-trivia-arts-culture-literature-and-movies/2026-05-15/
LOCATION:Eaton
CATEGORIES:Contest,In-Person
ATTACH;FMTTYPE=image/png:https://preblelibrary.org/wp-content/uploads/2026/03/2026.-Eaton-Ohio-Trivia-Arts-Culture-Literature-and-Movies-Website-Graphic-1.png
END:VEVENT
BEGIN:VEVENT
DTSTART;TZID=America/Detroit:20260516T140000
DTEND;TZID=America/Detroit:20260516T150000
DTSTAMP:20260424T120326
CREATED:20260324T172511Z
LAST-MODIFIED:20260324T172511Z
UID:10012324-1778940000-1778943600@preblelibrary.org
SUMMARY:America 250: Bald Eagles
DESCRIPTION:As part of our America 250 series\, local author and eagle enthusiast\, Jim Weller\, joins us for a special presentation on the American national symbol… the bald eagle! \nLearn more about these impressive creatures and their role here in Southwest Ohio! \nThis free program is open to all ages!
URL:https://preblelibrary.org/event/america-250-bald-eagles/
LOCATION:Eaton
CATEGORIES:In-Person
ATTACH;FMTTYPE=image/png:https://preblelibrary.org/wp-content/uploads/2026/03/2026.-Eaton-America-250-Bald-Eagles-Website-Graphic.png
END:VEVENT
BEGIN:VEVENT
DTSTART;TZID=America/Detroit:20260516T140000
DTEND;TZID=America/Detroit:20260516T160000
DTSTAMP:20260424T120326
CREATED:20260320T172944Z
LAST-MODIFIED:20260320T175635Z
UID:10012319-1778940000-1778947200@preblelibrary.org
SUMMARY:Ohio in the Civil War
DESCRIPTION:The Preble County Local History and Genealogy Room welcomes distinguished historian Mark Holbrook as he discusses Ohio’s role in the Civil War. \nMark Holbrook has been a member of the Ohio Humanities Speakers Bureau for sixteen years. He served as marketing director at the Ohio History Connection for nine years\, where he also served as Civil War Historian. For the past 20 years\, he has worked as a consultant for tourism and history-based organizations. Mark is a native Ohioan\, a graduate of The Ohio State University\, and an avid student of history. He is also the owner of History Is Personal\, a consulting firm specializing in tourism and heritage destination development. \nThis event will be held on Armed Forces Day and during the month of May to honor Memorial Day. The program will focus on how troops\, generals\, factories\, farms\, Ohio\, and Ohioans helped change the outcome of the Civil War. It will also examine how the war\, in turn\, changed Ohio and its people. We will explore these changes and the contributions of Ohio and its residents during America’s Civil War. This program is part of the Preble County Local History and Genealogy Room’s celebration of America 250.
URL:https://preblelibrary.org/event/ohio-in-the-civil-war/
LOCATION:Preble County Genealogy Room
CATEGORIES:In-Person
ATTACH;FMTTYPE=image/png:https://preblelibrary.org/wp-content/uploads/2026/03/2026.-PC-Room-Ohio-in-the-Civil-War-Website-Graphic-2.png
END:VEVENT
BEGIN:VEVENT
DTSTART;VALUE=DATE:20260518
DTEND;VALUE=DATE:20260519
DTSTAMP:20260424T120326
CREATED:20260401T151724Z
LAST-MODIFIED:20260401T152031Z
UID:10012373-1779062400-1779148799@preblelibrary.org
SUMMARY:America 250: Patriotic Plant Swap
DESCRIPTION:We salute the great red\, white\, and blue! In celebration of America’s 250th birthday\, we’re switching things up for this year’s plant swap! \nDo you already have enough houseplants from our prior swaps? If so\, we’re focusing more on outdoor annual and perennial flowers this year—and\, you guessed it\, a lot of red\, white\, and blue! \nGet your outdoor flowerpots ready to display the colors of the American flag all around your home this season! \nBring in any pest-free annuals and perennials to swap with our patriotic annual and perennial plant selection from May 11 through June 11\, during regular business hours!
URL:https://preblelibrary.org/event/america-250-patriotic-plant-swap/2026-05-18/
LOCATION:West Elkton
CATEGORIES:In-Person,Plant Swap
ATTACH;FMTTYPE=image/png:https://preblelibrary.org/wp-content/uploads/2026/04/2026.-WE-America-250-Patriotic-Plant-Swap-Website-Graphic.png
END:VEVENT
BEGIN:VEVENT
DTSTART;TZID=America/Detroit:20260519T180000
DTEND;TZID=America/Detroit:20260519T190000
DTSTAMP:20260424T120326
CREATED:20260402T153702Z
LAST-MODIFIED:20260402T153702Z
UID:10012431-1779213600-1779217200@preblelibrary.org
SUMMARY:Intermediate Excel Class
DESCRIPTION:Join us as we go further into Excel and talk more about formatting\, functions\, charts\, and all that fun stuff! \nSome Excel experience required; it is particularly helpful if you attended the previous week’s Excel class. Class size limited to 4 and sign-up is required. \nCall the Eaton Branch at 937-456-4331 or stop by to reserve your spot!
URL:https://preblelibrary.org/event/intermediate-excel-class/
LOCATION:Eaton
CATEGORIES:In-Person
ATTACH;FMTTYPE=image/png:https://preblelibrary.org/wp-content/uploads/2026/04/2026.-Eaton-Intermediate-Excel-Website-Graphic-1.png
END:VEVENT
BEGIN:VEVENT
DTSTART;TZID=America/Detroit:20260519T180000
DTEND;TZID=America/Detroit:20260519T193000
DTSTAMP:20260424T120326
CREATED:20260408T125858Z
LAST-MODIFIED:20260408T125858Z
UID:10012436-1779213600-1779219000@preblelibrary.org
SUMMARY:New Paris Adult Craft: Garden Paver
DESCRIPTION:Paint a garden paver at the library! \nAll supplies will be provided. \nRegistration is required for this event. Please register by calling the New Paris Library at (937) 437-7242 or by stopping by!
URL:https://preblelibrary.org/event/new-paris-adult-craft-garden-paver/
LOCATION:New Paris
CATEGORIES:Crafting,In-Person
ATTACH;FMTTYPE=image/png:https://preblelibrary.org/wp-content/uploads/2026/04/2026.-New-Paris-Adult-Craft-Garden-Paver-5.png
END:VEVENT
BEGIN:VEVENT
DTSTART;TZID=America/Detroit:20260520T110000
DTEND;TZID=America/Detroit:20260520T130000
DTSTAMP:20260424T120326
CREATED:20241112T144226Z
LAST-MODIFIED:20251121T190603Z
UID:10011778-1779274800-1779282000@preblelibrary.org
SUMMARY:Genealogy Workshop
DESCRIPTION:Need help getting your genealogy started? Hit a brick wall? Come down every 3rd Wednesday of the month for free genealogy assistance. Bring your documentation\, notes\, photos\, etc. and get help in putting it all together.
URL:https://preblelibrary.org/event/genealogy-workshop/2026-05-20/
LOCATION:Preble County Genealogy Room
CATEGORIES:In-Person
ATTACH;FMTTYPE=image/png:https://preblelibrary.org/wp-content/uploads/2024/11/Genealogy-Workshop-Banner.png
END:VEVENT
BEGIN:VEVENT
DTSTART;TZID=America/Detroit:20260521T140000
DTEND;TZID=America/Detroit:20260521T153000
DTSTAMP:20260424T120326
CREATED:20260327T143243Z
LAST-MODIFIED:20260421T154350Z
UID:10012332-1779372000-1779377400@preblelibrary.org
SUMMARY:Adult Game Day
DESCRIPTION:Join us for our Adult Game Day! \nWe will have many fun games to play\, such as Yahtzee\, Operation\, Classic Jenga\, Trouble\, and more! You can also bring your favorite games for us to play! Snacks will be provided. \nAdult Game Day will be held on the third Thursday of every month. We hope to see you there!
URL:https://preblelibrary.org/event/adult-game-day-2/2026-05-21/
LOCATION:West Elkton
CATEGORIES:In-Person
ATTACH;FMTTYPE=image/png:https://preblelibrary.org/wp-content/uploads/2026/02/2026.-WE-Adult-Game-Day-Website-Graphic.png
END:VEVENT
BEGIN:VEVENT
DTSTART;TZID=America/Detroit:20260521T163000
DTEND;TZID=America/Detroit:20260521T174500
DTSTAMP:20260424T120326
CREATED:20260420T151139Z
LAST-MODIFIED:20260420T151233Z
UID:10012463-1779381000-1779385500@preblelibrary.org
SUMMARY:Paper Craft Month
DESCRIPTION:Come do a different paper craft every week with us in May!
URL:https://preblelibrary.org/event/paper-craft-month-2/2026-05-21/
LOCATION:Eldorado
CATEGORIES:In-Person
ATTACH;FMTTYPE=image/png:https://preblelibrary.org/wp-content/uploads/2026/04/2026.-Eldorado-Paper-Craft-Month-Website-Graphic.png
END:VEVENT
BEGIN:VEVENT
DTSTART;TZID=America/Detroit:20260521T190000
DTEND;TZID=America/Detroit:20260521T200000
DTSTAMP:20260424T120326
CREATED:20260402T163537Z
LAST-MODIFIED:20260402T163702Z
UID:10012432-1779390000-1779393600@preblelibrary.org
SUMMARY:Social Security
DESCRIPTION:What’s happening to Social Security: Understanding and optimizing your benefits. \nCan I believe the latest news about Social Security?\nIs Social Security viable for the future?\nWhat’s the best time to start collecting?\nHow can I optimize my benefits?\nHave I exercised all of my benefits? \nHave all of these questions answered by Registered Social Security Analyst James Chronister at the Camden Library.
URL:https://preblelibrary.org/event/social-security/
LOCATION:Camden
CATEGORIES:In-Person
ATTACH;FMTTYPE=image/png:https://preblelibrary.org/wp-content/uploads/2026/04/2026.-Camden-Social-Security-Website-Graphic-2.png
END:VEVENT
BEGIN:VEVENT
DTSTART;VALUE=DATE:20260522
DTEND;VALUE=DATE:20260523
DTSTAMP:20260424T120326
CREATED:20260331T173143Z
LAST-MODIFIED:20260331T173143Z
UID:10012363-1779408000-1779494399@preblelibrary.org
SUMMARY:New Paris Plant Swap
DESCRIPTION:New Paris Plant Swap – Bring a Plant\, Take a Plant! – May 1st – 30th during our open hours. \nBring potted plants\, seeds\, bulbs or cuttings in water to trade. Label your plants as best as you can. Please NO PESTS. Healthy items only.
URL:https://preblelibrary.org/event/new-paris-plant-swap/2026-05-22/
LOCATION:New Paris
CATEGORIES:In-Person
ATTACH;FMTTYPE=image/png:https://preblelibrary.org/wp-content/uploads/2026/03/Plant-Swap-5.png
END:VEVENT
BEGIN:VEVENT
DTSTART;VALUE=DATE:20260522
DTEND;VALUE=DATE:20260523
DTSTAMP:20260424T120326
CREATED:20260331T183440Z
LAST-MODIFIED:20260331T183725Z
UID:10012368-1779408000-1779494399@preblelibrary.org
SUMMARY:Ohio Trivia: Arts\, Culture\, Literature\, and Movies
DESCRIPTION:How much do you know about movies\, tv shows\, bands\, or authors from Ohio? \nCome to the Eaton Branch during the month of May and answer trivia questions for a chance to win an Ohio-Themed Gift Basket! \nThis challenge is for all ages. In order to be considered to win\, you must answer all 12 questions. The winner of the basket will be drawn on June 1.
URL:https://preblelibrary.org/event/ohio-trivia-arts-culture-literature-and-movies/2026-05-22/
LOCATION:Eaton
CATEGORIES:Contest,In-Person
ATTACH;FMTTYPE=image/png:https://preblelibrary.org/wp-content/uploads/2026/03/2026.-Eaton-Ohio-Trivia-Arts-Culture-Literature-and-Movies-Website-Graphic-1.png
END:VEVENT
END:VCALENDAR