BEGIN:VCALENDAR
VERSION:2.0
PRODID:-//Preble County Library - ECPv6.15.20//NONSGML v1.0//EN
CALSCALE:GREGORIAN
METHOD:PUBLISH
X-ORIGINAL-URL:https://preblelibrary.org
X-WR-CALDESC:Events for Preble County Library
REFRESH-INTERVAL;VALUE=DURATION:PT1H
X-Robots-Tag:noindex
X-PUBLISHED-TTL:PT1H
BEGIN:VTIMEZONE
TZID:America/Detroit
BEGIN:DAYLIGHT
TZOFFSETFROM:-0500
TZOFFSETTO:-0400
TZNAME:EDT
DTSTART:20250309T070000
END:DAYLIGHT
BEGIN:STANDARD
TZOFFSETFROM:-0400
TZOFFSETTO:-0500
TZNAME:EST
DTSTART:20251102T060000
END:STANDARD
BEGIN:DAYLIGHT
TZOFFSETFROM:-0500
TZOFFSETTO:-0400
TZNAME:EDT
DTSTART:20260308T070000
END:DAYLIGHT
BEGIN:STANDARD
TZOFFSETFROM:-0400
TZOFFSETTO:-0500
TZNAME:EST
DTSTART:20261101T060000
END:STANDARD
BEGIN:DAYLIGHT
TZOFFSETFROM:-0500
TZOFFSETTO:-0400
TZNAME:EDT
DTSTART:20270314T070000
END:DAYLIGHT
BEGIN:STANDARD
TZOFFSETFROM:-0400
TZOFFSETTO:-0500
TZNAME:EST
DTSTART:20271107T060000
END:STANDARD
END:VTIMEZONE
BEGIN:VEVENT
DTSTART;TZID=America/Detroit:20260203T173000
DTEND;TZID=America/Detroit:20260203T183000
DTSTAMP:20260424T145808
CREATED:20260115T154606Z
LAST-MODIFIED:20260115T154606Z
UID:10012084-1770139800-1770143400@preblelibrary.org
SUMMARY:Adult Craft Night: Photo Love Hanger
DESCRIPTION:Join us for a relaxing and creative Adult Craft Night! \nThis month’s project is Photo Love Hangers. A cute and simple way to display your favorite photos. \nWalk-ins are welcome\, but registration is encouraged to help us plan for supplies.
URL:https://preblelibrary.org/event/adult-craft-night-photo-love-hanger/
LOCATION:West Alexandria
CATEGORIES:In-Person
ATTACH;FMTTYPE=image/png:https://preblelibrary.org/wp-content/uploads/2026/01/2026.-WA-Photo-Love-Hanger-Website-Graphic.png
END:VEVENT
BEGIN:VEVENT
DTSTART;TZID=America/Detroit:20260203T180000
DTEND;TZID=America/Detroit:20260203T190000
DTSTAMP:20260424T145808
CREATED:20260108T161848Z
LAST-MODIFIED:20260108T161848Z
UID:10012064-1770141600-1770145200@preblelibrary.org
SUMMARY:Adult Craft: Cupcake Liner Greeting Cards
DESCRIPTION:Join us to make your own greeting cards decorated with cupcake liners! Valentine’s Day is coming up\, and there will be instructions on how to make cupcake liner hearts\, but feel free to make a card for any event you want! \nAll supplies provided. A limited number of grab and go kits will be available starting February 4. Please call 937-456-4331 or stop by the Eaton Branch to sign up.
URL:https://preblelibrary.org/event/adult-craft-cupcake-liner-greeting-cards/
LOCATION:Eaton
CATEGORIES:In-Person
ATTACH;FMTTYPE=image/png:https://preblelibrary.org/wp-content/uploads/2026/01/2026.-Eaton-Cupcake-Liner-Greeting-Cards-Website-Graphic.png
END:VEVENT
BEGIN:VEVENT
DTSTART;TZID=America/Detroit:20260203T180000
DTEND;TZID=America/Detroit:20260203T200000
DTSTAMP:20260424T145808
CREATED:20260107T173002Z
LAST-MODIFIED:20260107T173002Z
UID:10012002-1770141600-1770148800@preblelibrary.org
SUMMARY:History Hunters
DESCRIPTION:Love history? Join fellow enthusiasts for lively conversations about the past\, from local legends to national events. Whether you’re a casual fan or a history buff\, come share your interests and discover something new!
URL:https://preblelibrary.org/event/history-hunters/2026-02-03/
LOCATION:Preble County Genealogy Room
CATEGORIES:In-Person
ATTACH;FMTTYPE=image/png:https://preblelibrary.org/wp-content/uploads/2026/01/2026.-PC-Room-History-Hunters-Website-Graphic.png
END:VEVENT
END:VCALENDAR