BEGIN:VCALENDAR
VERSION:2.0
PRODID:-//Preble County Library - ECPv6.15.20//NONSGML v1.0//EN
CALSCALE:GREGORIAN
METHOD:PUBLISH
X-ORIGINAL-URL:https://preblelibrary.org
X-WR-CALDESC:Events for Preble County Library
REFRESH-INTERVAL;VALUE=DURATION:PT1H
X-Robots-Tag:noindex
X-PUBLISHED-TTL:PT1H
BEGIN:VTIMEZONE
TZID:America/Detroit
BEGIN:DAYLIGHT
TZOFFSETFROM:-0500
TZOFFSETTO:-0400
TZNAME:EDT
DTSTART:20250309T070000
END:DAYLIGHT
BEGIN:STANDARD
TZOFFSETFROM:-0400
TZOFFSETTO:-0500
TZNAME:EST
DTSTART:20251102T060000
END:STANDARD
BEGIN:DAYLIGHT
TZOFFSETFROM:-0500
TZOFFSETTO:-0400
TZNAME:EDT
DTSTART:20260308T070000
END:DAYLIGHT
BEGIN:STANDARD
TZOFFSETFROM:-0400
TZOFFSETTO:-0500
TZNAME:EST
DTSTART:20261101T060000
END:STANDARD
BEGIN:DAYLIGHT
TZOFFSETFROM:-0500
TZOFFSETTO:-0400
TZNAME:EDT
DTSTART:20270314T070000
END:DAYLIGHT
BEGIN:STANDARD
TZOFFSETFROM:-0400
TZOFFSETTO:-0500
TZNAME:EST
DTSTART:20271107T060000
END:STANDARD
END:VTIMEZONE
BEGIN:VEVENT
DTSTART;TZID=America/Detroit:20260218T110000
DTEND;TZID=America/Detroit:20260218T130000
DTSTAMP:20260424T150314
CREATED:20241112T144226Z
LAST-MODIFIED:20251121T190603Z
UID:10011775-1771412400-1771419600@preblelibrary.org
SUMMARY:Genealogy Workshop
DESCRIPTION:Need help getting your genealogy started? Hit a brick wall? Come down every 3rd Wednesday of the month for free genealogy assistance. Bring your documentation\, notes\, photos\, etc. and get help in putting it all together.
URL:https://preblelibrary.org/event/genealogy-workshop/2026-02-18/
LOCATION:Preble County Genealogy Room
CATEGORIES:In-Person
ATTACH;FMTTYPE=image/png:https://preblelibrary.org/wp-content/uploads/2024/11/Genealogy-Workshop-Banner.png
END:VEVENT
BEGIN:VEVENT
DTSTART;TZID=America/Detroit:20260218T180000
DTEND;TZID=America/Detroit:20260218T193000
DTSTAMP:20260424T150314
CREATED:20260116T161741Z
LAST-MODIFIED:20260119T154554Z
UID:10012104-1771437600-1771443000@preblelibrary.org
SUMMARY:America 250 & Preble County: The History & Legacy of Henny Penny
DESCRIPTION:2026 marks America’s 250th anniversary\, and the Preble County Local History and Genealogy Room will celebrate all year long with special programs tied to various themes designated by the America 250 State of Ohio Commission. \nFebruary’s theme is Ohio Works: Innovation & Industry. We are celebrating by hosting special guest speaker Jason Moles as he discusses the history\, legacy and impact of the Henny Penny corporation\, a global company with roots right here in Preble County! \nLearn all about this fascinating company and how it has helped shape Preble County and the region.
URL:https://preblelibrary.org/event/america-250-preble-county-the-history-legacy-of-henny-penny/
LOCATION:Preble County Genealogy Room
CATEGORIES:In-Person
ATTACH;FMTTYPE=image/png:https://preblelibrary.org/wp-content/uploads/2026/01/2026.-PC-Room-The-History-and-Legacy-of-Henny-Penny-Website-Graphic-1.png
END:VEVENT
END:VCALENDAR