BEGIN:VCALENDAR
VERSION:2.0
PRODID:-//Preble County Library - ECPv6.15.20//NONSGML v1.0//EN
CALSCALE:GREGORIAN
METHOD:PUBLISH
X-WR-CALNAME:Preble County Library
X-ORIGINAL-URL:https://preblelibrary.org
X-WR-CALDESC:Events for Preble County Library
REFRESH-INTERVAL;VALUE=DURATION:PT1H
X-Robots-Tag:noindex
X-PUBLISHED-TTL:PT1H
BEGIN:VTIMEZONE
TZID:America/Detroit
BEGIN:DAYLIGHT
TZOFFSETFROM:-0500
TZOFFSETTO:-0400
TZNAME:EDT
DTSTART:20250309T070000
END:DAYLIGHT
BEGIN:STANDARD
TZOFFSETFROM:-0400
TZOFFSETTO:-0500
TZNAME:EST
DTSTART:20251102T060000
END:STANDARD
BEGIN:DAYLIGHT
TZOFFSETFROM:-0500
TZOFFSETTO:-0400
TZNAME:EDT
DTSTART:20260308T070000
END:DAYLIGHT
BEGIN:STANDARD
TZOFFSETFROM:-0400
TZOFFSETTO:-0500
TZNAME:EST
DTSTART:20261101T060000
END:STANDARD
BEGIN:DAYLIGHT
TZOFFSETFROM:-0500
TZOFFSETTO:-0400
TZNAME:EDT
DTSTART:20270314T070000
END:DAYLIGHT
BEGIN:STANDARD
TZOFFSETFROM:-0400
TZOFFSETTO:-0500
TZNAME:EST
DTSTART:20271107T060000
END:STANDARD
END:VTIMEZONE
BEGIN:VEVENT
DTSTART;TZID=America/Detroit:20260326T140000
DTEND;TZID=America/Detroit:20260326T153000
DTSTAMP:20260424T150810
CREATED:20260212T172316Z
LAST-MODIFIED:20260212T172316Z
UID:10012188-1774533600-1774539000@preblelibrary.org
SUMMARY:Adult Game Day
DESCRIPTION:Join us for our first-ever Adult Game Day! \nWe will have many games to choose from\, such as Yahtzee\, Operation\, Classic Jenga\, Trouble\, and more. Snacks will be provided. We hope to see you there!
URL:https://preblelibrary.org/event/adult-game-day/
LOCATION:West Elkton
CATEGORIES:In-Person
ATTACH;FMTTYPE=image/png:https://preblelibrary.org/wp-content/uploads/2026/02/2026.-WE-Adult-Game-Day-Website-Graphic.png
END:VEVENT
BEGIN:VEVENT
DTSTART;TZID=America/Detroit:20260326T163000
DTEND;TZID=America/Detroit:20260326T174500
DTSTAMP:20260424T150810
CREATED:20260306T141150Z
LAST-MODIFIED:20260306T141230Z
UID:10012288-1774542600-1774547100@preblelibrary.org
SUMMARY:Wooden Tchotchke Painting
DESCRIPTION:Pick an object and paint away!
URL:https://preblelibrary.org/event/wooden-tchotchke-painting/2026-03-26/
LOCATION:Eldorado
CATEGORIES:Crafting,In-Person
ATTACH;FMTTYPE=image/png:https://preblelibrary.org/wp-content/uploads/2026/03/2026.-Eldorado-Wooden-Tchotchke-Painting-Website-Graphic.png
END:VEVENT
END:VCALENDAR