BEGIN:VCALENDAR
VERSION:2.0
PRODID:-//Preble County Library - ECPv6.15.20//NONSGML v1.0//EN
CALSCALE:GREGORIAN
METHOD:PUBLISH
X-WR-CALNAME:Preble County Library
X-ORIGINAL-URL:https://preblelibrary.org
X-WR-CALDESC:Events for Preble County Library
REFRESH-INTERVAL;VALUE=DURATION:PT1H
X-Robots-Tag:noindex
X-PUBLISHED-TTL:PT1H
BEGIN:VTIMEZONE
TZID:America/Detroit
BEGIN:DAYLIGHT
TZOFFSETFROM:-0500
TZOFFSETTO:-0400
TZNAME:EDT
DTSTART:20270314T070000
END:DAYLIGHT
BEGIN:STANDARD
TZOFFSETFROM:-0400
TZOFFSETTO:-0500
TZNAME:EST
DTSTART:20271107T060000
END:STANDARD
BEGIN:DAYLIGHT
TZOFFSETFROM:-0500
TZOFFSETTO:-0400
TZNAME:EDT
DTSTART:20280312T070000
END:DAYLIGHT
BEGIN:STANDARD
TZOFFSETFROM:-0400
TZOFFSETTO:-0500
TZNAME:EST
DTSTART:20281105T060000
END:STANDARD
BEGIN:DAYLIGHT
TZOFFSETFROM:-0500
TZOFFSETTO:-0400
TZNAME:EDT
DTSTART:20290311T070000
END:DAYLIGHT
BEGIN:STANDARD
TZOFFSETFROM:-0400
TZOFFSETTO:-0500
TZNAME:EST
DTSTART:20291104T060000
END:STANDARD
BEGIN:DAYLIGHT
TZOFFSETFROM:-0500
TZOFFSETTO:-0400
TZNAME:EDT
DTSTART:20300310T070000
END:DAYLIGHT
BEGIN:STANDARD
TZOFFSETFROM:-0400
TZOFFSETTO:-0500
TZNAME:EST
DTSTART:20301103T060000
END:STANDARD
BEGIN:DAYLIGHT
TZOFFSETFROM:-0500
TZOFFSETTO:-0400
TZNAME:EDT
DTSTART:20310309T070000
END:DAYLIGHT
BEGIN:STANDARD
TZOFFSETFROM:-0400
TZOFFSETTO:-0500
TZNAME:EST
DTSTART:20311102T060000
END:STANDARD
BEGIN:DAYLIGHT
TZOFFSETFROM:-0500
TZOFFSETTO:-0400
TZNAME:EDT
DTSTART:20320314T070000
END:DAYLIGHT
BEGIN:STANDARD
TZOFFSETFROM:-0400
TZOFFSETTO:-0500
TZNAME:EST
DTSTART:20321107T060000
END:STANDARD
END:VTIMEZONE
BEGIN:VEVENT
DTSTART;TZID=America/Detroit:20280905T180000
DTEND;TZID=America/Detroit:20280905T200000
DTSTAMP:20260424T231039
CREATED:20260107T173002Z
LAST-MODIFIED:20260107T173002Z
UID:10012033-1851789600-1851796800@preblelibrary.org
SUMMARY:History Hunters
DESCRIPTION:Love history? Join fellow enthusiasts for lively conversations about the past\, from local legends to national events. Whether you’re a casual fan or a history buff\, come share your interests and discover something new!
URL:https://preblelibrary.org/event/history-hunters/2028-09-05/
LOCATION:Preble County Genealogy Room
CATEGORIES:In-Person
ATTACH;FMTTYPE=image/png:https://preblelibrary.org/wp-content/uploads/2026/01/2026.-PC-Room-History-Hunters-Website-Graphic.png
END:VEVENT
BEGIN:VEVENT
DTSTART;TZID=America/Detroit:20281003T180000
DTEND;TZID=America/Detroit:20281003T200000
DTSTAMP:20260424T231039
CREATED:20260107T173002Z
LAST-MODIFIED:20260107T173002Z
UID:10012034-1854208800-1854216000@preblelibrary.org
SUMMARY:History Hunters
DESCRIPTION:Love history? Join fellow enthusiasts for lively conversations about the past\, from local legends to national events. Whether you’re a casual fan or a history buff\, come share your interests and discover something new!
URL:https://preblelibrary.org/event/history-hunters/2028-10-03/
LOCATION:Preble County Genealogy Room
CATEGORIES:In-Person
ATTACH;FMTTYPE=image/png:https://preblelibrary.org/wp-content/uploads/2026/01/2026.-PC-Room-History-Hunters-Website-Graphic.png
END:VEVENT
BEGIN:VEVENT
DTSTART;TZID=America/Detroit:20281107T180000
DTEND;TZID=America/Detroit:20281107T200000
DTSTAMP:20260424T231039
CREATED:20260107T173002Z
LAST-MODIFIED:20260107T173002Z
UID:10012035-1857232800-1857240000@preblelibrary.org
SUMMARY:History Hunters
DESCRIPTION:Love history? Join fellow enthusiasts for lively conversations about the past\, from local legends to national events. Whether you’re a casual fan or a history buff\, come share your interests and discover something new!
URL:https://preblelibrary.org/event/history-hunters/2028-11-07/
LOCATION:Preble County Genealogy Room
CATEGORIES:In-Person
ATTACH;FMTTYPE=image/png:https://preblelibrary.org/wp-content/uploads/2026/01/2026.-PC-Room-History-Hunters-Website-Graphic.png
END:VEVENT
BEGIN:VEVENT
DTSTART;TZID=America/Detroit:20281205T180000
DTEND;TZID=America/Detroit:20281205T200000
DTSTAMP:20260424T231039
CREATED:20260107T173002Z
LAST-MODIFIED:20260107T173002Z
UID:10012036-1859652000-1859659200@preblelibrary.org
SUMMARY:History Hunters
DESCRIPTION:Love history? Join fellow enthusiasts for lively conversations about the past\, from local legends to national events. Whether you’re a casual fan or a history buff\, come share your interests and discover something new!
URL:https://preblelibrary.org/event/history-hunters/2028-12-05/
LOCATION:Preble County Genealogy Room
CATEGORIES:In-Person
ATTACH;FMTTYPE=image/png:https://preblelibrary.org/wp-content/uploads/2026/01/2026.-PC-Room-History-Hunters-Website-Graphic.png
END:VEVENT
BEGIN:VEVENT
DTSTART;TZID=America/Detroit:20290102T180000
DTEND;TZID=America/Detroit:20290102T200000
DTSTAMP:20260424T231039
CREATED:20260107T173002Z
LAST-MODIFIED:20260107T173002Z
UID:10012037-1862071200-1862078400@preblelibrary.org
SUMMARY:History Hunters
DESCRIPTION:Love history? Join fellow enthusiasts for lively conversations about the past\, from local legends to national events. Whether you’re a casual fan or a history buff\, come share your interests and discover something new!
URL:https://preblelibrary.org/event/history-hunters/2029-01-02/
LOCATION:Preble County Genealogy Room
CATEGORIES:In-Person
ATTACH;FMTTYPE=image/png:https://preblelibrary.org/wp-content/uploads/2026/01/2026.-PC-Room-History-Hunters-Website-Graphic.png
END:VEVENT
BEGIN:VEVENT
DTSTART;TZID=America/Detroit:20290206T180000
DTEND;TZID=America/Detroit:20290206T200000
DTSTAMP:20260424T231039
CREATED:20260107T173002Z
LAST-MODIFIED:20260107T173002Z
UID:10012038-1865095200-1865102400@preblelibrary.org
SUMMARY:History Hunters
DESCRIPTION:Love history? Join fellow enthusiasts for lively conversations about the past\, from local legends to national events. Whether you’re a casual fan or a history buff\, come share your interests and discover something new!
URL:https://preblelibrary.org/event/history-hunters/2029-02-06/
LOCATION:Preble County Genealogy Room
CATEGORIES:In-Person
ATTACH;FMTTYPE=image/png:https://preblelibrary.org/wp-content/uploads/2026/01/2026.-PC-Room-History-Hunters-Website-Graphic.png
END:VEVENT
BEGIN:VEVENT
DTSTART;TZID=America/Detroit:20290306T180000
DTEND;TZID=America/Detroit:20290306T200000
DTSTAMP:20260424T231039
CREATED:20260107T173002Z
LAST-MODIFIED:20260107T173002Z
UID:10012039-1867514400-1867521600@preblelibrary.org
SUMMARY:History Hunters
DESCRIPTION:Love history? Join fellow enthusiasts for lively conversations about the past\, from local legends to national events. Whether you’re a casual fan or a history buff\, come share your interests and discover something new!
URL:https://preblelibrary.org/event/history-hunters/2029-03-06/
LOCATION:Preble County Genealogy Room
CATEGORIES:In-Person
ATTACH;FMTTYPE=image/png:https://preblelibrary.org/wp-content/uploads/2026/01/2026.-PC-Room-History-Hunters-Website-Graphic.png
END:VEVENT
BEGIN:VEVENT
DTSTART;TZID=America/Detroit:20290403T180000
DTEND;TZID=America/Detroit:20290403T200000
DTSTAMP:20260424T231039
CREATED:20260107T173002Z
LAST-MODIFIED:20260107T173002Z
UID:10012040-1869933600-1869940800@preblelibrary.org
SUMMARY:History Hunters
DESCRIPTION:Love history? Join fellow enthusiasts for lively conversations about the past\, from local legends to national events. Whether you’re a casual fan or a history buff\, come share your interests and discover something new!
URL:https://preblelibrary.org/event/history-hunters/2029-04-03/
LOCATION:Preble County Genealogy Room
CATEGORIES:In-Person
ATTACH;FMTTYPE=image/png:https://preblelibrary.org/wp-content/uploads/2026/01/2026.-PC-Room-History-Hunters-Website-Graphic.png
END:VEVENT
BEGIN:VEVENT
DTSTART;TZID=America/Detroit:20290501T180000
DTEND;TZID=America/Detroit:20290501T200000
DTSTAMP:20260424T231039
CREATED:20260107T173002Z
LAST-MODIFIED:20260107T173002Z
UID:10012041-1872352800-1872360000@preblelibrary.org
SUMMARY:History Hunters
DESCRIPTION:Love history? Join fellow enthusiasts for lively conversations about the past\, from local legends to national events. Whether you’re a casual fan or a history buff\, come share your interests and discover something new!
URL:https://preblelibrary.org/event/history-hunters/2029-05-01/
LOCATION:Preble County Genealogy Room
CATEGORIES:In-Person
ATTACH;FMTTYPE=image/png:https://preblelibrary.org/wp-content/uploads/2026/01/2026.-PC-Room-History-Hunters-Website-Graphic.png
END:VEVENT
BEGIN:VEVENT
DTSTART;TZID=America/Detroit:20290605T180000
DTEND;TZID=America/Detroit:20290605T200000
DTSTAMP:20260424T231039
CREATED:20260107T173002Z
LAST-MODIFIED:20260107T173002Z
UID:10012042-1875376800-1875384000@preblelibrary.org
SUMMARY:History Hunters
DESCRIPTION:Love history? Join fellow enthusiasts for lively conversations about the past\, from local legends to national events. Whether you’re a casual fan or a history buff\, come share your interests and discover something new!
URL:https://preblelibrary.org/event/history-hunters/2029-06-05/
LOCATION:Preble County Genealogy Room
CATEGORIES:In-Person
ATTACH;FMTTYPE=image/png:https://preblelibrary.org/wp-content/uploads/2026/01/2026.-PC-Room-History-Hunters-Website-Graphic.png
END:VEVENT
BEGIN:VEVENT
DTSTART;TZID=America/Detroit:20290703T180000
DTEND;TZID=America/Detroit:20290703T200000
DTSTAMP:20260424T231039
CREATED:20260107T173002Z
LAST-MODIFIED:20260107T173002Z
UID:10012043-1877796000-1877803200@preblelibrary.org
SUMMARY:History Hunters
DESCRIPTION:Love history? Join fellow enthusiasts for lively conversations about the past\, from local legends to national events. Whether you’re a casual fan or a history buff\, come share your interests and discover something new!
URL:https://preblelibrary.org/event/history-hunters/2029-07-03/
LOCATION:Preble County Genealogy Room
CATEGORIES:In-Person
ATTACH;FMTTYPE=image/png:https://preblelibrary.org/wp-content/uploads/2026/01/2026.-PC-Room-History-Hunters-Website-Graphic.png
END:VEVENT
BEGIN:VEVENT
DTSTART;TZID=America/Detroit:20290807T180000
DTEND;TZID=America/Detroit:20290807T200000
DTSTAMP:20260424T231039
CREATED:20260107T173002Z
LAST-MODIFIED:20260107T173002Z
UID:10012044-1880820000-1880827200@preblelibrary.org
SUMMARY:History Hunters
DESCRIPTION:Love history? Join fellow enthusiasts for lively conversations about the past\, from local legends to national events. Whether you’re a casual fan or a history buff\, come share your interests and discover something new!
URL:https://preblelibrary.org/event/history-hunters/2029-08-07/
LOCATION:Preble County Genealogy Room
CATEGORIES:In-Person
ATTACH;FMTTYPE=image/png:https://preblelibrary.org/wp-content/uploads/2026/01/2026.-PC-Room-History-Hunters-Website-Graphic.png
END:VEVENT
BEGIN:VEVENT
DTSTART;TZID=America/Detroit:20290904T180000
DTEND;TZID=America/Detroit:20290904T200000
DTSTAMP:20260424T231039
CREATED:20260107T173002Z
LAST-MODIFIED:20260107T173002Z
UID:10012045-1883239200-1883246400@preblelibrary.org
SUMMARY:History Hunters
DESCRIPTION:Love history? Join fellow enthusiasts for lively conversations about the past\, from local legends to national events. Whether you’re a casual fan or a history buff\, come share your interests and discover something new!
URL:https://preblelibrary.org/event/history-hunters/2029-09-04/
LOCATION:Preble County Genealogy Room
CATEGORIES:In-Person
ATTACH;FMTTYPE=image/png:https://preblelibrary.org/wp-content/uploads/2026/01/2026.-PC-Room-History-Hunters-Website-Graphic.png
END:VEVENT
BEGIN:VEVENT
DTSTART;TZID=America/Detroit:20291002T180000
DTEND;TZID=America/Detroit:20291002T200000
DTSTAMP:20260424T231039
CREATED:20260107T173002Z
LAST-MODIFIED:20260107T173002Z
UID:10012046-1885658400-1885665600@preblelibrary.org
SUMMARY:History Hunters
DESCRIPTION:Love history? Join fellow enthusiasts for lively conversations about the past\, from local legends to national events. Whether you’re a casual fan or a history buff\, come share your interests and discover something new!
URL:https://preblelibrary.org/event/history-hunters/2029-10-02/
LOCATION:Preble County Genealogy Room
CATEGORIES:In-Person
ATTACH;FMTTYPE=image/png:https://preblelibrary.org/wp-content/uploads/2026/01/2026.-PC-Room-History-Hunters-Website-Graphic.png
END:VEVENT
BEGIN:VEVENT
DTSTART;TZID=America/Detroit:20291106T180000
DTEND;TZID=America/Detroit:20291106T200000
DTSTAMP:20260424T231039
CREATED:20260107T173002Z
LAST-MODIFIED:20260107T173002Z
UID:10012047-1888682400-1888689600@preblelibrary.org
SUMMARY:History Hunters
DESCRIPTION:Love history? Join fellow enthusiasts for lively conversations about the past\, from local legends to national events. Whether you’re a casual fan or a history buff\, come share your interests and discover something new!
URL:https://preblelibrary.org/event/history-hunters/2029-11-06/
LOCATION:Preble County Genealogy Room
CATEGORIES:In-Person
ATTACH;FMTTYPE=image/png:https://preblelibrary.org/wp-content/uploads/2026/01/2026.-PC-Room-History-Hunters-Website-Graphic.png
END:VEVENT
BEGIN:VEVENT
DTSTART;TZID=America/Detroit:20291204T180000
DTEND;TZID=America/Detroit:20291204T200000
DTSTAMP:20260424T231039
CREATED:20260107T173002Z
LAST-MODIFIED:20260107T173002Z
UID:10012048-1891101600-1891108800@preblelibrary.org
SUMMARY:History Hunters
DESCRIPTION:Love history? Join fellow enthusiasts for lively conversations about the past\, from local legends to national events. Whether you’re a casual fan or a history buff\, come share your interests and discover something new!
URL:https://preblelibrary.org/event/history-hunters/2029-12-04/
LOCATION:Preble County Genealogy Room
CATEGORIES:In-Person
ATTACH;FMTTYPE=image/png:https://preblelibrary.org/wp-content/uploads/2026/01/2026.-PC-Room-History-Hunters-Website-Graphic.png
END:VEVENT
BEGIN:VEVENT
DTSTART;TZID=America/Detroit:20300101T180000
DTEND;TZID=America/Detroit:20300101T200000
DTSTAMP:20260424T231039
CREATED:20260107T173002Z
LAST-MODIFIED:20260107T173002Z
UID:10012049-1893520800-1893528000@preblelibrary.org
SUMMARY:History Hunters
DESCRIPTION:Love history? Join fellow enthusiasts for lively conversations about the past\, from local legends to national events. Whether you’re a casual fan or a history buff\, come share your interests and discover something new!
URL:https://preblelibrary.org/event/history-hunters/2030-01-01/
LOCATION:Preble County Genealogy Room
CATEGORIES:In-Person
ATTACH;FMTTYPE=image/png:https://preblelibrary.org/wp-content/uploads/2026/01/2026.-PC-Room-History-Hunters-Website-Graphic.png
END:VEVENT
BEGIN:VEVENT
DTSTART;TZID=America/Detroit:20300205T180000
DTEND;TZID=America/Detroit:20300205T200000
DTSTAMP:20260424T231039
CREATED:20260107T173002Z
LAST-MODIFIED:20260107T173002Z
UID:10012050-1896544800-1896552000@preblelibrary.org
SUMMARY:History Hunters
DESCRIPTION:Love history? Join fellow enthusiasts for lively conversations about the past\, from local legends to national events. Whether you’re a casual fan or a history buff\, come share your interests and discover something new!
URL:https://preblelibrary.org/event/history-hunters/2030-02-05/
LOCATION:Preble County Genealogy Room
CATEGORIES:In-Person
ATTACH;FMTTYPE=image/png:https://preblelibrary.org/wp-content/uploads/2026/01/2026.-PC-Room-History-Hunters-Website-Graphic.png
END:VEVENT
BEGIN:VEVENT
DTSTART;TZID=America/Detroit:20300305T180000
DTEND;TZID=America/Detroit:20300305T200000
DTSTAMP:20260424T231039
CREATED:20260107T173002Z
LAST-MODIFIED:20260107T173002Z
UID:10012051-1898964000-1898971200@preblelibrary.org
SUMMARY:History Hunters
DESCRIPTION:Love history? Join fellow enthusiasts for lively conversations about the past\, from local legends to national events. Whether you’re a casual fan or a history buff\, come share your interests and discover something new!
URL:https://preblelibrary.org/event/history-hunters/2030-03-05/
LOCATION:Preble County Genealogy Room
CATEGORIES:In-Person
ATTACH;FMTTYPE=image/png:https://preblelibrary.org/wp-content/uploads/2026/01/2026.-PC-Room-History-Hunters-Website-Graphic.png
END:VEVENT
BEGIN:VEVENT
DTSTART;TZID=America/Detroit:20300402T180000
DTEND;TZID=America/Detroit:20300402T200000
DTSTAMP:20260424T231039
CREATED:20260107T173002Z
LAST-MODIFIED:20260107T173002Z
UID:10012052-1901383200-1901390400@preblelibrary.org
SUMMARY:History Hunters
DESCRIPTION:Love history? Join fellow enthusiasts for lively conversations about the past\, from local legends to national events. Whether you’re a casual fan or a history buff\, come share your interests and discover something new!
URL:https://preblelibrary.org/event/history-hunters/2030-04-02/
LOCATION:Preble County Genealogy Room
CATEGORIES:In-Person
ATTACH;FMTTYPE=image/png:https://preblelibrary.org/wp-content/uploads/2026/01/2026.-PC-Room-History-Hunters-Website-Graphic.png
END:VEVENT
BEGIN:VEVENT
DTSTART;TZID=America/Detroit:20300507T180000
DTEND;TZID=America/Detroit:20300507T200000
DTSTAMP:20260424T231039
CREATED:20260107T173002Z
LAST-MODIFIED:20260107T173002Z
UID:10012053-1904407200-1904414400@preblelibrary.org
SUMMARY:History Hunters
DESCRIPTION:Love history? Join fellow enthusiasts for lively conversations about the past\, from local legends to national events. Whether you’re a casual fan or a history buff\, come share your interests and discover something new!
URL:https://preblelibrary.org/event/history-hunters/2030-05-07/
LOCATION:Preble County Genealogy Room
CATEGORIES:In-Person
ATTACH;FMTTYPE=image/png:https://preblelibrary.org/wp-content/uploads/2026/01/2026.-PC-Room-History-Hunters-Website-Graphic.png
END:VEVENT
BEGIN:VEVENT
DTSTART;TZID=America/Detroit:20300604T180000
DTEND;TZID=America/Detroit:20300604T200000
DTSTAMP:20260424T231039
CREATED:20260107T173002Z
LAST-MODIFIED:20260107T173002Z
UID:10012054-1906826400-1906833600@preblelibrary.org
SUMMARY:History Hunters
DESCRIPTION:Love history? Join fellow enthusiasts for lively conversations about the past\, from local legends to national events. Whether you’re a casual fan or a history buff\, come share your interests and discover something new!
URL:https://preblelibrary.org/event/history-hunters/2030-06-04/
LOCATION:Preble County Genealogy Room
CATEGORIES:In-Person
ATTACH;FMTTYPE=image/png:https://preblelibrary.org/wp-content/uploads/2026/01/2026.-PC-Room-History-Hunters-Website-Graphic.png
END:VEVENT
BEGIN:VEVENT
DTSTART;TZID=America/Detroit:20300702T180000
DTEND;TZID=America/Detroit:20300702T200000
DTSTAMP:20260424T231039
CREATED:20260107T173002Z
LAST-MODIFIED:20260107T173002Z
UID:10012055-1909245600-1909252800@preblelibrary.org
SUMMARY:History Hunters
DESCRIPTION:Love history? Join fellow enthusiasts for lively conversations about the past\, from local legends to national events. Whether you’re a casual fan or a history buff\, come share your interests and discover something new!
URL:https://preblelibrary.org/event/history-hunters/2030-07-02/
LOCATION:Preble County Genealogy Room
CATEGORIES:In-Person
ATTACH;FMTTYPE=image/png:https://preblelibrary.org/wp-content/uploads/2026/01/2026.-PC-Room-History-Hunters-Website-Graphic.png
END:VEVENT
BEGIN:VEVENT
DTSTART;TZID=America/Detroit:20300806T180000
DTEND;TZID=America/Detroit:20300806T200000
DTSTAMP:20260424T231039
CREATED:20260107T173002Z
LAST-MODIFIED:20260107T173002Z
UID:10012056-1912269600-1912276800@preblelibrary.org
SUMMARY:History Hunters
DESCRIPTION:Love history? Join fellow enthusiasts for lively conversations about the past\, from local legends to national events. Whether you’re a casual fan or a history buff\, come share your interests and discover something new!
URL:https://preblelibrary.org/event/history-hunters/2030-08-06/
LOCATION:Preble County Genealogy Room
CATEGORIES:In-Person
ATTACH;FMTTYPE=image/png:https://preblelibrary.org/wp-content/uploads/2026/01/2026.-PC-Room-History-Hunters-Website-Graphic.png
END:VEVENT
BEGIN:VEVENT
DTSTART;TZID=America/Detroit:20300903T180000
DTEND;TZID=America/Detroit:20300903T200000
DTSTAMP:20260424T231039
CREATED:20260107T173002Z
LAST-MODIFIED:20260107T173002Z
UID:10012057-1914688800-1914696000@preblelibrary.org
SUMMARY:History Hunters
DESCRIPTION:Love history? Join fellow enthusiasts for lively conversations about the past\, from local legends to national events. Whether you’re a casual fan or a history buff\, come share your interests and discover something new!
URL:https://preblelibrary.org/event/history-hunters/2030-09-03/
LOCATION:Preble County Genealogy Room
CATEGORIES:In-Person
ATTACH;FMTTYPE=image/png:https://preblelibrary.org/wp-content/uploads/2026/01/2026.-PC-Room-History-Hunters-Website-Graphic.png
END:VEVENT
BEGIN:VEVENT
DTSTART;TZID=America/Detroit:20301001T180000
DTEND;TZID=America/Detroit:20301001T200000
DTSTAMP:20260424T231039
CREATED:20260107T173002Z
LAST-MODIFIED:20260107T173002Z
UID:10012058-1917108000-1917115200@preblelibrary.org
SUMMARY:History Hunters
DESCRIPTION:Love history? Join fellow enthusiasts for lively conversations about the past\, from local legends to national events. Whether you’re a casual fan or a history buff\, come share your interests and discover something new!
URL:https://preblelibrary.org/event/history-hunters/2030-10-01/
LOCATION:Preble County Genealogy Room
CATEGORIES:In-Person
ATTACH;FMTTYPE=image/png:https://preblelibrary.org/wp-content/uploads/2026/01/2026.-PC-Room-History-Hunters-Website-Graphic.png
END:VEVENT
BEGIN:VEVENT
DTSTART;TZID=America/Detroit:20301105T180000
DTEND;TZID=America/Detroit:20301105T200000
DTSTAMP:20260424T231039
CREATED:20260107T173002Z
LAST-MODIFIED:20260107T173002Z
UID:10012059-1920132000-1920139200@preblelibrary.org
SUMMARY:History Hunters
DESCRIPTION:Love history? Join fellow enthusiasts for lively conversations about the past\, from local legends to national events. Whether you’re a casual fan or a history buff\, come share your interests and discover something new!
URL:https://preblelibrary.org/event/history-hunters/2030-11-05/
LOCATION:Preble County Genealogy Room
CATEGORIES:In-Person
ATTACH;FMTTYPE=image/png:https://preblelibrary.org/wp-content/uploads/2026/01/2026.-PC-Room-History-Hunters-Website-Graphic.png
END:VEVENT
BEGIN:VEVENT
DTSTART;TZID=America/Detroit:20301203T180000
DTEND;TZID=America/Detroit:20301203T200000
DTSTAMP:20260424T231039
CREATED:20260107T173002Z
LAST-MODIFIED:20260107T173002Z
UID:10012060-1922551200-1922558400@preblelibrary.org
SUMMARY:History Hunters
DESCRIPTION:Love history? Join fellow enthusiasts for lively conversations about the past\, from local legends to national events. Whether you’re a casual fan or a history buff\, come share your interests and discover something new!
URL:https://preblelibrary.org/event/history-hunters/2030-12-03/
LOCATION:Preble County Genealogy Room
CATEGORIES:In-Person
ATTACH;FMTTYPE=image/png:https://preblelibrary.org/wp-content/uploads/2026/01/2026.-PC-Room-History-Hunters-Website-Graphic.png
END:VEVENT
BEGIN:VEVENT
DTSTART;TZID=America/Detroit:20310107T180000
DTEND;TZID=America/Detroit:20310107T200000
DTSTAMP:20260424T231039
CREATED:20260107T173002Z
LAST-MODIFIED:20260107T173002Z
UID:10012061-1925575200-1925582400@preblelibrary.org
SUMMARY:History Hunters
DESCRIPTION:Love history? Join fellow enthusiasts for lively conversations about the past\, from local legends to national events. Whether you’re a casual fan or a history buff\, come share your interests and discover something new!
URL:https://preblelibrary.org/event/history-hunters/2031-01-07/
LOCATION:Preble County Genealogy Room
CATEGORIES:In-Person
ATTACH;FMTTYPE=image/png:https://preblelibrary.org/wp-content/uploads/2026/01/2026.-PC-Room-History-Hunters-Website-Graphic.png
END:VEVENT
END:VCALENDAR