BEGIN:VCALENDAR
VERSION:2.0
PRODID:-//Preble County Library - ECPv6.15.20//NONSGML v1.0//EN
CALSCALE:GREGORIAN
METHOD:PUBLISH
X-ORIGINAL-URL:https://preblelibrary.org
X-WR-CALDESC:Events for Preble County Library
REFRESH-INTERVAL;VALUE=DURATION:PT1H
X-Robots-Tag:noindex
X-PUBLISHED-TTL:PT1H
BEGIN:VTIMEZONE
TZID:America/Detroit
BEGIN:DAYLIGHT
TZOFFSETFROM:-0500
TZOFFSETTO:-0400
TZNAME:EDT
DTSTART:20250309T070000
END:DAYLIGHT
BEGIN:STANDARD
TZOFFSETFROM:-0400
TZOFFSETTO:-0500
TZNAME:EST
DTSTART:20251102T060000
END:STANDARD
BEGIN:DAYLIGHT
TZOFFSETFROM:-0500
TZOFFSETTO:-0400
TZNAME:EDT
DTSTART:20260308T070000
END:DAYLIGHT
BEGIN:STANDARD
TZOFFSETFROM:-0400
TZOFFSETTO:-0500
TZNAME:EST
DTSTART:20261101T060000
END:STANDARD
BEGIN:DAYLIGHT
TZOFFSETFROM:-0500
TZOFFSETTO:-0400
TZNAME:EDT
DTSTART:20270314T070000
END:DAYLIGHT
BEGIN:STANDARD
TZOFFSETFROM:-0400
TZOFFSETTO:-0500
TZNAME:EST
DTSTART:20271107T060000
END:STANDARD
END:VTIMEZONE
BEGIN:VEVENT
DTSTART;TZID=America/Detroit:20260714T180000
DTEND;TZID=America/Detroit:20260714T190000
DTSTAMP:20260424T161839
CREATED:20260416T130453Z
LAST-MODIFIED:20260416T130734Z
UID:10012455-1784052000-1784055600@preblelibrary.org
SUMMARY:Adult Program: Petroglyph Rock Art (Unearth a Story)
DESCRIPTION:Try your hand at some Egyptian-style rock art in honor of our summer reading theme (Unearth a Story)! \nAll supplies provided. Sign-up is required – stop by the Eaton Library or call 937-456-4331 to add your name to the list! \nThis is an in-person event only; no grab and go kits will be available.
URL:https://preblelibrary.org/event/adult-program-petroglyph-rock-art-unearth-a-story/
LOCATION:Eaton
CATEGORIES:In-Person
ATTACH;FMTTYPE=image/png:https://preblelibrary.org/wp-content/uploads/2026/04/2026.-Eaton-Adult-Program-Petroglyph-Rock-Art-Unearth-a-Story-2.png
END:VEVENT
BEGIN:VEVENT
DTSTART;TZID=America/Detroit:20260715T110000
DTEND;TZID=America/Detroit:20260715T130000
DTSTAMP:20260424T161839
CREATED:20241112T144226Z
LAST-MODIFIED:20251121T190603Z
UID:10011780-1784113200-1784120400@preblelibrary.org
SUMMARY:Genealogy Workshop
DESCRIPTION:Need help getting your genealogy started? Hit a brick wall? Come down every 3rd Wednesday of the month for free genealogy assistance. Bring your documentation\, notes\, photos\, etc. and get help in putting it all together.
URL:https://preblelibrary.org/event/genealogy-workshop/2026-07-15/
LOCATION:Preble County Genealogy Room
CATEGORIES:In-Person
ATTACH;FMTTYPE=image/png:https://preblelibrary.org/wp-content/uploads/2024/11/Genealogy-Workshop-Banner.png
END:VEVENT
BEGIN:VEVENT
DTSTART;TZID=America/Detroit:20260716T140000
DTEND;TZID=America/Detroit:20260716T153000
DTSTAMP:20260424T161839
CREATED:20260327T143243Z
LAST-MODIFIED:20260421T154350Z
UID:10012334-1784210400-1784215800@preblelibrary.org
SUMMARY:Adult Game Day
DESCRIPTION:Join us for our Adult Game Day! \nWe will have many fun games to play\, such as Yahtzee\, Operation\, Classic Jenga\, Trouble\, and more! You can also bring your favorite games for us to play! Snacks will be provided. \nAdult Game Day will be held on the third Thursday of every month. We hope to see you there!
URL:https://preblelibrary.org/event/adult-game-day-2/2026-07-16/
LOCATION:West Elkton
CATEGORIES:In-Person
ATTACH;FMTTYPE=image/png:https://preblelibrary.org/wp-content/uploads/2026/02/2026.-WE-Adult-Game-Day-Website-Graphic.png
END:VEVENT
BEGIN:VEVENT
DTSTART;TZID=America/Detroit:20260804T180000
DTEND;TZID=America/Detroit:20260804T200000
DTSTAMP:20260424T161839
CREATED:20260107T173002Z
LAST-MODIFIED:20260107T173002Z
UID:10012008-1785866400-1785873600@preblelibrary.org
SUMMARY:History Hunters
DESCRIPTION:Love history? Join fellow enthusiasts for lively conversations about the past\, from local legends to national events. Whether you’re a casual fan or a history buff\, come share your interests and discover something new!
URL:https://preblelibrary.org/event/history-hunters/2026-08-04/
LOCATION:Preble County Genealogy Room
CATEGORIES:In-Person
ATTACH;FMTTYPE=image/png:https://preblelibrary.org/wp-content/uploads/2026/01/2026.-PC-Room-History-Hunters-Website-Graphic.png
END:VEVENT
BEGIN:VEVENT
DTSTART;TZID=America/Detroit:20260806T163000
DTEND;TZID=America/Detroit:20260806T173000
DTSTAMP:20260424T161839
CREATED:20251222T142426Z
LAST-MODIFIED:20260225T151839Z
UID:10012240-1786033800-1786037400@preblelibrary.org
SUMMARY:Rummy Club
DESCRIPTION:Join our Rummy Club! The West Elkton Branch is holding this fun event on the first Thursday of each month! Come join us for rounds of this fun card game\, snacks and friendly competition in a laid-back environment! We hope to see you there! \n 
URL:https://preblelibrary.org/event/rummy-club-5/2026-08-06/
LOCATION:West Elkton
CATEGORIES:In-Person
ATTACH;FMTTYPE=image/png:https://preblelibrary.org/wp-content/uploads/2025/12/2025.-West-Elkton-Rummy-Club-15.png
END:VEVENT
BEGIN:VEVENT
DTSTART;TZID=America/Detroit:20260811T180000
DTEND;TZID=America/Detroit:20260811T190000
DTSTAMP:20260424T161839
CREATED:20260116T124332Z
LAST-MODIFIED:20260116T124332Z
UID:10012097-1786471200-1786474800@preblelibrary.org
SUMMARY:Camden Book Buddies Book Club
DESCRIPTION:If you love reading\, join us for great books and discussion on the second Tuesday of every month!
URL:https://preblelibrary.org/event/camden-book-buddies-book-club/2026-08-11/
LOCATION:Camden
CATEGORIES:Book Club,In-Person
ATTACH;FMTTYPE=image/png:https://preblelibrary.org/wp-content/uploads/2026/01/2026.-Camden-Book-Buddies-Book-Club-Flyer.png
END:VEVENT
BEGIN:VEVENT
DTSTART;TZID=America/Detroit:20260812T180000
DTEND;TZID=America/Detroit:20260812T194500
DTSTAMP:20260424T161839
CREATED:20260409T130012Z
LAST-MODIFIED:20260409T130012Z
UID:10012439-1786557600-1786563900@preblelibrary.org
SUMMARY:Solvers
DESCRIPTION:Attention riddlers\, puzzle-solvers\, and amateur detectives– this new monthly program has all the pieces you’re searching for! \nDo you know the killer in every episode of SVU? Have you worn out your Agatha Christie collection? Do your friends call you up for internet deep-dives on true crime podcasts? \nPut your investigation skills together to solve murder mysteries\, puzzle games\, and escape rooms! \n*This program may include mature themes\, and is strictly offered for ages 18+* \n**This event will be held the second Wednesday of each month.
URL:https://preblelibrary.org/event/solvers/2026-08-12/
LOCATION:Eaton
CATEGORIES:In-Person
ATTACH;FMTTYPE=image/png:https://preblelibrary.org/wp-content/uploads/2025/09/Solvers.png
END:VEVENT
BEGIN:VEVENT
DTSTART;TZID=America/Detroit:20260819T110000
DTEND;TZID=America/Detroit:20260819T130000
DTSTAMP:20260424T161839
CREATED:20241112T144226Z
LAST-MODIFIED:20251121T190603Z
UID:10011781-1787137200-1787144400@preblelibrary.org
SUMMARY:Genealogy Workshop
DESCRIPTION:Need help getting your genealogy started? Hit a brick wall? Come down every 3rd Wednesday of the month for free genealogy assistance. Bring your documentation\, notes\, photos\, etc. and get help in putting it all together.
URL:https://preblelibrary.org/event/genealogy-workshop/2026-08-19/
LOCATION:Preble County Genealogy Room
CATEGORIES:In-Person
ATTACH;FMTTYPE=image/png:https://preblelibrary.org/wp-content/uploads/2024/11/Genealogy-Workshop-Banner.png
END:VEVENT
BEGIN:VEVENT
DTSTART;TZID=America/Detroit:20260820T140000
DTEND;TZID=America/Detroit:20260820T153000
DTSTAMP:20260424T161839
CREATED:20260327T143243Z
LAST-MODIFIED:20260421T154350Z
UID:10012335-1787234400-1787239800@preblelibrary.org
SUMMARY:Adult Game Day
DESCRIPTION:Join us for our Adult Game Day! \nWe will have many fun games to play\, such as Yahtzee\, Operation\, Classic Jenga\, Trouble\, and more! You can also bring your favorite games for us to play! Snacks will be provided. \nAdult Game Day will be held on the third Thursday of every month. We hope to see you there!
URL:https://preblelibrary.org/event/adult-game-day-2/2026-08-20/
LOCATION:West Elkton
CATEGORIES:In-Person
ATTACH;FMTTYPE=image/png:https://preblelibrary.org/wp-content/uploads/2026/02/2026.-WE-Adult-Game-Day-Website-Graphic.png
END:VEVENT
BEGIN:VEVENT
DTSTART;TZID=America/Detroit:20260825T173000
DTEND;TZID=America/Detroit:20260825T183000
DTSTAMP:20260424T161839
CREATED:20260420T131504Z
LAST-MODIFIED:20260420T132215Z
UID:10012456-1787679000-1787682600@preblelibrary.org
SUMMARY:Book Nook Society-Adult Book Club
DESCRIPTION:When the rules limit what books can be sold\, Maggie finds creative ways to keep her friend’s bookshop alive. \nThis month’s Book Nook Society pick\, The Banned Bookshop of Maggie Banks by Shauna Robinson\, is sure to bring laughs—and make you question what you would do.
URL:https://preblelibrary.org/event/book-nook-society-adult-book-club-6/
LOCATION:West Alexandria
CATEGORIES:Book Club,In-Person
ATTACH;FMTTYPE=image/png:https://preblelibrary.org/wp-content/uploads/2026/04/2026.-WA-Book-Nook-Society-The-Banned-Bookshop-of-Maggie-Banks-3.png
END:VEVENT
BEGIN:VEVENT
DTSTART;TZID=America/Detroit:20260901T180000
DTEND;TZID=America/Detroit:20260901T200000
DTSTAMP:20260424T161839
CREATED:20260107T173002Z
LAST-MODIFIED:20260107T173002Z
UID:10012009-1788285600-1788292800@preblelibrary.org
SUMMARY:History Hunters
DESCRIPTION:Love history? Join fellow enthusiasts for lively conversations about the past\, from local legends to national events. Whether you’re a casual fan or a history buff\, come share your interests and discover something new!
URL:https://preblelibrary.org/event/history-hunters/2026-09-01/
LOCATION:Preble County Genealogy Room
CATEGORIES:In-Person
ATTACH;FMTTYPE=image/png:https://preblelibrary.org/wp-content/uploads/2026/01/2026.-PC-Room-History-Hunters-Website-Graphic.png
END:VEVENT
BEGIN:VEVENT
DTSTART;TZID=America/Detroit:20260903T163000
DTEND;TZID=America/Detroit:20260903T173000
DTSTAMP:20260424T161839
CREATED:20251222T142426Z
LAST-MODIFIED:20260225T151839Z
UID:10012241-1788453000-1788456600@preblelibrary.org
SUMMARY:Rummy Club
DESCRIPTION:Join our Rummy Club! The West Elkton Branch is holding this fun event on the first Thursday of each month! Come join us for rounds of this fun card game\, snacks and friendly competition in a laid-back environment! We hope to see you there! \n 
URL:https://preblelibrary.org/event/rummy-club-5/2026-09-03/
LOCATION:West Elkton
CATEGORIES:In-Person
ATTACH;FMTTYPE=image/png:https://preblelibrary.org/wp-content/uploads/2025/12/2025.-West-Elkton-Rummy-Club-15.png
END:VEVENT
BEGIN:VEVENT
DTSTART;TZID=America/Detroit:20260908T180000
DTEND;TZID=America/Detroit:20260908T190000
DTSTAMP:20260424T161839
CREATED:20260116T124332Z
LAST-MODIFIED:20260116T124332Z
UID:10012098-1788890400-1788894000@preblelibrary.org
SUMMARY:Camden Book Buddies Book Club
DESCRIPTION:If you love reading\, join us for great books and discussion on the second Tuesday of every month!
URL:https://preblelibrary.org/event/camden-book-buddies-book-club/2026-09-08/
LOCATION:Camden
CATEGORIES:Book Club,In-Person
ATTACH;FMTTYPE=image/png:https://preblelibrary.org/wp-content/uploads/2026/01/2026.-Camden-Book-Buddies-Book-Club-Flyer.png
END:VEVENT
BEGIN:VEVENT
DTSTART;TZID=America/Detroit:20260909T180000
DTEND;TZID=America/Detroit:20260909T194500
DTSTAMP:20260424T161839
CREATED:20260409T130012Z
LAST-MODIFIED:20260409T130012Z
UID:10012440-1788976800-1788983100@preblelibrary.org
SUMMARY:Solvers
DESCRIPTION:Attention riddlers\, puzzle-solvers\, and amateur detectives– this new monthly program has all the pieces you’re searching for! \nDo you know the killer in every episode of SVU? Have you worn out your Agatha Christie collection? Do your friends call you up for internet deep-dives on true crime podcasts? \nPut your investigation skills together to solve murder mysteries\, puzzle games\, and escape rooms! \n*This program may include mature themes\, and is strictly offered for ages 18+* \n**This event will be held the second Wednesday of each month.
URL:https://preblelibrary.org/event/solvers/2026-09-09/
LOCATION:Eaton
CATEGORIES:In-Person
ATTACH;FMTTYPE=image/png:https://preblelibrary.org/wp-content/uploads/2025/09/Solvers.png
END:VEVENT
BEGIN:VEVENT
DTSTART;TZID=America/Detroit:20260916T110000
DTEND;TZID=America/Detroit:20260916T130000
DTSTAMP:20260424T161839
CREATED:20241112T144226Z
LAST-MODIFIED:20251121T190603Z
UID:10011782-1789556400-1789563600@preblelibrary.org
SUMMARY:Genealogy Workshop
DESCRIPTION:Need help getting your genealogy started? Hit a brick wall? Come down every 3rd Wednesday of the month for free genealogy assistance. Bring your documentation\, notes\, photos\, etc. and get help in putting it all together.
URL:https://preblelibrary.org/event/genealogy-workshop/2026-09-16/
LOCATION:Preble County Genealogy Room
CATEGORIES:In-Person
ATTACH;FMTTYPE=image/png:https://preblelibrary.org/wp-content/uploads/2024/11/Genealogy-Workshop-Banner.png
END:VEVENT
BEGIN:VEVENT
DTSTART;TZID=America/Detroit:20260917T140000
DTEND;TZID=America/Detroit:20260917T153000
DTSTAMP:20260424T161839
CREATED:20260327T143243Z
LAST-MODIFIED:20260421T154350Z
UID:10012336-1789653600-1789659000@preblelibrary.org
SUMMARY:Adult Game Day
DESCRIPTION:Join us for our Adult Game Day! \nWe will have many fun games to play\, such as Yahtzee\, Operation\, Classic Jenga\, Trouble\, and more! You can also bring your favorite games for us to play! Snacks will be provided. \nAdult Game Day will be held on the third Thursday of every month. We hope to see you there!
URL:https://preblelibrary.org/event/adult-game-day-2/2026-09-17/
LOCATION:West Elkton
CATEGORIES:In-Person
ATTACH;FMTTYPE=image/png:https://preblelibrary.org/wp-content/uploads/2026/02/2026.-WE-Adult-Game-Day-Website-Graphic.png
END:VEVENT
BEGIN:VEVENT
DTSTART;TZID=America/Detroit:20261001T163000
DTEND;TZID=America/Detroit:20261001T173000
DTSTAMP:20260424T161839
CREATED:20251222T142426Z
LAST-MODIFIED:20260225T151839Z
UID:10012242-1790872200-1790875800@preblelibrary.org
SUMMARY:Rummy Club
DESCRIPTION:Join our Rummy Club! The West Elkton Branch is holding this fun event on the first Thursday of each month! Come join us for rounds of this fun card game\, snacks and friendly competition in a laid-back environment! We hope to see you there! \n 
URL:https://preblelibrary.org/event/rummy-club-5/2026-10-01/
LOCATION:West Elkton
CATEGORIES:In-Person
ATTACH;FMTTYPE=image/png:https://preblelibrary.org/wp-content/uploads/2025/12/2025.-West-Elkton-Rummy-Club-15.png
END:VEVENT
BEGIN:VEVENT
DTSTART;TZID=America/Detroit:20261006T180000
DTEND;TZID=America/Detroit:20261006T200000
DTSTAMP:20260424T161839
CREATED:20260107T173002Z
LAST-MODIFIED:20260107T173002Z
UID:10012010-1791309600-1791316800@preblelibrary.org
SUMMARY:History Hunters
DESCRIPTION:Love history? Join fellow enthusiasts for lively conversations about the past\, from local legends to national events. Whether you’re a casual fan or a history buff\, come share your interests and discover something new!
URL:https://preblelibrary.org/event/history-hunters/2026-10-06/
LOCATION:Preble County Genealogy Room
CATEGORIES:In-Person
ATTACH;FMTTYPE=image/png:https://preblelibrary.org/wp-content/uploads/2026/01/2026.-PC-Room-History-Hunters-Website-Graphic.png
END:VEVENT
BEGIN:VEVENT
DTSTART;TZID=America/Detroit:20261013T180000
DTEND;TZID=America/Detroit:20261013T190000
DTSTAMP:20260424T161839
CREATED:20260116T124332Z
LAST-MODIFIED:20260116T124332Z
UID:10012099-1791914400-1791918000@preblelibrary.org
SUMMARY:Camden Book Buddies Book Club
DESCRIPTION:If you love reading\, join us for great books and discussion on the second Tuesday of every month!
URL:https://preblelibrary.org/event/camden-book-buddies-book-club/2026-10-13/
LOCATION:Camden
CATEGORIES:Book Club,In-Person
ATTACH;FMTTYPE=image/png:https://preblelibrary.org/wp-content/uploads/2026/01/2026.-Camden-Book-Buddies-Book-Club-Flyer.png
END:VEVENT
BEGIN:VEVENT
DTSTART;TZID=America/Detroit:20261014T180000
DTEND;TZID=America/Detroit:20261014T194500
DTSTAMP:20260424T161839
CREATED:20260409T130012Z
LAST-MODIFIED:20260409T130012Z
UID:10012441-1792000800-1792007100@preblelibrary.org
SUMMARY:Solvers
DESCRIPTION:Attention riddlers\, puzzle-solvers\, and amateur detectives– this new monthly program has all the pieces you’re searching for! \nDo you know the killer in every episode of SVU? Have you worn out your Agatha Christie collection? Do your friends call you up for internet deep-dives on true crime podcasts? \nPut your investigation skills together to solve murder mysteries\, puzzle games\, and escape rooms! \n*This program may include mature themes\, and is strictly offered for ages 18+* \n**This event will be held the second Wednesday of each month.
URL:https://preblelibrary.org/event/solvers/2026-10-14/
LOCATION:Eaton
CATEGORIES:In-Person
ATTACH;FMTTYPE=image/png:https://preblelibrary.org/wp-content/uploads/2025/09/Solvers.png
END:VEVENT
BEGIN:VEVENT
DTSTART;TZID=America/Detroit:20261015T140000
DTEND;TZID=America/Detroit:20261015T153000
DTSTAMP:20260424T161839
CREATED:20260327T143243Z
LAST-MODIFIED:20260421T154350Z
UID:10012337-1792072800-1792078200@preblelibrary.org
SUMMARY:Adult Game Day
DESCRIPTION:Join us for our Adult Game Day! \nWe will have many fun games to play\, such as Yahtzee\, Operation\, Classic Jenga\, Trouble\, and more! You can also bring your favorite games for us to play! Snacks will be provided. \nAdult Game Day will be held on the third Thursday of every month. We hope to see you there!
URL:https://preblelibrary.org/event/adult-game-day-2/2026-10-15/
LOCATION:West Elkton
CATEGORIES:In-Person
ATTACH;FMTTYPE=image/png:https://preblelibrary.org/wp-content/uploads/2026/02/2026.-WE-Adult-Game-Day-Website-Graphic.png
END:VEVENT
BEGIN:VEVENT
DTSTART;TZID=America/Detroit:20261021T110000
DTEND;TZID=America/Detroit:20261021T130000
DTSTAMP:20260424T161839
CREATED:20241112T144226Z
LAST-MODIFIED:20251121T190603Z
UID:10011783-1792580400-1792587600@preblelibrary.org
SUMMARY:Genealogy Workshop
DESCRIPTION:Need help getting your genealogy started? Hit a brick wall? Come down every 3rd Wednesday of the month for free genealogy assistance. Bring your documentation\, notes\, photos\, etc. and get help in putting it all together.
URL:https://preblelibrary.org/event/genealogy-workshop/2026-10-21/
LOCATION:Preble County Genealogy Room
CATEGORIES:In-Person
ATTACH;FMTTYPE=image/png:https://preblelibrary.org/wp-content/uploads/2024/11/Genealogy-Workshop-Banner.png
END:VEVENT
BEGIN:VEVENT
DTSTART;TZID=America/Detroit:20261103T180000
DTEND;TZID=America/Detroit:20261103T200000
DTSTAMP:20260424T161839
CREATED:20260107T173002Z
LAST-MODIFIED:20260107T173002Z
UID:10012011-1793728800-1793736000@preblelibrary.org
SUMMARY:History Hunters
DESCRIPTION:Love history? Join fellow enthusiasts for lively conversations about the past\, from local legends to national events. Whether you’re a casual fan or a history buff\, come share your interests and discover something new!
URL:https://preblelibrary.org/event/history-hunters/2026-11-03/
LOCATION:Preble County Genealogy Room
CATEGORIES:In-Person
ATTACH;FMTTYPE=image/png:https://preblelibrary.org/wp-content/uploads/2026/01/2026.-PC-Room-History-Hunters-Website-Graphic.png
END:VEVENT
BEGIN:VEVENT
DTSTART;TZID=America/Detroit:20261105T163000
DTEND;TZID=America/Detroit:20261105T173000
DTSTAMP:20260424T161839
CREATED:20251222T142426Z
LAST-MODIFIED:20260225T151839Z
UID:10012243-1793896200-1793899800@preblelibrary.org
SUMMARY:Rummy Club
DESCRIPTION:Join our Rummy Club! The West Elkton Branch is holding this fun event on the first Thursday of each month! Come join us for rounds of this fun card game\, snacks and friendly competition in a laid-back environment! We hope to see you there! \n 
URL:https://preblelibrary.org/event/rummy-club-5/2026-11-05/
LOCATION:West Elkton
CATEGORIES:In-Person
ATTACH;FMTTYPE=image/png:https://preblelibrary.org/wp-content/uploads/2025/12/2025.-West-Elkton-Rummy-Club-15.png
END:VEVENT
BEGIN:VEVENT
DTSTART;TZID=America/Detroit:20261110T180000
DTEND;TZID=America/Detroit:20261110T190000
DTSTAMP:20260424T161839
CREATED:20260116T124332Z
LAST-MODIFIED:20260116T124332Z
UID:10012100-1794333600-1794337200@preblelibrary.org
SUMMARY:Camden Book Buddies Book Club
DESCRIPTION:If you love reading\, join us for great books and discussion on the second Tuesday of every month!
URL:https://preblelibrary.org/event/camden-book-buddies-book-club/2026-11-10/
LOCATION:Camden
CATEGORIES:Book Club,In-Person
ATTACH;FMTTYPE=image/png:https://preblelibrary.org/wp-content/uploads/2026/01/2026.-Camden-Book-Buddies-Book-Club-Flyer.png
END:VEVENT
BEGIN:VEVENT
DTSTART;TZID=America/Detroit:20261111T180000
DTEND;TZID=America/Detroit:20261111T194500
DTSTAMP:20260424T161839
CREATED:20260409T130012Z
LAST-MODIFIED:20260409T130012Z
UID:10012442-1794420000-1794426300@preblelibrary.org
SUMMARY:Solvers
DESCRIPTION:Attention riddlers\, puzzle-solvers\, and amateur detectives– this new monthly program has all the pieces you’re searching for! \nDo you know the killer in every episode of SVU? Have you worn out your Agatha Christie collection? Do your friends call you up for internet deep-dives on true crime podcasts? \nPut your investigation skills together to solve murder mysteries\, puzzle games\, and escape rooms! \n*This program may include mature themes\, and is strictly offered for ages 18+* \n**This event will be held the second Wednesday of each month.
URL:https://preblelibrary.org/event/solvers/2026-11-11/
LOCATION:Eaton
CATEGORIES:In-Person
ATTACH;FMTTYPE=image/png:https://preblelibrary.org/wp-content/uploads/2025/09/Solvers.png
END:VEVENT
BEGIN:VEVENT
DTSTART;TZID=America/Detroit:20261118T110000
DTEND;TZID=America/Detroit:20261118T130000
DTSTAMP:20260424T161839
CREATED:20241112T144226Z
LAST-MODIFIED:20251121T190603Z
UID:10011784-1794999600-1795006800@preblelibrary.org
SUMMARY:Genealogy Workshop
DESCRIPTION:Need help getting your genealogy started? Hit a brick wall? Come down every 3rd Wednesday of the month for free genealogy assistance. Bring your documentation\, notes\, photos\, etc. and get help in putting it all together.
URL:https://preblelibrary.org/event/genealogy-workshop/2026-11-18/
LOCATION:Preble County Genealogy Room
CATEGORIES:In-Person
ATTACH;FMTTYPE=image/png:https://preblelibrary.org/wp-content/uploads/2024/11/Genealogy-Workshop-Banner.png
END:VEVENT
BEGIN:VEVENT
DTSTART;TZID=America/Detroit:20261119T140000
DTEND;TZID=America/Detroit:20261119T153000
DTSTAMP:20260424T161839
CREATED:20260327T143243Z
LAST-MODIFIED:20260421T154350Z
UID:10012338-1795096800-1795102200@preblelibrary.org
SUMMARY:Adult Game Day
DESCRIPTION:Join us for our Adult Game Day! \nWe will have many fun games to play\, such as Yahtzee\, Operation\, Classic Jenga\, Trouble\, and more! You can also bring your favorite games for us to play! Snacks will be provided. \nAdult Game Day will be held on the third Thursday of every month. We hope to see you there!
URL:https://preblelibrary.org/event/adult-game-day-2/2026-11-19/
LOCATION:West Elkton
CATEGORIES:In-Person
ATTACH;FMTTYPE=image/png:https://preblelibrary.org/wp-content/uploads/2026/02/2026.-WE-Adult-Game-Day-Website-Graphic.png
END:VEVENT
BEGIN:VEVENT
DTSTART;TZID=America/Detroit:20261201T180000
DTEND;TZID=America/Detroit:20261201T200000
DTSTAMP:20260424T161839
CREATED:20260107T173002Z
LAST-MODIFIED:20260107T173002Z
UID:10012012-1796148000-1796155200@preblelibrary.org
SUMMARY:History Hunters
DESCRIPTION:Love history? Join fellow enthusiasts for lively conversations about the past\, from local legends to national events. Whether you’re a casual fan or a history buff\, come share your interests and discover something new!
URL:https://preblelibrary.org/event/history-hunters/2026-12-01/
LOCATION:Preble County Genealogy Room
CATEGORIES:In-Person
ATTACH;FMTTYPE=image/png:https://preblelibrary.org/wp-content/uploads/2026/01/2026.-PC-Room-History-Hunters-Website-Graphic.png
END:VEVENT
BEGIN:VEVENT
DTSTART;TZID=America/Detroit:20261203T163000
DTEND;TZID=America/Detroit:20261203T173000
DTSTAMP:20260424T161839
CREATED:20251222T142426Z
LAST-MODIFIED:20260225T151839Z
UID:10012244-1796315400-1796319000@preblelibrary.org
SUMMARY:Rummy Club
DESCRIPTION:Join our Rummy Club! The West Elkton Branch is holding this fun event on the first Thursday of each month! Come join us for rounds of this fun card game\, snacks and friendly competition in a laid-back environment! We hope to see you there! \n 
URL:https://preblelibrary.org/event/rummy-club-5/2026-12-03/
LOCATION:West Elkton
CATEGORIES:In-Person
ATTACH;FMTTYPE=image/png:https://preblelibrary.org/wp-content/uploads/2025/12/2025.-West-Elkton-Rummy-Club-15.png
END:VEVENT
END:VCALENDAR