BEGIN:VCALENDAR
VERSION:2.0
PRODID:-//Preble County Library - ECPv6.15.20//NONSGML v1.0//EN
CALSCALE:GREGORIAN
METHOD:PUBLISH
X-ORIGINAL-URL:https://preblelibrary.org
X-WR-CALDESC:Events for Preble County Library
REFRESH-INTERVAL;VALUE=DURATION:PT1H
X-Robots-Tag:noindex
X-PUBLISHED-TTL:PT1H
BEGIN:VTIMEZONE
TZID:America/Detroit
BEGIN:DAYLIGHT
TZOFFSETFROM:-0500
TZOFFSETTO:-0400
TZNAME:EDT
DTSTART:20250309T070000
END:DAYLIGHT
BEGIN:STANDARD
TZOFFSETFROM:-0400
TZOFFSETTO:-0500
TZNAME:EST
DTSTART:20251102T060000
END:STANDARD
BEGIN:DAYLIGHT
TZOFFSETFROM:-0500
TZOFFSETTO:-0400
TZNAME:EDT
DTSTART:20260308T070000
END:DAYLIGHT
BEGIN:STANDARD
TZOFFSETFROM:-0400
TZOFFSETTO:-0500
TZNAME:EST
DTSTART:20261101T060000
END:STANDARD
BEGIN:DAYLIGHT
TZOFFSETFROM:-0500
TZOFFSETTO:-0400
TZNAME:EDT
DTSTART:20270314T070000
END:DAYLIGHT
BEGIN:STANDARD
TZOFFSETFROM:-0400
TZOFFSETTO:-0500
TZNAME:EST
DTSTART:20271107T060000
END:STANDARD
BEGIN:DAYLIGHT
TZOFFSETFROM:-0500
TZOFFSETTO:-0400
TZNAME:EDT
DTSTART:20280312T070000
END:DAYLIGHT
BEGIN:STANDARD
TZOFFSETFROM:-0400
TZOFFSETTO:-0500
TZNAME:EST
DTSTART:20281105T060000
END:STANDARD
BEGIN:DAYLIGHT
TZOFFSETFROM:-0500
TZOFFSETTO:-0400
TZNAME:EDT
DTSTART:20290311T070000
END:DAYLIGHT
BEGIN:STANDARD
TZOFFSETFROM:-0400
TZOFFSETTO:-0500
TZNAME:EST
DTSTART:20291104T060000
END:STANDARD
END:VTIMEZONE
BEGIN:VEVENT
DTSTART;TZID=America/Detroit:20261110T180000
DTEND;TZID=America/Detroit:20261110T190000
DTSTAMP:20260424T185031
CREATED:20260116T124332Z
LAST-MODIFIED:20260116T124332Z
UID:10012100-1794333600-1794337200@preblelibrary.org
SUMMARY:Camden Book Buddies Book Club
DESCRIPTION:If you love reading\, join us for great books and discussion on the second Tuesday of every month!
URL:https://preblelibrary.org/event/camden-book-buddies-book-club/2026-11-10/
LOCATION:Camden
CATEGORIES:Book Club,In-Person
ATTACH;FMTTYPE=image/png:https://preblelibrary.org/wp-content/uploads/2026/01/2026.-Camden-Book-Buddies-Book-Club-Flyer.png
END:VEVENT
BEGIN:VEVENT
DTSTART;TZID=America/Detroit:20261111T180000
DTEND;TZID=America/Detroit:20261111T194500
DTSTAMP:20260424T185031
CREATED:20260409T130012Z
LAST-MODIFIED:20260409T130012Z
UID:10012442-1794420000-1794426300@preblelibrary.org
SUMMARY:Solvers
DESCRIPTION:Attention riddlers\, puzzle-solvers\, and amateur detectives– this new monthly program has all the pieces you’re searching for! \nDo you know the killer in every episode of SVU? Have you worn out your Agatha Christie collection? Do your friends call you up for internet deep-dives on true crime podcasts? \nPut your investigation skills together to solve murder mysteries\, puzzle games\, and escape rooms! \n*This program may include mature themes\, and is strictly offered for ages 18+* \n**This event will be held the second Wednesday of each month.
URL:https://preblelibrary.org/event/solvers/2026-11-11/
LOCATION:Eaton
CATEGORIES:In-Person
ATTACH;FMTTYPE=image/png:https://preblelibrary.org/wp-content/uploads/2025/09/Solvers.png
END:VEVENT
BEGIN:VEVENT
DTSTART;TZID=America/Detroit:20261118T110000
DTEND;TZID=America/Detroit:20261118T130000
DTSTAMP:20260424T185031
CREATED:20241112T144226Z
LAST-MODIFIED:20251121T190603Z
UID:10011784-1794999600-1795006800@preblelibrary.org
SUMMARY:Genealogy Workshop
DESCRIPTION:Need help getting your genealogy started? Hit a brick wall? Come down every 3rd Wednesday of the month for free genealogy assistance. Bring your documentation\, notes\, photos\, etc. and get help in putting it all together.
URL:https://preblelibrary.org/event/genealogy-workshop/2026-11-18/
LOCATION:Preble County Genealogy Room
CATEGORIES:In-Person
ATTACH;FMTTYPE=image/png:https://preblelibrary.org/wp-content/uploads/2024/11/Genealogy-Workshop-Banner.png
END:VEVENT
BEGIN:VEVENT
DTSTART;TZID=America/Detroit:20261119T140000
DTEND;TZID=America/Detroit:20261119T153000
DTSTAMP:20260424T185031
CREATED:20260327T143243Z
LAST-MODIFIED:20260421T154350Z
UID:10012338-1795096800-1795102200@preblelibrary.org
SUMMARY:Adult Game Day
DESCRIPTION:Join us for our Adult Game Day! \nWe will have many fun games to play\, such as Yahtzee\, Operation\, Classic Jenga\, Trouble\, and more! You can also bring your favorite games for us to play! Snacks will be provided. \nAdult Game Day will be held on the third Thursday of every month. We hope to see you there!
URL:https://preblelibrary.org/event/adult-game-day-2/2026-11-19/
LOCATION:West Elkton
CATEGORIES:In-Person
ATTACH;FMTTYPE=image/png:https://preblelibrary.org/wp-content/uploads/2026/02/2026.-WE-Adult-Game-Day-Website-Graphic.png
END:VEVENT
BEGIN:VEVENT
DTSTART;TZID=America/Detroit:20261201T180000
DTEND;TZID=America/Detroit:20261201T200000
DTSTAMP:20260424T185031
CREATED:20260107T173002Z
LAST-MODIFIED:20260107T173002Z
UID:10012012-1796148000-1796155200@preblelibrary.org
SUMMARY:History Hunters
DESCRIPTION:Love history? Join fellow enthusiasts for lively conversations about the past\, from local legends to national events. Whether you’re a casual fan or a history buff\, come share your interests and discover something new!
URL:https://preblelibrary.org/event/history-hunters/2026-12-01/
LOCATION:Preble County Genealogy Room
CATEGORIES:In-Person
ATTACH;FMTTYPE=image/png:https://preblelibrary.org/wp-content/uploads/2026/01/2026.-PC-Room-History-Hunters-Website-Graphic.png
END:VEVENT
BEGIN:VEVENT
DTSTART;TZID=America/Detroit:20261203T163000
DTEND;TZID=America/Detroit:20261203T173000
DTSTAMP:20260424T185031
CREATED:20251222T142426Z
LAST-MODIFIED:20260225T151839Z
UID:10012244-1796315400-1796319000@preblelibrary.org
SUMMARY:Rummy Club
DESCRIPTION:Join our Rummy Club! The West Elkton Branch is holding this fun event on the first Thursday of each month! Come join us for rounds of this fun card game\, snacks and friendly competition in a laid-back environment! We hope to see you there! \n 
URL:https://preblelibrary.org/event/rummy-club-5/2026-12-03/
LOCATION:West Elkton
CATEGORIES:In-Person
ATTACH;FMTTYPE=image/png:https://preblelibrary.org/wp-content/uploads/2025/12/2025.-West-Elkton-Rummy-Club-15.png
END:VEVENT
BEGIN:VEVENT
DTSTART;TZID=America/Detroit:20261208T180000
DTEND;TZID=America/Detroit:20261208T190000
DTSTAMP:20260424T185031
CREATED:20260116T124332Z
LAST-MODIFIED:20260116T124332Z
UID:10012101-1796752800-1796756400@preblelibrary.org
SUMMARY:Camden Book Buddies Book Club
DESCRIPTION:If you love reading\, join us for great books and discussion on the second Tuesday of every month!
URL:https://preblelibrary.org/event/camden-book-buddies-book-club/2026-12-08/
LOCATION:Camden
CATEGORIES:Book Club,In-Person
ATTACH;FMTTYPE=image/png:https://preblelibrary.org/wp-content/uploads/2026/01/2026.-Camden-Book-Buddies-Book-Club-Flyer.png
END:VEVENT
BEGIN:VEVENT
DTSTART;TZID=America/Detroit:20261209T180000
DTEND;TZID=America/Detroit:20261209T194500
DTSTAMP:20260424T185031
CREATED:20260409T130012Z
LAST-MODIFIED:20260409T130012Z
UID:10012443-1796839200-1796845500@preblelibrary.org
SUMMARY:Solvers
DESCRIPTION:Attention riddlers\, puzzle-solvers\, and amateur detectives– this new monthly program has all the pieces you’re searching for! \nDo you know the killer in every episode of SVU? Have you worn out your Agatha Christie collection? Do your friends call you up for internet deep-dives on true crime podcasts? \nPut your investigation skills together to solve murder mysteries\, puzzle games\, and escape rooms! \n*This program may include mature themes\, and is strictly offered for ages 18+* \n**This event will be held the second Wednesday of each month.
URL:https://preblelibrary.org/event/solvers/2026-12-09/
LOCATION:Eaton
CATEGORIES:In-Person
ATTACH;FMTTYPE=image/png:https://preblelibrary.org/wp-content/uploads/2025/09/Solvers.png
END:VEVENT
BEGIN:VEVENT
DTSTART;TZID=America/Detroit:20261216T110000
DTEND;TZID=America/Detroit:20261216T130000
DTSTAMP:20260424T185031
CREATED:20241112T144226Z
LAST-MODIFIED:20251121T190603Z
UID:10011785-1797418800-1797426000@preblelibrary.org
SUMMARY:Genealogy Workshop
DESCRIPTION:Need help getting your genealogy started? Hit a brick wall? Come down every 3rd Wednesday of the month for free genealogy assistance. Bring your documentation\, notes\, photos\, etc. and get help in putting it all together.
URL:https://preblelibrary.org/event/genealogy-workshop/2026-12-16/
LOCATION:Preble County Genealogy Room
CATEGORIES:In-Person
ATTACH;FMTTYPE=image/png:https://preblelibrary.org/wp-content/uploads/2024/11/Genealogy-Workshop-Banner.png
END:VEVENT
BEGIN:VEVENT
DTSTART;TZID=America/Detroit:20261217T140000
DTEND;TZID=America/Detroit:20261217T153000
DTSTAMP:20260424T185031
CREATED:20260327T143243Z
LAST-MODIFIED:20260421T154350Z
UID:10012339-1797516000-1797521400@preblelibrary.org
SUMMARY:Adult Game Day
DESCRIPTION:Join us for our Adult Game Day! \nWe will have many fun games to play\, such as Yahtzee\, Operation\, Classic Jenga\, Trouble\, and more! You can also bring your favorite games for us to play! Snacks will be provided. \nAdult Game Day will be held on the third Thursday of every month. We hope to see you there!
URL:https://preblelibrary.org/event/adult-game-day-2/2026-12-17/
LOCATION:West Elkton
CATEGORIES:In-Person
ATTACH;FMTTYPE=image/png:https://preblelibrary.org/wp-content/uploads/2026/02/2026.-WE-Adult-Game-Day-Website-Graphic.png
END:VEVENT
BEGIN:VEVENT
DTSTART;TZID=America/Detroit:20270105T180000
DTEND;TZID=America/Detroit:20270105T200000
DTSTAMP:20260424T185031
CREATED:20260107T173002Z
LAST-MODIFIED:20260107T173002Z
UID:10012013-1799172000-1799179200@preblelibrary.org
SUMMARY:History Hunters
DESCRIPTION:Love history? Join fellow enthusiasts for lively conversations about the past\, from local legends to national events. Whether you’re a casual fan or a history buff\, come share your interests and discover something new!
URL:https://preblelibrary.org/event/history-hunters/2027-01-05/
LOCATION:Preble County Genealogy Room
CATEGORIES:In-Person
ATTACH;FMTTYPE=image/png:https://preblelibrary.org/wp-content/uploads/2026/01/2026.-PC-Room-History-Hunters-Website-Graphic.png
END:VEVENT
BEGIN:VEVENT
DTSTART;TZID=America/Detroit:20270112T180000
DTEND;TZID=America/Detroit:20270112T190000
DTSTAMP:20260424T185031
CREATED:20260116T124332Z
LAST-MODIFIED:20260116T124332Z
UID:10012102-1799776800-1799780400@preblelibrary.org
SUMMARY:Camden Book Buddies Book Club
DESCRIPTION:If you love reading\, join us for great books and discussion on the second Tuesday of every month!
URL:https://preblelibrary.org/event/camden-book-buddies-book-club/2027-01-12/
LOCATION:Camden
CATEGORIES:Book Club,In-Person
ATTACH;FMTTYPE=image/png:https://preblelibrary.org/wp-content/uploads/2026/01/2026.-Camden-Book-Buddies-Book-Club-Flyer.png
END:VEVENT
BEGIN:VEVENT
DTSTART;TZID=America/Detroit:20270121T140000
DTEND;TZID=America/Detroit:20270121T153000
DTSTAMP:20260424T185031
CREATED:20260327T143243Z
LAST-MODIFIED:20260421T154350Z
UID:10012340-1800540000-1800545400@preblelibrary.org
SUMMARY:Adult Game Day
DESCRIPTION:Join us for our Adult Game Day! \nWe will have many fun games to play\, such as Yahtzee\, Operation\, Classic Jenga\, Trouble\, and more! You can also bring your favorite games for us to play! Snacks will be provided. \nAdult Game Day will be held on the third Thursday of every month. We hope to see you there!
URL:https://preblelibrary.org/event/adult-game-day-2/2027-01-21/
LOCATION:West Elkton
CATEGORIES:In-Person
ATTACH;FMTTYPE=image/png:https://preblelibrary.org/wp-content/uploads/2026/02/2026.-WE-Adult-Game-Day-Website-Graphic.png
END:VEVENT
BEGIN:VEVENT
DTSTART;TZID=America/Detroit:20270202T180000
DTEND;TZID=America/Detroit:20270202T200000
DTSTAMP:20260424T185031
CREATED:20260107T173002Z
LAST-MODIFIED:20260107T173002Z
UID:10012014-1801591200-1801598400@preblelibrary.org
SUMMARY:History Hunters
DESCRIPTION:Love history? Join fellow enthusiasts for lively conversations about the past\, from local legends to national events. Whether you’re a casual fan or a history buff\, come share your interests and discover something new!
URL:https://preblelibrary.org/event/history-hunters/2027-02-02/
LOCATION:Preble County Genealogy Room
CATEGORIES:In-Person
ATTACH;FMTTYPE=image/png:https://preblelibrary.org/wp-content/uploads/2026/01/2026.-PC-Room-History-Hunters-Website-Graphic.png
END:VEVENT
BEGIN:VEVENT
DTSTART;TZID=America/Detroit:20270209T180000
DTEND;TZID=America/Detroit:20270209T190000
DTSTAMP:20260424T185031
CREATED:20260116T124332Z
LAST-MODIFIED:20260116T124332Z
UID:10012103-1802196000-1802199600@preblelibrary.org
SUMMARY:Camden Book Buddies Book Club
DESCRIPTION:If you love reading\, join us for great books and discussion on the second Tuesday of every month!
URL:https://preblelibrary.org/event/camden-book-buddies-book-club/2027-02-09/
LOCATION:Camden
CATEGORIES:Book Club,In-Person
ATTACH;FMTTYPE=image/png:https://preblelibrary.org/wp-content/uploads/2026/01/2026.-Camden-Book-Buddies-Book-Club-Flyer.png
END:VEVENT
BEGIN:VEVENT
DTSTART;TZID=America/Detroit:20270218T140000
DTEND;TZID=America/Detroit:20270218T153000
DTSTAMP:20260424T185031
CREATED:20260327T143243Z
LAST-MODIFIED:20260421T154350Z
UID:10012341-1802959200-1802964600@preblelibrary.org
SUMMARY:Adult Game Day
DESCRIPTION:Join us for our Adult Game Day! \nWe will have many fun games to play\, such as Yahtzee\, Operation\, Classic Jenga\, Trouble\, and more! You can also bring your favorite games for us to play! Snacks will be provided. \nAdult Game Day will be held on the third Thursday of every month. We hope to see you there!
URL:https://preblelibrary.org/event/adult-game-day-2/2027-02-18/
LOCATION:West Elkton
CATEGORIES:In-Person
ATTACH;FMTTYPE=image/png:https://preblelibrary.org/wp-content/uploads/2026/02/2026.-WE-Adult-Game-Day-Website-Graphic.png
END:VEVENT
BEGIN:VEVENT
DTSTART;TZID=America/Detroit:20270302T180000
DTEND;TZID=America/Detroit:20270302T200000
DTSTAMP:20260424T185031
CREATED:20260107T173002Z
LAST-MODIFIED:20260107T173002Z
UID:10012015-1804010400-1804017600@preblelibrary.org
SUMMARY:History Hunters
DESCRIPTION:Love history? Join fellow enthusiasts for lively conversations about the past\, from local legends to national events. Whether you’re a casual fan or a history buff\, come share your interests and discover something new!
URL:https://preblelibrary.org/event/history-hunters/2027-03-02/
LOCATION:Preble County Genealogy Room
CATEGORIES:In-Person
ATTACH;FMTTYPE=image/png:https://preblelibrary.org/wp-content/uploads/2026/01/2026.-PC-Room-History-Hunters-Website-Graphic.png
END:VEVENT
BEGIN:VEVENT
DTSTART;TZID=America/Detroit:20270318T140000
DTEND;TZID=America/Detroit:20270318T153000
DTSTAMP:20260424T185031
CREATED:20260327T143243Z
LAST-MODIFIED:20260421T154350Z
UID:10012342-1805378400-1805383800@preblelibrary.org
SUMMARY:Adult Game Day
DESCRIPTION:Join us for our Adult Game Day! \nWe will have many fun games to play\, such as Yahtzee\, Operation\, Classic Jenga\, Trouble\, and more! You can also bring your favorite games for us to play! Snacks will be provided. \nAdult Game Day will be held on the third Thursday of every month. We hope to see you there!
URL:https://preblelibrary.org/event/adult-game-day-2/2027-03-18/
LOCATION:West Elkton
CATEGORIES:In-Person
ATTACH;FMTTYPE=image/png:https://preblelibrary.org/wp-content/uploads/2026/02/2026.-WE-Adult-Game-Day-Website-Graphic.png
END:VEVENT
BEGIN:VEVENT
DTSTART;TZID=America/Detroit:20270406T180000
DTEND;TZID=America/Detroit:20270406T200000
DTSTAMP:20260424T185031
CREATED:20260107T173002Z
LAST-MODIFIED:20260107T173002Z
UID:10012016-1807034400-1807041600@preblelibrary.org
SUMMARY:History Hunters
DESCRIPTION:Love history? Join fellow enthusiasts for lively conversations about the past\, from local legends to national events. Whether you’re a casual fan or a history buff\, come share your interests and discover something new!
URL:https://preblelibrary.org/event/history-hunters/2027-04-06/
LOCATION:Preble County Genealogy Room
CATEGORIES:In-Person
ATTACH;FMTTYPE=image/png:https://preblelibrary.org/wp-content/uploads/2026/01/2026.-PC-Room-History-Hunters-Website-Graphic.png
END:VEVENT
BEGIN:VEVENT
DTSTART;TZID=America/Detroit:20270415T140000
DTEND;TZID=America/Detroit:20270415T153000
DTSTAMP:20260424T185031
CREATED:20260327T143243Z
LAST-MODIFIED:20260421T154350Z
UID:10012343-1807797600-1807803000@preblelibrary.org
SUMMARY:Adult Game Day
DESCRIPTION:Join us for our Adult Game Day! \nWe will have many fun games to play\, such as Yahtzee\, Operation\, Classic Jenga\, Trouble\, and more! You can also bring your favorite games for us to play! Snacks will be provided. \nAdult Game Day will be held on the third Thursday of every month. We hope to see you there!
URL:https://preblelibrary.org/event/adult-game-day-2/2027-04-15/
LOCATION:West Elkton
CATEGORIES:In-Person
ATTACH;FMTTYPE=image/png:https://preblelibrary.org/wp-content/uploads/2026/02/2026.-WE-Adult-Game-Day-Website-Graphic.png
END:VEVENT
BEGIN:VEVENT
DTSTART;TZID=America/Detroit:20270504T180000
DTEND;TZID=America/Detroit:20270504T200000
DTSTAMP:20260424T185031
CREATED:20260107T173002Z
LAST-MODIFIED:20260107T173002Z
UID:10012017-1809453600-1809460800@preblelibrary.org
SUMMARY:History Hunters
DESCRIPTION:Love history? Join fellow enthusiasts for lively conversations about the past\, from local legends to national events. Whether you’re a casual fan or a history buff\, come share your interests and discover something new!
URL:https://preblelibrary.org/event/history-hunters/2027-05-04/
LOCATION:Preble County Genealogy Room
CATEGORIES:In-Person
ATTACH;FMTTYPE=image/png:https://preblelibrary.org/wp-content/uploads/2026/01/2026.-PC-Room-History-Hunters-Website-Graphic.png
END:VEVENT
BEGIN:VEVENT
DTSTART;TZID=America/Detroit:20270601T180000
DTEND;TZID=America/Detroit:20270601T200000
DTSTAMP:20260424T185031
CREATED:20260107T173002Z
LAST-MODIFIED:20260107T173002Z
UID:10012018-1811872800-1811880000@preblelibrary.org
SUMMARY:History Hunters
DESCRIPTION:Love history? Join fellow enthusiasts for lively conversations about the past\, from local legends to national events. Whether you’re a casual fan or a history buff\, come share your interests and discover something new!
URL:https://preblelibrary.org/event/history-hunters/2027-06-01/
LOCATION:Preble County Genealogy Room
CATEGORIES:In-Person
ATTACH;FMTTYPE=image/png:https://preblelibrary.org/wp-content/uploads/2026/01/2026.-PC-Room-History-Hunters-Website-Graphic.png
END:VEVENT
BEGIN:VEVENT
DTSTART;TZID=America/Detroit:20270706T180000
DTEND;TZID=America/Detroit:20270706T200000
DTSTAMP:20260424T185031
CREATED:20260107T173002Z
LAST-MODIFIED:20260107T173002Z
UID:10012019-1814896800-1814904000@preblelibrary.org
SUMMARY:History Hunters
DESCRIPTION:Love history? Join fellow enthusiasts for lively conversations about the past\, from local legends to national events. Whether you’re a casual fan or a history buff\, come share your interests and discover something new!
URL:https://preblelibrary.org/event/history-hunters/2027-07-06/
LOCATION:Preble County Genealogy Room
CATEGORIES:In-Person
ATTACH;FMTTYPE=image/png:https://preblelibrary.org/wp-content/uploads/2026/01/2026.-PC-Room-History-Hunters-Website-Graphic.png
END:VEVENT
BEGIN:VEVENT
DTSTART;TZID=America/Detroit:20270803T180000
DTEND;TZID=America/Detroit:20270803T200000
DTSTAMP:20260424T185031
CREATED:20260107T173002Z
LAST-MODIFIED:20260107T173002Z
UID:10012020-1817316000-1817323200@preblelibrary.org
SUMMARY:History Hunters
DESCRIPTION:Love history? Join fellow enthusiasts for lively conversations about the past\, from local legends to national events. Whether you’re a casual fan or a history buff\, come share your interests and discover something new!
URL:https://preblelibrary.org/event/history-hunters/2027-08-03/
LOCATION:Preble County Genealogy Room
CATEGORIES:In-Person
ATTACH;FMTTYPE=image/png:https://preblelibrary.org/wp-content/uploads/2026/01/2026.-PC-Room-History-Hunters-Website-Graphic.png
END:VEVENT
BEGIN:VEVENT
DTSTART;TZID=America/Detroit:20270907T180000
DTEND;TZID=America/Detroit:20270907T200000
DTSTAMP:20260424T185031
CREATED:20260107T173002Z
LAST-MODIFIED:20260107T173002Z
UID:10012021-1820340000-1820347200@preblelibrary.org
SUMMARY:History Hunters
DESCRIPTION:Love history? Join fellow enthusiasts for lively conversations about the past\, from local legends to national events. Whether you’re a casual fan or a history buff\, come share your interests and discover something new!
URL:https://preblelibrary.org/event/history-hunters/2027-09-07/
LOCATION:Preble County Genealogy Room
CATEGORIES:In-Person
ATTACH;FMTTYPE=image/png:https://preblelibrary.org/wp-content/uploads/2026/01/2026.-PC-Room-History-Hunters-Website-Graphic.png
END:VEVENT
BEGIN:VEVENT
DTSTART;TZID=America/Detroit:20271005T180000
DTEND;TZID=America/Detroit:20271005T200000
DTSTAMP:20260424T185031
CREATED:20260107T173002Z
LAST-MODIFIED:20260107T173002Z
UID:10012022-1822759200-1822766400@preblelibrary.org
SUMMARY:History Hunters
DESCRIPTION:Love history? Join fellow enthusiasts for lively conversations about the past\, from local legends to national events. Whether you’re a casual fan or a history buff\, come share your interests and discover something new!
URL:https://preblelibrary.org/event/history-hunters/2027-10-05/
LOCATION:Preble County Genealogy Room
CATEGORIES:In-Person
ATTACH;FMTTYPE=image/png:https://preblelibrary.org/wp-content/uploads/2026/01/2026.-PC-Room-History-Hunters-Website-Graphic.png
END:VEVENT
BEGIN:VEVENT
DTSTART;TZID=America/Detroit:20271102T180000
DTEND;TZID=America/Detroit:20271102T200000
DTSTAMP:20260424T185031
CREATED:20260107T173002Z
LAST-MODIFIED:20260107T173002Z
UID:10012023-1825178400-1825185600@preblelibrary.org
SUMMARY:History Hunters
DESCRIPTION:Love history? Join fellow enthusiasts for lively conversations about the past\, from local legends to national events. Whether you’re a casual fan or a history buff\, come share your interests and discover something new!
URL:https://preblelibrary.org/event/history-hunters/2027-11-02/
LOCATION:Preble County Genealogy Room
CATEGORIES:In-Person
ATTACH;FMTTYPE=image/png:https://preblelibrary.org/wp-content/uploads/2026/01/2026.-PC-Room-History-Hunters-Website-Graphic.png
END:VEVENT
BEGIN:VEVENT
DTSTART;TZID=America/Detroit:20271207T180000
DTEND;TZID=America/Detroit:20271207T200000
DTSTAMP:20260424T185031
CREATED:20260107T173002Z
LAST-MODIFIED:20260107T173002Z
UID:10012024-1828202400-1828209600@preblelibrary.org
SUMMARY:History Hunters
DESCRIPTION:Love history? Join fellow enthusiasts for lively conversations about the past\, from local legends to national events. Whether you’re a casual fan or a history buff\, come share your interests and discover something new!
URL:https://preblelibrary.org/event/history-hunters/2027-12-07/
LOCATION:Preble County Genealogy Room
CATEGORIES:In-Person
ATTACH;FMTTYPE=image/png:https://preblelibrary.org/wp-content/uploads/2026/01/2026.-PC-Room-History-Hunters-Website-Graphic.png
END:VEVENT
BEGIN:VEVENT
DTSTART;TZID=America/Detroit:20280104T180000
DTEND;TZID=America/Detroit:20280104T200000
DTSTAMP:20260424T185031
CREATED:20260107T173002Z
LAST-MODIFIED:20260107T173002Z
UID:10012025-1830621600-1830628800@preblelibrary.org
SUMMARY:History Hunters
DESCRIPTION:Love history? Join fellow enthusiasts for lively conversations about the past\, from local legends to national events. Whether you’re a casual fan or a history buff\, come share your interests and discover something new!
URL:https://preblelibrary.org/event/history-hunters/2028-01-04/
LOCATION:Preble County Genealogy Room
CATEGORIES:In-Person
ATTACH;FMTTYPE=image/png:https://preblelibrary.org/wp-content/uploads/2026/01/2026.-PC-Room-History-Hunters-Website-Graphic.png
END:VEVENT
BEGIN:VEVENT
DTSTART;TZID=America/Detroit:20280201T180000
DTEND;TZID=America/Detroit:20280201T200000
DTSTAMP:20260424T185031
CREATED:20260107T173002Z
LAST-MODIFIED:20260107T173002Z
UID:10012026-1833040800-1833048000@preblelibrary.org
SUMMARY:History Hunters
DESCRIPTION:Love history? Join fellow enthusiasts for lively conversations about the past\, from local legends to national events. Whether you’re a casual fan or a history buff\, come share your interests and discover something new!
URL:https://preblelibrary.org/event/history-hunters/2028-02-01/
LOCATION:Preble County Genealogy Room
CATEGORIES:In-Person
ATTACH;FMTTYPE=image/png:https://preblelibrary.org/wp-content/uploads/2026/01/2026.-PC-Room-History-Hunters-Website-Graphic.png
END:VEVENT
END:VCALENDAR