BEGIN:VCALENDAR
VERSION:2.0
PRODID:-//Preble County Library - ECPv6.15.20//NONSGML v1.0//EN
CALSCALE:GREGORIAN
METHOD:PUBLISH
X-ORIGINAL-URL:https://preblelibrary.org
X-WR-CALDESC:Events for Preble County Library
REFRESH-INTERVAL;VALUE=DURATION:PT1H
X-Robots-Tag:noindex
X-PUBLISHED-TTL:PT1H
BEGIN:VTIMEZONE
TZID:America/Detroit
BEGIN:DAYLIGHT
TZOFFSETFROM:-0500
TZOFFSETTO:-0400
TZNAME:EDT
DTSTART:20240310T070000
END:DAYLIGHT
BEGIN:STANDARD
TZOFFSETFROM:-0400
TZOFFSETTO:-0500
TZNAME:EST
DTSTART:20241103T060000
END:STANDARD
BEGIN:DAYLIGHT
TZOFFSETFROM:-0500
TZOFFSETTO:-0400
TZNAME:EDT
DTSTART:20250309T070000
END:DAYLIGHT
BEGIN:STANDARD
TZOFFSETFROM:-0400
TZOFFSETTO:-0500
TZNAME:EST
DTSTART:20251102T060000
END:STANDARD
BEGIN:DAYLIGHT
TZOFFSETFROM:-0500
TZOFFSETTO:-0400
TZNAME:EDT
DTSTART:20260308T070000
END:DAYLIGHT
BEGIN:STANDARD
TZOFFSETFROM:-0400
TZOFFSETTO:-0500
TZNAME:EST
DTSTART:20261101T060000
END:STANDARD
END:VTIMEZONE
BEGIN:VEVENT
DTSTART;VALUE=DATE:20251201
DTEND;VALUE=DATE:20251202
DTSTAMP:20260424T161920
CREATED:20250915T153937Z
LAST-MODIFIED:20250915T153937Z
UID:10011114-1764547200-1764633599@preblelibrary.org
SUMMARY:Give a Roll\, Take a Roll: Holiday Wrapping Paper Exchange
DESCRIPTION:Have leftover or unwanted holiday wrapping paper? Bring it in to share with others! While you’re here\, take a look—you might find the perfect roll for your own gift wrapping needs. \nIt’s a simple way to give\, reuse\, and spread a little holiday cheer. \nDecember 1st-December 23rd\, during regular business hours. \n 
URL:https://preblelibrary.org/event/give-a-roll-take-a-roll-holiday-wrapping-paper-exchange/
LOCATION:West Alexandria
CATEGORIES:In-Person
ATTACH;FMTTYPE=image/png:https://preblelibrary.org/wp-content/uploads/2025/09/2025.-WA-Give-a-Roll-Take-a-Roll-Holiday-Wrapping-Paper-Exchange-Flyer-3.png
END:VEVENT
BEGIN:VEVENT
DTSTART;VALUE=DATE:20251201
DTEND;VALUE=DATE:20251202
DTSTAMP:20260424T161920
CREATED:20251104T172558Z
LAST-MODIFIED:20251104T172558Z
UID:10011201-1764547200-1764633599@preblelibrary.org
SUMMARY:Holiday Fun - Life-Size Candy Land
DESCRIPTION:Get in the game! \nPlay life-size Candy Land at the library during regular business hours\, December 1st – 30th. FUN for all ages!
URL:https://preblelibrary.org/event/holiday-fun-life-size-candy-land/
LOCATION:New Paris
CATEGORIES:In-Person
ATTACH;FMTTYPE=image/png:https://preblelibrary.org/wp-content/uploads/2025/11/2025.-New-Paris-Holiday-Fun-Candy-Land-.png
END:VEVENT
BEGIN:VEVENT
DTSTART;VALUE=DATE:20251201
DTEND;VALUE=DATE:20251202
DTSTAMP:20260424T161920
CREATED:20251107T151514Z
LAST-MODIFIED:20251107T151514Z
UID:10011225-1764547200-1764633599@preblelibrary.org
SUMMARY:Gift of Reading
DESCRIPTION:Visit the library throughout the month of December to receive your very own gift of reading! \nEveryone who stops by can choose one gift-wrapped book from their age group — a surprise just for you! \nUnwrap your mystery book\, curl up\, and unwind for the holidays.
URL:https://preblelibrary.org/event/gift-of-reading/
LOCATION:West Alexandria
CATEGORIES:In-Person
ATTACH;FMTTYPE=image/png:https://preblelibrary.org/wp-content/uploads/2025/11/2025.-WA-Gift-of-Reading-Flyer-2.png
END:VEVENT
BEGIN:VEVENT
DTSTART;TZID=America/Detroit:20251201T080000
DTEND;TZID=America/Detroit:20251230T170000
DTSTAMP:20260424T161920
CREATED:20250520T213506Z
LAST-MODIFIED:20250520T213935Z
UID:10010786-1764576000-1767114000@preblelibrary.org
SUMMARY:Checkout Challenge 2025 - December
DESCRIPTION:What is the Dewey Decimal System?\nThe Dewey Decimal Classification (known as the Dewey Decimal System) is a proprietary library classification system which allows new books to be added to a library in their appropriate location based on subject. Learn more on Wikipedia. \nThis month\, our reading challenge focuses on reading from areas of the Dewey Decimal System: \nCheckout Challenge 2025\nEach month we will challenge you to check out a different genre or type of item found at the library. For every item you check out during that month that fits that category you will be entered to win not only a monthly prize\, but you will also be entered to win our year end gift basket. So\, the more you check out of the monthly category the more chance you have to win!
URL:https://preblelibrary.org/event/checkout-challenge-2025-december/
LOCATION:West Alexandria
CATEGORIES:In-Person
ATTACH;FMTTYPE=image/png:https://preblelibrary.org/wp-content/uploads/2025/02/Checkout-Challenge-December-2025.png
END:VEVENT
BEGIN:VEVENT
DTSTART;TZID=America/Detroit:20251201T173000
DTEND;TZID=America/Detroit:20251201T190000
DTSTAMP:20260424T161920
CREATED:20251029T125933Z
LAST-MODIFIED:20251029T125933Z
UID:10011189-1764610200-1764615600@preblelibrary.org
SUMMARY:Free Family Portraits (West Alexandria Branch)
DESCRIPTION:Say Cheese! \nThe West Alexandria Branch offers FREE family portraits on Monday\, December 1\, from 5:30 PM – 7 PM.\nPhoto sessions will be approximately 10 minutes long.\nDigital copies will be emailed the following week. \nPlease sign up for a time slot in advance by calling 937-533-4095. Registration opens in November . \nWHAT TO EXPECT FROM YOUR PHOTO SESSION:\nPortrait Sessions are scheduled in 10-minute increments. Be sure to remember the specific time slot for which you have registered! If plans change and you cannot make your appointment\, please call the library so the spot may be opened for someone else. \nPlan to arrive early to make the most of your session. You may want a moment before your time begins to take off coats\, fix hair\, or make sure everyone is ready.\nWe aim for these portraits to be as fun and casual as possible! Dress in a way that makes you feel comfortable– whether it’s dress clothes\, holiday attire\, or everyday wear. Feel free to bring props or accessories you want in your photos. Santa hats\, special jewelry\, or even kids’ favorite toys can help personalize your portrait! \nPhotos will be cropped and lightly edited after the session. Digital copies will be emailed to the account used at registration. \nContact Youthservices@preblelibrary.org with any questions about your photo session!
URL:https://preblelibrary.org/event/free-family-portraits-west-alexandria-branch/
LOCATION:West Alexandria
CATEGORIES:In-Person
ATTACH;FMTTYPE=image/png:https://preblelibrary.org/wp-content/uploads/2025/10/Free-Family-Portraits1.png
END:VEVENT
BEGIN:VEVENT
DTSTART;TZID=America/Detroit:20251202T183000
DTEND;TZID=America/Detroit:20251202T193000
DTSTAMP:20260424T161920
CREATED:20251029T130522Z
LAST-MODIFIED:20251029T130522Z
UID:10011190-1764700200-1764703800@preblelibrary.org
SUMMARY:Free Family Portraits (Camden Branch)
DESCRIPTION:Say Cheese! \nThe Camden Branch offers FREE family portraits on Tuesday\, December 2\, from 6:30 PM – 7:30 PM.\nPhoto sessions will be approximately 10 minutes long.\nDigital copies will be emailed the following week. \nPlease sign up for a time slot in advance by calling 937-452-3142. Registration opens in November . \nWHAT TO EXPECT FROM YOUR PHOTO SESSION:\nPortrait Sessions are scheduled in 10-minute increments. Be sure to remember the specific time slot for which you have registered! If plans change and you cannot make your appointment\, please call the library so the spot may be opened for someone else. \nPlan to arrive early to make the most of your session. You may want a moment before your time begins to take off coats\, fix hair\, or make sure everyone is ready.\nWe aim for these portraits to be as fun and casual as possible! Dress in a way that makes you feel comfortable– whether it’s dress clothes\, holiday attire\, or everyday wear. Feel free to bring props or accessories you want in your photos. Santa hats\, special jewelry\, or even kids’ favorite toys can help personalize your portrait! \nPhotos will be cropped and lightly edited after the session. Digital copies will be emailed to the account used at registration. \nContact Youthservices@preblelibrary.org with any questions about your photo session!
URL:https://preblelibrary.org/event/free-family-portraits-camden-branch/
LOCATION:Camden
CATEGORIES:In-Person
ATTACH;FMTTYPE=image/png:https://preblelibrary.org/wp-content/uploads/2025/10/Free-Family-Portraits1.png
END:VEVENT
BEGIN:VEVENT
DTSTART;TZID=America/Detroit:20251204T163000
DTEND;TZID=America/Detroit:20251204T174500
DTSTAMP:20260424T161920
CREATED:20251121T131915Z
LAST-MODIFIED:20251121T131915Z
UID:10011243-1764865800-1764870300@preblelibrary.org
SUMMARY:Decorate the Library!
DESCRIPTION:Time to deck the halls at the Eldorado Library! Come in and help us get festive!
URL:https://preblelibrary.org/event/decorate-the-library/
LOCATION:Eldorado
CATEGORIES:In-Person
ATTACH;FMTTYPE=image/png:https://preblelibrary.org/wp-content/uploads/2025/11/2025.-Eldorado-Decorate-the-Library-Website-Graphic-3.png
END:VEVENT
BEGIN:VEVENT
DTSTART;TZID=America/Detroit:20251204T170000
DTEND;TZID=America/Detroit:20251204T190000
DTSTAMP:20260424T161920
CREATED:20251029T131029Z
LAST-MODIFIED:20251029T131029Z
UID:10011191-1764867600-1764874800@preblelibrary.org
SUMMARY:Free Family Portraits (Eaton Branch)
DESCRIPTION:Say Cheese! \nThe Eaton Branch offers FREE family portraits on Thursday\, December 4\, from 5 PM – 7 PM.\nPhoto sessions will be approximately 10 minutes long.\nDigital copies will be emailed the following week. \nPlease sign up for a time slot in advance by calling 937-456-4331. Registration opens in November . \nWHAT TO EXPECT FROM YOUR PHOTO SESSION:\nPortrait Sessions are scheduled in 10-minute increments. Be sure to remember the specific time slot for which you have registered! If plans change and you cannot make your appointment\, please call the library so the spot may be opened for someone else. \nPlan to arrive early to make the most of your session. You may want a moment before your time begins to take off coats\, fix hair\, or make sure everyone is ready.\nWe aim for these portraits to be as fun and casual as possible! Dress in a way that makes you feel comfortable– whether it’s dress clothes\, holiday attire\, or everyday wear. Feel free to bring props or accessories you want in your photos. Santa hats\, special jewelry\, or even kids’ favorite toys can help personalize your portrait! \nPhotos will be cropped and lightly edited after the session. Digital copies will be emailed to the account used at registration. \nContact Youthservices@preblelibrary.org with any questions about your photo session!
URL:https://preblelibrary.org/event/free-family-portraits-eaton-branch/
LOCATION:Eaton
CATEGORIES:In-Person
ATTACH;FMTTYPE=image/png:https://preblelibrary.org/wp-content/uploads/2025/10/Free-Family-Portraits1.png
END:VEVENT
BEGIN:VEVENT
DTSTART;VALUE=DATE:20251208
DTEND;VALUE=DATE:20251209
DTSTAMP:20260424T161920
CREATED:20250915T154247Z
LAST-MODIFIED:20250915T154247Z
UID:10011115-1765152000-1765238399@preblelibrary.org
SUMMARY:Give a Roll\, Take a Roll: Holiday Wrapping Paper Exchange
DESCRIPTION:Have leftover or unwanted holiday wrapping paper? Bring it in to share with others! While you’re here\, take a look—you might find the perfect roll for your own gift wrapping needs. \nIt’s a simple way to give\, reuse\, and spread a little holiday cheer. \nDecember 1st-December 23rd\, during regular business hours.
URL:https://preblelibrary.org/event/give-a-roll-take-a-roll-holiday-wrapping-paper-exchange-2/
LOCATION:West Alexandria
CATEGORIES:In-Person
ATTACH;FMTTYPE=image/png:https://preblelibrary.org/wp-content/uploads/2025/09/2025.-WA-Give-a-Roll-Take-a-Roll-Holiday-Wrapping-Paper-Exchange-Flyer-3.png
END:VEVENT
BEGIN:VEVENT
DTSTART;VALUE=DATE:20251208
DTEND;VALUE=DATE:20251209
DTSTAMP:20260424T161920
CREATED:20251104T172847Z
LAST-MODIFIED:20251104T172847Z
UID:10011202-1765152000-1765238399@preblelibrary.org
SUMMARY:Holiday Fun - Life-Size Candy Land
DESCRIPTION:Get in the game! \nPlay life-size Candy Land at the library during regular business hours\, December 1st – 30th. FUN for all ages!
URL:https://preblelibrary.org/event/holiday-fun-life-size-candy-land-2/
LOCATION:New Paris
CATEGORIES:In-Person
ATTACH;FMTTYPE=image/png:https://preblelibrary.org/wp-content/uploads/2025/11/2025.-New-Paris-Holiday-Fun-Candy-Land-.png
END:VEVENT
BEGIN:VEVENT
DTSTART;VALUE=DATE:20251208
DTEND;VALUE=DATE:20251209
DTSTAMP:20260424T161920
CREATED:20251107T151738Z
LAST-MODIFIED:20251107T151738Z
UID:10011226-1765152000-1765238399@preblelibrary.org
SUMMARY:Gift of Reading
DESCRIPTION:Visit the library throughout the month of December to receive your very own gift of reading! Everyone who stops by can choose one gift-wrapped book from their age group — a surprise just for you! \nUnwrap your mystery book\, curl up\, and unwind for the holidays.
URL:https://preblelibrary.org/event/gift-of-reading-2/
LOCATION:West Alexandria
CATEGORIES:In-Person
ATTACH;FMTTYPE=image/png:https://preblelibrary.org/wp-content/uploads/2025/11/2025.-WA-Gift-of-Reading-Flyer-2.png
END:VEVENT
BEGIN:VEVENT
DTSTART;TZID=America/Detroit:20251209T180000
DTEND;TZID=America/Detroit:20251209T193000
DTSTAMP:20260424T161920
CREATED:20251029T131425Z
LAST-MODIFIED:20251029T131425Z
UID:10011192-1765303200-1765308600@preblelibrary.org
SUMMARY:Free Family Portraits (New Paris Branch)
DESCRIPTION:Say Cheese! \nThe New Paris Branch offers FREE family portraits on Tuesday\, December 9\, from 6 PM – 7:30 PM.\nPhoto sessions will be approximately 10 minutes long.\nDigital copies will be emailed the following week. \nPlease sign up for a time slot in advance by calling 937-437-7242. Registration opens in November. \nWHAT TO EXPECT FROM YOUR PHOTO SESSION:\nPortrait Sessions are scheduled in 10-minute increments. Be sure to remember the specific time slot for which you have registered! If plans change and you cannot make your appointment\, please call the library so the spot may be opened for someone else. \nPlan to arrive early to make the most of your session. You may want a moment before your time begins to take off coats\, fix hair\, or make sure everyone is ready.\nWe aim for these portraits to be as fun and casual as possible! Dress in a way that makes you feel comfortable– whether it’s dress clothes\, holiday attire\, or everyday wear. Feel free to bring props or accessories you want in your photos. Santa hats\, special jewelry\, or even kids’ favorite toys can help personalize your portrait! \nPhotos will be cropped and lightly edited after the session. Digital copies will be emailed to the account used at registration. \nContact Youthservices@preblelibrary.org with any questions about your photo session!
URL:https://preblelibrary.org/event/free-family-portraits-new-paris-branch/
LOCATION:New Paris
CATEGORIES:In-Person
ATTACH;FMTTYPE=image/png:https://preblelibrary.org/wp-content/uploads/2025/10/Free-Family-Portraits1.png
END:VEVENT
BEGIN:VEVENT
DTSTART;TZID=America/Detroit:20251210T180000
DTEND;TZID=America/Detroit:20251210T194500
DTSTAMP:20260424T161920
CREATED:20250924T183047Z
LAST-MODIFIED:20250924T183047Z
UID:10011140-1765389600-1765395900@preblelibrary.org
SUMMARY:Solvers
DESCRIPTION:Attention riddlers\, puzzle-solvers\, and amateur detectives– this new monthly program has all the pieces you’re searching for! \nDo you know the killer in every episode of SVU? Have you worn out your Agatha Christie collection? Do your friends call you up for internet deep-dives on true crime podcasts? \nPut your investigation skills together to solve murder mysteries\, puzzle games\, and escape rooms! \n*This program may include mature themes\, and is strictly offered for ages 18+* \n**This event will be held the second Wednesday of each month.
URL:https://preblelibrary.org/event/solvers-3/
LOCATION:Eaton
CATEGORIES:In-Person
ATTACH;FMTTYPE=image/png:https://preblelibrary.org/wp-content/uploads/2025/09/Solvers.png
END:VEVENT
BEGIN:VEVENT
DTSTART;TZID=America/Detroit:20251211T163000
DTEND;TZID=America/Detroit:20251211T174500
DTSTAMP:20260424T161920
CREATED:20251121T152506Z
LAST-MODIFIED:20251121T152652Z
UID:10011245-1765470600-1765475100@preblelibrary.org
SUMMARY:Paper Christmas Tree
DESCRIPTION:Give old books new life with a cute little Christmas tree!
URL:https://preblelibrary.org/event/paper-christmas-tree/
LOCATION:Eldorado
CATEGORIES:Crafting,In-Person
ATTACH;FMTTYPE=image/png:https://preblelibrary.org/wp-content/uploads/2025/11/2025.-Paper-Christmas-Tree-Website-Graphic-1.png
END:VEVENT
BEGIN:VEVENT
DTSTART;VALUE=DATE:20251215
DTEND;VALUE=DATE:20251216
DTSTAMP:20260424T161920
CREATED:20250915T154553Z
LAST-MODIFIED:20250915T154553Z
UID:10011116-1765756800-1765843199@preblelibrary.org
SUMMARY:Give a Roll\, Take a Roll: Holiday Wrapping Paper Exchange
DESCRIPTION:Have leftover or unwanted holiday wrapping paper? Bring it in to share with others! While you’re here\, take a look—you might find the perfect roll for your own gift wrapping needs. \nIt’s a simple way to give\, reuse\, and spread a little holiday cheer. \nDecember 1st-December 23rd\, during regular business hours.
URL:https://preblelibrary.org/event/give-a-roll-take-a-roll-holiday-wrapping-paper-exchange-3/
LOCATION:West Alexandria
CATEGORIES:In-Person
ATTACH;FMTTYPE=image/png:https://preblelibrary.org/wp-content/uploads/2025/09/2025.-WA-Give-a-Roll-Take-a-Roll-Holiday-Wrapping-Paper-Exchange-Flyer-3.png
END:VEVENT
BEGIN:VEVENT
DTSTART;VALUE=DATE:20251215
DTEND;VALUE=DATE:20251216
DTSTAMP:20260424T161920
CREATED:20251104T173040Z
LAST-MODIFIED:20251104T173040Z
UID:10011203-1765756800-1765843199@preblelibrary.org
SUMMARY:Holiday Fun - Life-Size Candy Land
DESCRIPTION:Get in the game! \nPlay life-size Candy Land at the library during regular business hours\, December 1st – 30th. FUN for all ages!
URL:https://preblelibrary.org/event/holiday-fun-life-size-candy-land-3/
LOCATION:New Paris
CATEGORIES:In-Person
ATTACH;FMTTYPE=image/png:https://preblelibrary.org/wp-content/uploads/2025/11/2025.-New-Paris-Holiday-Fun-Candy-Land-.png
END:VEVENT
BEGIN:VEVENT
DTSTART;VALUE=DATE:20251215
DTEND;VALUE=DATE:20251216
DTSTAMP:20260424T161920
CREATED:20251107T151918Z
LAST-MODIFIED:20251107T151918Z
UID:10011227-1765756800-1765843199@preblelibrary.org
SUMMARY:Gift of Reading
DESCRIPTION:Visit the library throughout the month of December to receive your very own gift of reading! Everyone who stops by can choose one gift-wrapped book from their age group — a surprise just for you! \nUnwrap your mystery book\, curl up\, and unwind for the holidays.
URL:https://preblelibrary.org/event/gift-of-reading-3/
LOCATION:West Alexandria
CATEGORIES:In-Person
ATTACH;FMTTYPE=image/png:https://preblelibrary.org/wp-content/uploads/2025/11/2025.-WA-Gift-of-Reading-Flyer-2.png
END:VEVENT
BEGIN:VEVENT
DTSTART;TZID=America/Detroit:20251217T160000
DTEND;TZID=America/Detroit:20251217T170000
DTSTAMP:20260424T161920
CREATED:20250805T135608Z
LAST-MODIFIED:20250805T135608Z
UID:10010897-1765987200-1765990800@preblelibrary.org
SUMMARY:Manga Club
DESCRIPTION:Join Us for an Afternoon of Manga Magic! \nCome share and discuss your favorite manga storylines with fellow fans. Whether you’re into action\, romance\, fantasy\, or slice-of-life\, there’s something for everyone to talk about! Manga Club welcomes readers of all ages. \nPlease Note: While all are welcome\, most manga titles are intended for older teens and adults.
URL:https://preblelibrary.org/event/manga-club-7/
LOCATION:West Alexandria
CATEGORIES:Book Club,In-Person
ATTACH;FMTTYPE=image/png:https://preblelibrary.org/wp-content/uploads/2025/08/2025.-WA-Manga-Club.png
END:VEVENT
BEGIN:VEVENT
DTSTART;TZID=America/Detroit:20251218T090000
DTEND;TZID=America/Detroit:20251218T200000
DTSTAMP:20260424T161920
CREATED:20251203T154118Z
LAST-MODIFIED:20251212T210750Z
UID:10011812-1766048400-1766088000@preblelibrary.org
SUMMARY:Christmas Movie Marathon
DESCRIPTION:Join us for a Christmas Movie Marathon on December 18! \nWe’re playing your favorite holiday flicks all throughout the day\, from 9:00 AM to 8:00 PM! Stop in from the seasonal rush for a movie\, popcorn\, a hot cocoa bar\, and a chance to enter our holiday raffle. \nFeaturing seasonal favorites like Elf and Home Alone\, as well as some Christmas classics… we’re sure to have films for the whole family. \nThe Christmas Movie Marathon schedule is as follows:\n\n9:00 – 10:45      Home Alone (1990\, PG)\n10:45 – 12:45    White Christmas (1954\, NR)\n12:45 – 2:30      How the Grinch Stole Christmas (2000\, PG)\n2:30 – 4:00        The Muppet Christmas Carol (1992\, G)\n4:00 –  5:45       Elf (2003\, PG)\n5:45 – 8:00        It’s a Wonderful Life (1946\, PG)\n\nStart times are approximate\, and film selections are subject to change.
URL:https://preblelibrary.org/event/christmas-movie-marathon/
LOCATION:Eaton
CATEGORIES:In-Person
ATTACH;FMTTYPE=image/png:https://preblelibrary.org/wp-content/uploads/2025/12/2025.-Eaton-Christmas-Movie-Marathon-Flyer-2.png
END:VEVENT
BEGIN:VEVENT
DTSTART;TZID=America/Detroit:20251218T163000
DTEND;TZID=America/Detroit:20251218T174500
DTSTAMP:20260424T161920
CREATED:20251121T161509Z
LAST-MODIFIED:20251121T161840Z
UID:10011247-1766075400-1766079900@preblelibrary.org
SUMMARY:Pocket Angels
DESCRIPTION:Make an angel ornament and upcycle an old pants pocket!
URL:https://preblelibrary.org/event/pocket-angels/
LOCATION:Eldorado
CATEGORIES:Crafting,In-Person
ATTACH;FMTTYPE=image/png:https://preblelibrary.org/wp-content/uploads/2025/11/2025.-Eldorado-Pocket-Angels-Website-Graphic-1.png
END:VEVENT
BEGIN:VEVENT
DTSTART;VALUE=DATE:20251222
DTEND;VALUE=DATE:20251223
DTSTAMP:20260424T161920
CREATED:20250915T154748Z
LAST-MODIFIED:20250915T154748Z
UID:10011117-1766361600-1766447999@preblelibrary.org
SUMMARY:Give a Roll\, Take a Roll: Holiday Wrapping Paper Exchange
DESCRIPTION:Have leftover or unwanted holiday wrapping paper? Bring it in to share with others! While you’re here\, take a look—you might find the perfect roll for your own gift wrapping needs. \nIt’s a simple way to give\, reuse\, and spread a little holiday cheer. \nDecember 1st-December 23rd\, during regular business hours.
URL:https://preblelibrary.org/event/give-a-roll-take-a-roll-holiday-wrapping-paper-exchange-4/
LOCATION:West Alexandria
CATEGORIES:In-Person
ATTACH;FMTTYPE=image/png:https://preblelibrary.org/wp-content/uploads/2025/09/2025.-WA-Give-a-Roll-Take-a-Roll-Holiday-Wrapping-Paper-Exchange-Flyer-3.png
END:VEVENT
BEGIN:VEVENT
DTSTART;VALUE=DATE:20251222
DTEND;VALUE=DATE:20251223
DTSTAMP:20260424T161920
CREATED:20251104T173232Z
LAST-MODIFIED:20251104T173232Z
UID:10011204-1766361600-1766447999@preblelibrary.org
SUMMARY:Holiday Fun - Life-Size Candy Land
DESCRIPTION:Get in the game! \nPlay life-size Candy Land at the library during regular business hours\, December 1st – 30th. FUN for all ages!
URL:https://preblelibrary.org/event/holiday-fun-life-size-candy-land-4/
LOCATION:New Paris
CATEGORIES:In-Person
ATTACH;FMTTYPE=image/png:https://preblelibrary.org/wp-content/uploads/2025/11/2025.-New-Paris-Holiday-Fun-Candy-Land-.png
END:VEVENT
BEGIN:VEVENT
DTSTART;VALUE=DATE:20251222
DTEND;VALUE=DATE:20251223
DTSTAMP:20260424T161920
CREATED:20251107T152057Z
LAST-MODIFIED:20251107T152057Z
UID:10011228-1766361600-1766447999@preblelibrary.org
SUMMARY:Gift of Reading
DESCRIPTION:Visit the library throughout the month of December to receive your very own gift of reading! Everyone who stops by can choose one gift-wrapped book from their age group — a surprise just for you! \nUnwrap your mystery book\, curl up\, and unwind for the holidays.
URL:https://preblelibrary.org/event/gift-of-reading-4/
LOCATION:West Alexandria
CATEGORIES:In-Person
ATTACH;FMTTYPE=image/png:https://preblelibrary.org/wp-content/uploads/2025/11/2025.-WA-Gift-of-Reading-Flyer-2.png
END:VEVENT
BEGIN:VEVENT
DTSTART;TZID=America/Detroit:20251222T180000
DTEND;TZID=America/Detroit:20251222T194500
DTSTAMP:20260424T161920
CREATED:20251216T201713Z
LAST-MODIFIED:20251216T204705Z
UID:10011940-1766426400-1766432700@preblelibrary.org
SUMMARY:Santa's Missing!
DESCRIPTION:Santa‘s missing… and we need your help to find him! \nThis holiday program is for adults who like riddles\, mysteries\, and puzzle solving. \nJoin us on December 22nd\, at 6:00 PM at the Eaton branch to help solve this special case and make sure the holiday season can continue without a hitch.
URL:https://preblelibrary.org/event/santas-missing/
LOCATION:Eaton
CATEGORIES:In-Person
ATTACH;FMTTYPE=image/png:https://preblelibrary.org/wp-content/uploads/2025/12/Santa.png
END:VEVENT
BEGIN:VEVENT
DTSTART;VALUE=DATE:20251229
DTEND;VALUE=DATE:20251230
DTSTAMP:20260424T161920
CREATED:20251104T173423Z
LAST-MODIFIED:20251104T173423Z
UID:10011205-1766966400-1767052799@preblelibrary.org
SUMMARY:Holiday Fun - Life-Size Candy Land
DESCRIPTION:Get in the game! \nPlay life-size Candy Land at the library during regular business hours\, December 1st – 30th. FUN for all ages!
URL:https://preblelibrary.org/event/holiday-fun-life-size-candy-land-5/
LOCATION:New Paris
CATEGORIES:In-Person
ATTACH;FMTTYPE=image/png:https://preblelibrary.org/wp-content/uploads/2025/11/2025.-New-Paris-Holiday-Fun-Candy-Land-.png
END:VEVENT
BEGIN:VEVENT
DTSTART;VALUE=DATE:20251229
DTEND;VALUE=DATE:20251230
DTSTAMP:20260424T161920
CREATED:20251107T152230Z
LAST-MODIFIED:20251107T152230Z
UID:10011229-1766966400-1767052799@preblelibrary.org
SUMMARY:Gift of Reading
DESCRIPTION:Visit the library throughout the month of December to receive your very own gift of reading! Everyone who stops by can choose one gift-wrapped book from their age group — a surprise just for you! \nUnwrap your mystery book\, curl up\, and unwind for the holidays.
URL:https://preblelibrary.org/event/gift-of-reading-5/
LOCATION:West Alexandria
CATEGORIES:In-Person
ATTACH;FMTTYPE=image/png:https://preblelibrary.org/wp-content/uploads/2025/11/2025.-WA-Gift-of-Reading-Flyer-2.png
END:VEVENT
END:VCALENDAR