BEGIN:VCALENDAR
VERSION:2.0
PRODID:-//Preble County Library - ECPv6.15.20//NONSGML v1.0//EN
CALSCALE:GREGORIAN
METHOD:PUBLISH
X-WR-CALNAME:Preble County Library
X-ORIGINAL-URL:https://preblelibrary.org
X-WR-CALDESC:Events for Preble County Library
REFRESH-INTERVAL;VALUE=DURATION:PT1H
X-Robots-Tag:noindex
X-PUBLISHED-TTL:PT1H
BEGIN:VTIMEZONE
TZID:America/Detroit
BEGIN:DAYLIGHT
TZOFFSETFROM:-0500
TZOFFSETTO:-0400
TZNAME:EDT
DTSTART:20250309T070000
END:DAYLIGHT
BEGIN:STANDARD
TZOFFSETFROM:-0400
TZOFFSETTO:-0500
TZNAME:EST
DTSTART:20251102T060000
END:STANDARD
BEGIN:DAYLIGHT
TZOFFSETFROM:-0500
TZOFFSETTO:-0400
TZNAME:EDT
DTSTART:20260308T070000
END:DAYLIGHT
BEGIN:STANDARD
TZOFFSETFROM:-0400
TZOFFSETTO:-0500
TZNAME:EST
DTSTART:20261101T060000
END:STANDARD
BEGIN:DAYLIGHT
TZOFFSETFROM:-0500
TZOFFSETTO:-0400
TZNAME:EDT
DTSTART:20270314T070000
END:DAYLIGHT
BEGIN:STANDARD
TZOFFSETFROM:-0400
TZOFFSETTO:-0500
TZNAME:EST
DTSTART:20271107T060000
END:STANDARD
END:VTIMEZONE
BEGIN:VEVENT
DTSTART;VALUE=DATE:20260102
DTEND;VALUE=DATE:20260103
DTSTAMP:20260424T150121
CREATED:20251209T150915Z
LAST-MODIFIED:20251209T160923Z
UID:10011868-1767312000-1767398399@preblelibrary.org
SUMMARY:Winter Reading - Level Up at Your Library
DESCRIPTION:It’s that time again—Winter Reading is back at the West Alexandria Library! This year\, we’re leveling up with all things gaming from Jan 2 – Feb 28. \nSign-up begins January 2\, and the last day to turn in your completed items is February 28. \nChildren (ages 0–12): You’ll be placed on one of three teams\, each captained by a librarian. \nTeens (ages 12–17) & Adults (18+): Challenge our librarians to see who can complete the most coveralls! \nAll winter long\, enjoy games\, books about games\, and even more games—it’s the perfect way to read\, play\, and have fun this winter. \nLevel up your reading skills and game knowledge—join us at the library and let the fun begin!
URL:https://preblelibrary.org/event/winter-reading-level-up-at-your-library/
LOCATION:West Alexandria
CATEGORIES:In-Person
ATTACH;FMTTYPE=image/png:https://preblelibrary.org/wp-content/uploads/2025/12/2026.-West-Alexandria-Winter-Reading-Level-Up-at-Your-Library-Flyer-10.png
END:VEVENT
BEGIN:VEVENT
DTSTART;TZID=America/Detroit:20260106T140000
DTEND;TZID=America/Detroit:20260106T200000
DTSTAMP:20260424T150121
CREATED:20251210T143820Z
LAST-MODIFIED:20251210T143820Z
UID:10011878-1767708000-1767729600@preblelibrary.org
SUMMARY:Board Game Day
DESCRIPTION:Join us at the New Paris Library and play some board games with your family and friends. We hope to see you there!
URL:https://preblelibrary.org/event/board-game-day-3/
LOCATION:New Paris
CATEGORIES:In-Person
ATTACH;FMTTYPE=image/png:https://preblelibrary.org/wp-content/uploads/2025/08/2025.-New-Paris-Board-Game-Day-Website-Graphic.png
END:VEVENT
BEGIN:VEVENT
DTSTART;VALUE=DATE:20260109
DTEND;VALUE=DATE:20260110
DTSTAMP:20260424T150121
CREATED:20251209T151229Z
LAST-MODIFIED:20251209T160856Z
UID:10011869-1767916800-1768003199@preblelibrary.org
SUMMARY:Winter Reading - Level Up at Your Library
DESCRIPTION:It’s that time again—Winter Reading is back at the West Alexandria Library! This year\, we’re leveling up with all things gaming from Jan 2 – Feb 28. \nSign-up begins January 2\, and the last day to turn in your completed items is February 28. \nChildren (ages 0–12): You’ll be placed on one of three teams\, each captained by a librarian. \nTeens (ages 12–17) & Adults (18+): Challenge our librarians to see who can complete the most coveralls! \nAll winter long\, enjoy games\, books about games\, and even more games—it’s the perfect way to read\, play\, and have fun this winter. \nLevel up your reading skills and game knowledge—join us at the library and let the fun begin!
URL:https://preblelibrary.org/event/winter-reading-level-up-at-your-library-2/
LOCATION:West Alexandria
CATEGORIES:In-Person
ATTACH;FMTTYPE=image/png:https://preblelibrary.org/wp-content/uploads/2025/12/2026.-West-Alexandria-Winter-Reading-Level-Up-at-Your-Library-Flyer-10.png
END:VEVENT
BEGIN:VEVENT
DTSTART;TZID=America/Detroit:20260110T110000
DTEND;TZID=America/Detroit:20260110T130000
DTSTAMP:20260424T150121
CREATED:20251211T133552Z
LAST-MODIFIED:20251211T141016Z
UID:10011883-1768042800-1768050000@preblelibrary.org
SUMMARY:Level Up at Your Library Game Day Saturdays
DESCRIPTION:Saturday Game Days – Join us on Saturdays in January! \nLooking for something fun to do this winter? Come join us for new gaming adventures on Saturdays in January! Each week features a different theme with a variety of games to try. We’ll have plenty of games available—or bring your own to match the week’s theme! \nGame Day Schedule: \nSaturday\, January 10 – Card Games\nPlay classic and silly favorites like:\nUNO\, Reading Dragons\, Old Maid\, Go Fish\, and so much more! \nSaturday\, January 17 – Dice Games\nRoll the fun with:\nTenzi\, Penny Drop\, Yahtzee\, Yamslam\, Boggle\, Scrabble and more! \nSaturday\, January 24 – Memory Games\nTest your memory with themed games including:\nDisney\, Spiderman\, Strawberry Shortcake\, Blue’s Clues\, Pokémon\, and our very own Pizza Toppings Game! \nSaturday\, January 31 – LEGO Challenges\nGet ready to build\, create\, and compete in fun LEGO challenges!\nThis week is all about imagination and creativity.
URL:https://preblelibrary.org/event/level-up-at-your-library-game-day-saturdays/
LOCATION:West Alexandria
CATEGORIES:In-Person
ATTACH;FMTTYPE=image/png:https://preblelibrary.org/wp-content/uploads/2025/12/2025.-WA-Example-Flyer-for-Grab-Go-Kits-3.png
END:VEVENT
BEGIN:VEVENT
DTSTART;TZID=America/Detroit:20260114T180000
DTEND;TZID=America/Detroit:20260114T194500
DTSTAMP:20260424T150121
CREATED:20251219T135954Z
LAST-MODIFIED:20251219T135954Z
UID:10011941-1768413600-1768419900@preblelibrary.org
SUMMARY:Solvers
DESCRIPTION:Attention riddlers\, puzzle-solvers\, and amateur detectives– this new monthly program has all the pieces you’re searching for! \nDo you know the killer in every episode of SVU? Have you worn out your Agatha Christie collection? Do your friends call you up for internet deep-dives on true crime podcasts? \nPut your investigation skills together to solve murder mysteries\, puzzle games\, and escape rooms! \n*This program may include mature themes\, and is strictly offered for ages 18+* \n**This event will be held the second Wednesday of each month.
URL:https://preblelibrary.org/event/solvers-4/
LOCATION:Eaton
CATEGORIES:In-Person
ATTACH;FMTTYPE=image/png:https://preblelibrary.org/wp-content/uploads/2025/09/Solvers.png
END:VEVENT
BEGIN:VEVENT
DTSTART;TZID=America/Detroit:20260115T163000
DTEND;TZID=America/Detroit:20260115T174500
DTSTAMP:20260424T150121
CREATED:20260107T163024Z
LAST-MODIFIED:20260107T163024Z
UID:10012001-1768494600-1768499100@preblelibrary.org
SUMMARY:Rock Penguins
DESCRIPTION:Make a little buddy who will thrive in the cold to help you weather the rest of winter!
URL:https://preblelibrary.org/event/rock-penguins-2/
LOCATION:Eldorado
CATEGORIES:Crafting,In-Person
ATTACH;FMTTYPE=image/png:https://preblelibrary.org/wp-content/uploads/2026/01/2026.-Eldorado-Rock-Penguins-Website-Graphic.png
END:VEVENT
BEGIN:VEVENT
DTSTART;VALUE=DATE:20260116
DTEND;VALUE=DATE:20260117
DTSTAMP:20260424T150121
CREATED:20251209T151849Z
LAST-MODIFIED:20251209T161030Z
UID:10011870-1768521600-1768607999@preblelibrary.org
SUMMARY:Winter Reading - Level Up at Your Library
DESCRIPTION:It’s that time again—Winter Reading is back at the West Alexandria Library! This year\, we’re leveling up with all things gaming from Jan 2 – Feb 28. \nSign-up begins January 2\, and the last day to turn in your completed items is February 28. \nChildren (ages 0–12): You’ll be placed on one of three teams\, each captained by a librarian. \nTeens (ages 12–17) & Adults (18+): Challenge our librarians to see who can complete the most coveralls! \nAll winter long\, enjoy games\, books about games\, and even more games—it’s the perfect way to read\, play\, and have fun this winter. \nLevel up your reading skills and game knowledge—join us at the library and let the fun begin!
URL:https://preblelibrary.org/event/winter-reading-level-up-at-your-library-3/
LOCATION:West Alexandria
CATEGORIES:In-Person
ATTACH;FMTTYPE=image/png:https://preblelibrary.org/wp-content/uploads/2025/12/2026.-West-Alexandria-Winter-Reading-Level-Up-at-Your-Library-Flyer-10.png
END:VEVENT
BEGIN:VEVENT
DTSTART;TZID=America/Detroit:20260117T110000
DTEND;TZID=America/Detroit:20260117T130000
DTSTAMP:20260424T150121
CREATED:20251211T133838Z
LAST-MODIFIED:20251211T140907Z
UID:10011884-1768647600-1768654800@preblelibrary.org
SUMMARY:Level Up at Your Library Game Day Saturdays
DESCRIPTION:Saturday Game Days – Join us on Saturdays in January! \nLooking for something fun to do this winter? Come join us for new gaming adventures on Saturdays in January! Each week features a different theme with a variety of games to try. We’ll have plenty of games available—or bring your own to match the week’s theme! \nGame Day Schedule: \nSaturday\, January 10 – Card Games\nPlay classic and silly favorites like:\nUNO\, Reading Dragons\, Old Maid\, Go Fish\, and so much more! \nSaturday\, January 17 – Dice Games\nRoll the fun with:\nTenzi\, Penny Drop\, Yahtzee\, Yamslam\, Boggle\, Scrabble and more! \nSaturday\, January 24 – Memory Games\nTest your memory with themed games including:\nDisney\, Spiderman\, Strawberry Shortcake\, Blue’s Clues\, Pokémon\, and our very own Pizza Toppings Game! \nSaturday\, January 31 – LEGO Challenges\nGet ready to build\, create\, and compete in fun LEGO challenges!\nThis week is all about imagination and creativity.
URL:https://preblelibrary.org/event/level-up-at-your-library-game-day-saturdays-2/
LOCATION:West Alexandria
CATEGORIES:In-Person
ATTACH;FMTTYPE=image/png:https://preblelibrary.org/wp-content/uploads/2025/12/2025.-WA-Example-Flyer-for-Grab-Go-Kits-3.png
END:VEVENT
BEGIN:VEVENT
DTSTART;TZID=America/Detroit:20260122T163000
DTEND;TZID=America/Detroit:20260122T174500
DTSTAMP:20260424T150121
CREATED:20260107T161449Z
LAST-MODIFIED:20260107T161449Z
UID:10012000-1769099400-1769103900@preblelibrary.org
SUMMARY:Painted Snowman
DESCRIPTION:Paint a snowman to grace your front step—or wherever you’d like to put him!
URL:https://preblelibrary.org/event/painted-snowman/
LOCATION:Eldorado
CATEGORIES:Crafting,In-Person
ATTACH;FMTTYPE=image/png:https://preblelibrary.org/wp-content/uploads/2026/01/2026.-Eldorado-Painted-Snowman-Website-Graphic.png
END:VEVENT
BEGIN:VEVENT
DTSTART;VALUE=DATE:20260123
DTEND;VALUE=DATE:20260124
DTSTAMP:20260424T150121
CREATED:20251209T152049Z
LAST-MODIFIED:20251209T161102Z
UID:10011871-1769126400-1769212799@preblelibrary.org
SUMMARY:Winter Reading - Level Up at Your Library
DESCRIPTION:It’s that time again—Winter Reading is back at the West Alexandria Library! This year\, we’re leveling up with all things gaming from Jan 2 – Feb 28. \nSign-up begins January 2\, and the last day to turn in your completed items is February 28. \nChildren (ages 0–12): You’ll be placed on one of three teams\, each captained by a librarian. \nTeens (ages 12–17) & Adults (18+): Challenge our librarians to see who can complete the most coveralls! \nAll winter long\, enjoy games\, books about games\, and even more games—it’s the perfect way to read\, play\, and have fun this winter. \nLevel up your reading skills and game knowledge—join us at the library and let the fun begin!
URL:https://preblelibrary.org/event/winter-reading-level-up-at-your-library-4/
LOCATION:West Alexandria
CATEGORIES:In-Person
ATTACH;FMTTYPE=image/png:https://preblelibrary.org/wp-content/uploads/2025/12/2026.-West-Alexandria-Winter-Reading-Level-Up-at-Your-Library-Flyer-10.png
END:VEVENT
BEGIN:VEVENT
DTSTART;TZID=America/Detroit:20260124T110000
DTEND;TZID=America/Detroit:20260124T130000
DTSTAMP:20260424T150121
CREATED:20251211T134102Z
LAST-MODIFIED:20251211T140832Z
UID:10011885-1769252400-1769259600@preblelibrary.org
SUMMARY:Level Up at Your Library Game Day Saturdays
DESCRIPTION:Saturday Game Days – Join us on Saturdays in January! \nLooking for something fun to do this winter? Come join us for new gaming adventures on Saturdays in January! Each week features a different theme with a variety of games to try. We’ll have plenty of games available—or bring your own to match the week’s theme! \nGame Day Schedule: \nSaturday\, January 10 – Card Games\nPlay classic and silly favorites like:\nUNO\, Reading Dragons\, Old Maid\, Go Fish\, and so much more! \nSaturday\, January 17 – Dice Games\nRoll the fun with:\nTenzi\, Penny Drop\, Yahtzee\, Yamslam\, Boggle\, Scrabble and more! \nSaturday\, January 24 – Memory Games\nTest your memory with themed games including:\nDisney\, Spiderman\, Strawberry Shortcake\, Blue’s Clues\, Pokémon\, and our very own Pizza Toppings Game! \nSaturday\, January 31 – LEGO Challenges\nGet ready to build\, create\, and compete in fun LEGO challenges!\nThis week is all about imagination and creativity.
URL:https://preblelibrary.org/event/level-up-at-your-library-game-day-saturdays-3/
LOCATION:West Alexandria
CATEGORIES:In-Person
ATTACH;FMTTYPE=image/png:https://preblelibrary.org/wp-content/uploads/2025/12/2025.-WA-Example-Flyer-for-Grab-Go-Kits-3.png
END:VEVENT
BEGIN:VEVENT
DTSTART;TZID=America/Detroit:20260128T180000
DTEND;TZID=America/Detroit:20260128T193000
DTSTAMP:20260424T150121
CREATED:20260115T213910Z
LAST-MODIFIED:20260115T213910Z
UID:10012086-1769623200-1769628600@preblelibrary.org
SUMMARY:AYA Book Club
DESCRIPTION:This Adult/Young Adult Book Club is for ages 18+. \nFor each meeting\, a few FREE copies of our selected book club title will be available\, beginning the first of the month. Please register and pick up a copy in advance\, read the book\, and then join us for a relaxed discussion on the scheduled program date. That’s it! We’ll provide the meeting space; you bring the conversation.
URL:https://preblelibrary.org/event/aya-book-club-3/2026-01-28/
LOCATION:Eaton
CATEGORIES:Book Club,In-Person
ATTACH;FMTTYPE=image/png:https://preblelibrary.org/wp-content/uploads/2026/01/AYA-Book-Club.png
END:VEVENT
BEGIN:VEVENT
DTSTART;VALUE=DATE:20260130
DTEND;VALUE=DATE:20260131
DTSTAMP:20260424T150121
CREATED:20251209T152254Z
LAST-MODIFIED:20251209T161154Z
UID:10011872-1769731200-1769817599@preblelibrary.org
SUMMARY:Winter Reading - Level Up at Your Library
DESCRIPTION:It’s that time again—Winter Reading is back at the West Alexandria Library! This year\, we’re leveling up with all things gaming from Jan 2 – Feb 28. \nSign-up begins January 2\, and the last day to turn in your completed items is February 28. \nChildren (ages 0–12): You’ll be placed on one of three teams\, each captained by a librarian. \nTeens (ages 12–17) & Adults (18+): Challenge our librarians to see who can complete the most coveralls! \nAll winter long\, enjoy games\, books about games\, and even more games—it’s the perfect way to read\, play\, and have fun this winter. \nLevel up your reading skills and game knowledge—join us at the library and let the fun begin!
URL:https://preblelibrary.org/event/winter-reading-level-up-at-your-library-5/
LOCATION:West Alexandria
CATEGORIES:In-Person
ATTACH;FMTTYPE=image/png:https://preblelibrary.org/wp-content/uploads/2025/12/2026.-West-Alexandria-Winter-Reading-Level-Up-at-Your-Library-Flyer-10.png
END:VEVENT
BEGIN:VEVENT
DTSTART;TZID=America/Detroit:20260131T110000
DTEND;TZID=America/Detroit:20260131T130000
DTSTAMP:20260424T150121
CREATED:20251211T134317Z
LAST-MODIFIED:20251211T140757Z
UID:10011886-1769857200-1769864400@preblelibrary.org
SUMMARY:Level Up at Your Library Game Day Saturdays
DESCRIPTION:Saturday Game Days – Join us on Saturdays in January! \nLooking for something fun to do this winter? Come join us for new gaming adventures on Saturdays in January! Each week features a different theme with a variety of games to try. We’ll have plenty of games available—or bring your own to match the week’s theme! \nGame Day Schedule: \nSaturday\, January 10 – Card Games\nPlay classic and silly favorites like:\nUNO\, Reading Dragons\, Old Maid\, Go Fish\, and so much more! \nSaturday\, January 17 – Dice Games\nRoll the fun with:\nTenzi\, Penny Drop\, Yahtzee\, Yamslam\, Boggle\, Scrabble and more! \nSaturday\, January 24 – Memory Games\nTest your memory with themed games including:\nDisney\, Spiderman\, Strawberry Shortcake\, Blue’s Clues\, Pokémon\, and our very own Pizza Toppings Game! \nSaturday\, January 31 – LEGO Challenges\nGet ready to build\, create\, and compete in fun LEGO challenges!\nThis week is all about imagination and creativity.
URL:https://preblelibrary.org/event/level-up-at-your-library-game-day-saturdays-4/
LOCATION:West Alexandria
CATEGORIES:In-Person
ATTACH;FMTTYPE=image/png:https://preblelibrary.org/wp-content/uploads/2025/12/2025.-WA-Example-Flyer-for-Grab-Go-Kits-3.png
END:VEVENT
END:VCALENDAR