BEGIN:VCALENDAR
VERSION:2.0
PRODID:-//Preble County Library - ECPv6.15.20//NONSGML v1.0//EN
CALSCALE:GREGORIAN
METHOD:PUBLISH
X-ORIGINAL-URL:https://preblelibrary.org
X-WR-CALDESC:Events for Preble County Library
REFRESH-INTERVAL;VALUE=DURATION:PT1H
X-Robots-Tag:noindex
X-PUBLISHED-TTL:PT1H
BEGIN:VTIMEZONE
TZID:America/Detroit
BEGIN:DAYLIGHT
TZOFFSETFROM:-0500
TZOFFSETTO:-0400
TZNAME:EDT
DTSTART:20240310T070000
END:DAYLIGHT
BEGIN:STANDARD
TZOFFSETFROM:-0400
TZOFFSETTO:-0500
TZNAME:EST
DTSTART:20241103T060000
END:STANDARD
BEGIN:DAYLIGHT
TZOFFSETFROM:-0500
TZOFFSETTO:-0400
TZNAME:EDT
DTSTART:20250309T070000
END:DAYLIGHT
BEGIN:STANDARD
TZOFFSETFROM:-0400
TZOFFSETTO:-0500
TZNAME:EST
DTSTART:20251102T060000
END:STANDARD
BEGIN:DAYLIGHT
TZOFFSETFROM:-0500
TZOFFSETTO:-0400
TZNAME:EDT
DTSTART:20260308T070000
END:DAYLIGHT
BEGIN:STANDARD
TZOFFSETFROM:-0400
TZOFFSETTO:-0500
TZNAME:EST
DTSTART:20261101T060000
END:STANDARD
END:VTIMEZONE
BEGIN:VEVENT
DTSTART;TZID=America/Detroit:20251106T164500
DTEND;TZID=America/Detroit:20251106T173000
DTSTAMP:20260424T214500
CREATED:20250820T185737Z
LAST-MODIFIED:20250820T185737Z
UID:10010992-1762447500-1762450200@preblelibrary.org
SUMMARY:Family Storytime
DESCRIPTION:Registration is now open for the autumn session of storytime at the Eaton Branch. \nFamily Storytime is for families with children ages 0 to 5 years. This class is available on Thursday at 4:45 PM. This is a 45-minute class. \nThe autumn session will run from October 1 through November 6. Call the Eaton Branch at 937-456-4331 to register. \nOur storytimes are formulated around the Every Child Ready to Read initiative\, which focuses on the five early literacy practices of talking\, singing\, reading\, writing\, and playing.
URL:https://preblelibrary.org/event/family-storytime/2025-11-06/
LOCATION:Eaton
CATEGORIES:In-Person
ATTACH;FMTTYPE=image/png:https://preblelibrary.org/wp-content/uploads/2023/07/Family-Storytime-Fall-website-1.png
END:VEVENT
END:VCALENDAR