BEGIN:VCALENDAR
VERSION:2.0
PRODID:-//Preble County Library - ECPv6.15.20//NONSGML v1.0//EN
CALSCALE:GREGORIAN
METHOD:PUBLISH
X-ORIGINAL-URL:https://preblelibrary.org
X-WR-CALDESC:Events for Preble County Library
REFRESH-INTERVAL;VALUE=DURATION:PT1H
X-Robots-Tag:noindex
X-PUBLISHED-TTL:PT1H
BEGIN:VTIMEZONE
TZID:America/Detroit
BEGIN:DAYLIGHT
TZOFFSETFROM:-0500
TZOFFSETTO:-0400
TZNAME:EDT
DTSTART:20250309T070000
END:DAYLIGHT
BEGIN:STANDARD
TZOFFSETFROM:-0400
TZOFFSETTO:-0500
TZNAME:EST
DTSTART:20251102T060000
END:STANDARD
BEGIN:DAYLIGHT
TZOFFSETFROM:-0500
TZOFFSETTO:-0400
TZNAME:EDT
DTSTART:20260308T070000
END:DAYLIGHT
BEGIN:STANDARD
TZOFFSETFROM:-0400
TZOFFSETTO:-0500
TZNAME:EST
DTSTART:20261101T060000
END:STANDARD
BEGIN:DAYLIGHT
TZOFFSETFROM:-0500
TZOFFSETTO:-0400
TZNAME:EDT
DTSTART:20270314T070000
END:DAYLIGHT
BEGIN:STANDARD
TZOFFSETFROM:-0400
TZOFFSETTO:-0500
TZNAME:EST
DTSTART:20271107T060000
END:STANDARD
END:VTIMEZONE
BEGIN:VEVENT
DTSTART;TZID=America/Detroit:20260414T173000
DTEND;TZID=America/Detroit:20260414T183000
DTSTAMP:20260424T181043
CREATED:20260317T182036Z
LAST-MODIFIED:20260317T192317Z
UID:10012306-1776187800-1776191400@preblelibrary.org
SUMMARY:Sensory Play Family Night
DESCRIPTION:Join us for a relaxing and engaging evening designed to awaken the senses and spark creativity! \nThroughout the evening\, participants will have the opportunity to explore thoughtfully prepared sensory activities that encourage curiosity\, creativity\, and connection. \nCome connect\, explore\, and enjoy an evening that celebrates play\, creativity\, and the joy of engaging your senses. \nWe look forward to sharing this unique sensory experience with you!
URL:https://preblelibrary.org/event/sensory-play-family-night/
LOCATION:West Alexandria
CATEGORIES:In-Person
ATTACH;FMTTYPE=image/png:https://preblelibrary.org/wp-content/uploads/2026/03/2026.-WA-Sensory-Play-Family-Night-Flyer-5.png
END:VEVENT
END:VCALENDAR