BEGIN:VCALENDAR
VERSION:2.0
PRODID:-//Preble County Library - ECPv6.15.20//NONSGML v1.0//EN
CALSCALE:GREGORIAN
METHOD:PUBLISH
X-ORIGINAL-URL:https://preblelibrary.org
X-WR-CALDESC:Events for Preble County Library
REFRESH-INTERVAL;VALUE=DURATION:PT1H
X-Robots-Tag:noindex
X-PUBLISHED-TTL:PT1H
BEGIN:VTIMEZONE
TZID:America/Detroit
BEGIN:DAYLIGHT
TZOFFSETFROM:-0500
TZOFFSETTO:-0400
TZNAME:EDT
DTSTART:20240310T070000
END:DAYLIGHT
BEGIN:STANDARD
TZOFFSETFROM:-0400
TZOFFSETTO:-0500
TZNAME:EST
DTSTART:20241103T060000
END:STANDARD
BEGIN:DAYLIGHT
TZOFFSETFROM:-0500
TZOFFSETTO:-0400
TZNAME:EDT
DTSTART:20250309T070000
END:DAYLIGHT
BEGIN:STANDARD
TZOFFSETFROM:-0400
TZOFFSETTO:-0500
TZNAME:EST
DTSTART:20251102T060000
END:STANDARD
BEGIN:DAYLIGHT
TZOFFSETFROM:-0500
TZOFFSETTO:-0400
TZNAME:EDT
DTSTART:20260308T070000
END:DAYLIGHT
BEGIN:STANDARD
TZOFFSETFROM:-0400
TZOFFSETTO:-0500
TZNAME:EST
DTSTART:20261101T060000
END:STANDARD
END:VTIMEZONE
BEGIN:VEVENT
DTSTART;TZID=America/Detroit:20251029T103000
DTEND;TZID=America/Detroit:20251029T111500
DTSTAMP:20260424T201318
CREATED:20250820T185539Z
LAST-MODIFIED:20250820T185539Z
UID:10010977-1761733800-1761736500@preblelibrary.org
SUMMARY:Library Mice Storytime
DESCRIPTION:Registration is now open for the autumn session of storytime at the Eaton Branch. \nLibrary Mice Preschool Storytime is for children three years old to kindergarten. This class is available on Wednesdays or Thursdays at 10:30 AM. This is a 45-minute class. \nThe autumn session will run from October 1 through November 6. Call the Eaton Branch at 937-456-4331 to register. \nOur storytimes are formulated around the Every Child Ready to Read initiative\, which focuses on the five early literacy practices of talking\, singing\, reading\, writing\, and playing.
URL:https://preblelibrary.org/event/library-mice-storytime-7/2025-10-29/
LOCATION:Eaton
CATEGORIES:In-Person
ATTACH;FMTTYPE=image/png:https://preblelibrary.org/wp-content/uploads/2022/07/Library-Mice-Storytime-Eaton.png
END:VEVENT
BEGIN:VEVENT
DTSTART;TZID=America/Detroit:20251029T163000
DTEND;TZID=America/Detroit:20251029T174500
DTSTAMP:20260424T201318
CREATED:20250924T144626Z
LAST-MODIFIED:20250924T144626Z
UID:10011136-1761755400-1761759900@preblelibrary.org
SUMMARY:Halloween Bingo Party
DESCRIPTION:Bingo games\, prizes\, and candy! Oh my!
URL:https://preblelibrary.org/event/halloween-bingo-party/
LOCATION:West Manchester
CATEGORIES:In-Person
ATTACH;FMTTYPE=image/png:https://preblelibrary.org/wp-content/uploads/2025/09/Copy-of-halloween-bingo-party-800-x-400-px.png
END:VEVENT
END:VCALENDAR