BEGIN:VCALENDAR
VERSION:2.0
PRODID:-//Preble County Library - ECPv6.15.20//NONSGML v1.0//EN
CALSCALE:GREGORIAN
METHOD:PUBLISH
X-ORIGINAL-URL:https://preblelibrary.org
X-WR-CALDESC:Events for Preble County Library
REFRESH-INTERVAL;VALUE=DURATION:PT1H
X-Robots-Tag:noindex
X-PUBLISHED-TTL:PT1H
BEGIN:VTIMEZONE
TZID:America/Detroit
BEGIN:DAYLIGHT
TZOFFSETFROM:-0500
TZOFFSETTO:-0400
TZNAME:EDT
DTSTART:20250309T070000
END:DAYLIGHT
BEGIN:STANDARD
TZOFFSETFROM:-0400
TZOFFSETTO:-0500
TZNAME:EST
DTSTART:20251102T060000
END:STANDARD
BEGIN:DAYLIGHT
TZOFFSETFROM:-0500
TZOFFSETTO:-0400
TZNAME:EDT
DTSTART:20260308T070000
END:DAYLIGHT
BEGIN:STANDARD
TZOFFSETFROM:-0400
TZOFFSETTO:-0500
TZNAME:EST
DTSTART:20261101T060000
END:STANDARD
BEGIN:DAYLIGHT
TZOFFSETFROM:-0500
TZOFFSETTO:-0400
TZNAME:EDT
DTSTART:20270314T070000
END:DAYLIGHT
BEGIN:STANDARD
TZOFFSETFROM:-0400
TZOFFSETTO:-0500
TZNAME:EST
DTSTART:20271107T060000
END:STANDARD
END:VTIMEZONE
BEGIN:VEVENT
DTSTART;TZID=America/Detroit:20260127T140000
DTEND;TZID=America/Detroit:20260127T200000
DTSTAMP:20260424T190006
CREATED:20260108T160132Z
LAST-MODIFIED:20260108T185501Z
UID:10012062-1769522400-1769544000@preblelibrary.org
SUMMARY:LEGO Day
DESCRIPTION:Stop by and build with your friends!
URL:https://preblelibrary.org/event/lego-day-5/
LOCATION:New Paris
CATEGORIES:In-Person
ATTACH;FMTTYPE=image/png:https://preblelibrary.org/wp-content/uploads/2025/10/2025.-New-Paris-LEGO-Day-Website-Graphic-7.png
END:VEVENT
BEGIN:VEVENT
DTSTART;TZID=America/Detroit:20260127T173000
DTEND;TZID=America/Detroit:20260127T183000
DTSTAMP:20260424T190006
CREATED:20251111T171724Z
LAST-MODIFIED:20251111T172825Z
UID:10011235-1769535000-1769538600@preblelibrary.org
SUMMARY:Family Book Club
DESCRIPTION:Did you join us when we read the book Escape from Mr. Lemoncello’s Library by Chris Grabenstein? Did you ever wonder how Mr. Lemoncello started his love of all things games? \nJoin us this month as we find out in Mr. Lemoncello’s Very First Game by Chris Grabenstein. \nEven if someone hasn’t read the first book\, this one stands on its own and offers a lot of the same humor and excitement. It’s perfect for anyone who enjoys mysteries\, challenges\, or stories about inventors and dreamers!
URL:https://preblelibrary.org/event/family-book-club/
LOCATION:West Alexandria
CATEGORIES:Book Club,In-Person
ATTACH;FMTTYPE=image/png:https://preblelibrary.org/wp-content/uploads/2025/11/2025.-WA-Family-Book-Club-Flyer-8.png
END:VEVENT
END:VCALENDAR