BEGIN:VCALENDAR
VERSION:2.0
PRODID:-//Preble County Library - ECPv6.15.20//NONSGML v1.0//EN
CALSCALE:GREGORIAN
METHOD:PUBLISH
X-WR-CALNAME:Preble County Library
X-ORIGINAL-URL:https://preblelibrary.org
X-WR-CALDESC:Events for Preble County Library
REFRESH-INTERVAL;VALUE=DURATION:PT1H
X-Robots-Tag:noindex
X-PUBLISHED-TTL:PT1H
BEGIN:VTIMEZONE
TZID:America/Detroit
BEGIN:DAYLIGHT
TZOFFSETFROM:-0500
TZOFFSETTO:-0400
TZNAME:EDT
DTSTART:20250309T070000
END:DAYLIGHT
BEGIN:STANDARD
TZOFFSETFROM:-0400
TZOFFSETTO:-0500
TZNAME:EST
DTSTART:20251102T060000
END:STANDARD
BEGIN:DAYLIGHT
TZOFFSETFROM:-0500
TZOFFSETTO:-0400
TZNAME:EDT
DTSTART:20260308T070000
END:DAYLIGHT
BEGIN:STANDARD
TZOFFSETFROM:-0400
TZOFFSETTO:-0500
TZNAME:EST
DTSTART:20261101T060000
END:STANDARD
BEGIN:DAYLIGHT
TZOFFSETFROM:-0500
TZOFFSETTO:-0400
TZNAME:EDT
DTSTART:20270314T070000
END:DAYLIGHT
BEGIN:STANDARD
TZOFFSETFROM:-0400
TZOFFSETTO:-0500
TZNAME:EST
DTSTART:20271107T060000
END:STANDARD
END:VTIMEZONE
BEGIN:VEVENT
DTSTART;VALUE=DATE:20260330
DTEND;VALUE=DATE:20260331
DTSTAMP:20260424T150814
CREATED:20260121T164143Z
LAST-MODIFIED:20260121T164417Z
UID:10012118-1774828800-1774915199@preblelibrary.org
SUMMARY:National Craft Month
DESCRIPTION:Celebrate National Craft Month with us from March 2nd through March 31st! \nWe’re giving YOU the chance to win a basket full of amazing crafting goodies! \nHow to Enter: \n\nPick up any of our Grab & Go craft kits.\nCreate your masterpiece.\nShow us your completed creation (a photo works perfectly!).\n\nEvery completed Grab & Go = one entry into the prize drawing. The more you make\, the more chances you have to win! \nHappy crafting\, and good luck!
URL:https://preblelibrary.org/event/national-craft-month/2026-03-30/
LOCATION:West Alexandria
CATEGORIES:In-Person
ATTACH;FMTTYPE=image/png:https://preblelibrary.org/wp-content/uploads/2026/01/2026.-WA-National-Craft-Month-Website-Graphic-1.png
END:VEVENT
BEGIN:VEVENT
DTSTART;TZID=America/Detroit:20260330T163000
DTEND;TZID=America/Detroit:20260330T171500
DTSTAMP:20260424T150814
CREATED:20250417T134034Z
LAST-MODIFIED:20250417T134034Z
UID:10010495-1774888200-1774890900@preblelibrary.org
SUMMARY:LEGO Club (Eaton Branch)
DESCRIPTION:Join us on the last Monday of the month for the Eaton Branch Library’s LEGO Club! We will be meeting in person at the Eaton Branch! Bring your LEGOs and your imagination to show off your Master Builder skills! \nThe library will have LEGOs for children to build with!\nThis program will run for approximately 45 minutes.
URL:https://preblelibrary.org/event/lego-club-eaton-branch-4/2026-03-30/
LOCATION:Eaton
ATTACH;FMTTYPE=image/png:https://preblelibrary.org/wp-content/uploads/2022/08/LEGO-Club-Eaton-Website.png
END:VEVENT
END:VCALENDAR