BEGIN:VCALENDAR
VERSION:2.0
PRODID:-//Preble County Library - ECPv6.15.20//NONSGML v1.0//EN
CALSCALE:GREGORIAN
METHOD:PUBLISH
X-ORIGINAL-URL:https://preblelibrary.org
X-WR-CALDESC:Events for Preble County Library
REFRESH-INTERVAL;VALUE=DURATION:PT1H
X-Robots-Tag:noindex
X-PUBLISHED-TTL:PT1H
BEGIN:VTIMEZONE
TZID:America/Detroit
BEGIN:DAYLIGHT
TZOFFSETFROM:-0500
TZOFFSETTO:-0400
TZNAME:EDT
DTSTART:20250309T070000
END:DAYLIGHT
BEGIN:STANDARD
TZOFFSETFROM:-0400
TZOFFSETTO:-0500
TZNAME:EST
DTSTART:20251102T060000
END:STANDARD
BEGIN:DAYLIGHT
TZOFFSETFROM:-0500
TZOFFSETTO:-0400
TZNAME:EDT
DTSTART:20260308T070000
END:DAYLIGHT
BEGIN:STANDARD
TZOFFSETFROM:-0400
TZOFFSETTO:-0500
TZNAME:EST
DTSTART:20261101T060000
END:STANDARD
BEGIN:DAYLIGHT
TZOFFSETFROM:-0500
TZOFFSETTO:-0400
TZNAME:EDT
DTSTART:20270314T070000
END:DAYLIGHT
BEGIN:STANDARD
TZOFFSETFROM:-0400
TZOFFSETTO:-0500
TZNAME:EST
DTSTART:20271107T060000
END:STANDARD
END:VTIMEZONE
BEGIN:VEVENT
DTSTART;TZID=America/Detroit:20260401T103000
DTEND;TZID=America/Detroit:20260401T110000
DTSTAMP:20260424T151617
CREATED:20260213T161825Z
LAST-MODIFIED:20260213T161825Z
UID:10012202-1775039400-1775041200@preblelibrary.org
SUMMARY:Mother Goose Baby & Toddler Storytime
DESCRIPTION:Registration is now open for the spring session of storytime at the Eaton Library. \nMother Goose Baby & Toddler Storytime is for children ages birth to 3 years on Wednesdays or Thursdays at 10:30 AM. This is a 30-minute class. \nThe spring session will run from March 4 through April 9. Call the Eaton Branch at 937-456-4331 to register. \nOur storytimes are formulated around the Every Child Ready to Read initiative\, which focuses on the five early literacy practices of talking\, singing\, reading\, writing\, and playing.
URL:https://preblelibrary.org/event/mother-goose-baby-toddler-storytime-2/2026-04-01/
LOCATION:Eaton
CATEGORIES:In-Person,Storytime
ATTACH;FMTTYPE=image/png:https://preblelibrary.org/wp-content/uploads/2022/07/Mother-Goose-Storytime-Eaton.png
END:VEVENT
BEGIN:VEVENT
DTSTART;TZID=America/Detroit:20260401T103000
DTEND;TZID=America/Detroit:20260401T111500
DTSTAMP:20260424T151617
CREATED:20260213T163045Z
LAST-MODIFIED:20260213T163045Z
UID:10012214-1775039400-1775042100@preblelibrary.org
SUMMARY:Library Mice Preschool Storytime
DESCRIPTION:Registration is now open for the spring session of storytime at the Eaton Branch. \nLibrary Mice Preschool Storytime is for children three years of age to kindergarten. This class is available on Wednesdays or Thursdays at 10:30 AM. This is a 45-minute class. \nThe spring session will run from March 4 through April 9. Call the Eaton Branch at 937-456-4331 to register. \nOur storytimes are formulated around the Every Child Ready to Read initiative\, which focuses on the five early literacy practices of talking\, singing\, reading\, writing\, and playing.
URL:https://preblelibrary.org/event/library-mice-preschool-storytime-2/2026-04-01/
LOCATION:Eaton
CATEGORIES:In-Person,Storytime
ATTACH;FMTTYPE=image/png:https://preblelibrary.org/wp-content/uploads/2022/07/Library-Mice-Storytime-Eaton.png
END:VEVENT
BEGIN:VEVENT
DTSTART;TZID=America/Detroit:20260401T150000
DTEND;TZID=America/Detroit:20260401T160000
DTSTAMP:20260424T151617
CREATED:20260304T223732Z
LAST-MODIFIED:20260305T143343Z
UID:10012286-1775055600-1775059200@preblelibrary.org
SUMMARY:Easter Egg Hunt
DESCRIPTION:Hop on over to the West Elkton Library for an Easter Egg Hunt in the park next to the library building! \nThere will be two age groups for children: ages 0–5 and ages 6 and up. \nPlease dress accordingly\, as it can still be a little muddy outside this time of year. We hope to see you there!
URL:https://preblelibrary.org/event/easter-egg-hunt/
LOCATION:West Elkton
CATEGORIES:In-Person
ATTACH;FMTTYPE=image/png:https://preblelibrary.org/wp-content/uploads/2026/03/2026.-WE-Easter-Egg-Hunt-2.png
END:VEVENT
BEGIN:VEVENT
DTSTART;TZID=America/Detroit:20260401T163000
DTEND;TZID=America/Detroit:20260401T174500
DTSTAMP:20260424T151617
CREATED:20260317T200858Z
LAST-MODIFIED:20260317T200858Z
UID:10012307-1775061000-1775065500@preblelibrary.org
SUMMARY:Mini Diamond Art Month
DESCRIPTION:Come in each Wednesday in April for a mini diamond art craft!
URL:https://preblelibrary.org/event/mini-diamond-art-month/2026-04-01/
LOCATION:West Manchester
CATEGORIES:Crafting,In-Person
ATTACH;FMTTYPE=image/png:https://preblelibrary.org/wp-content/uploads/2026/03/2026.-WM-Mini-Diamond-Art-Month-Website-Graphic.png
END:VEVENT
END:VCALENDAR