BEGIN:VCALENDAR
VERSION:2.0
PRODID:-//Preble County Library - ECPv6.15.20//NONSGML v1.0//EN
CALSCALE:GREGORIAN
METHOD:PUBLISH
X-ORIGINAL-URL:https://preblelibrary.org
X-WR-CALDESC:Events for Preble County Library
REFRESH-INTERVAL;VALUE=DURATION:PT1H
X-Robots-Tag:noindex
X-PUBLISHED-TTL:PT1H
BEGIN:VTIMEZONE
TZID:America/Detroit
BEGIN:DAYLIGHT
TZOFFSETFROM:-0500
TZOFFSETTO:-0400
TZNAME:EDT
DTSTART:20250309T070000
END:DAYLIGHT
BEGIN:STANDARD
TZOFFSETFROM:-0400
TZOFFSETTO:-0500
TZNAME:EST
DTSTART:20251102T060000
END:STANDARD
BEGIN:DAYLIGHT
TZOFFSETFROM:-0500
TZOFFSETTO:-0400
TZNAME:EDT
DTSTART:20260308T070000
END:DAYLIGHT
BEGIN:STANDARD
TZOFFSETFROM:-0400
TZOFFSETTO:-0500
TZNAME:EST
DTSTART:20261101T060000
END:STANDARD
BEGIN:DAYLIGHT
TZOFFSETFROM:-0500
TZOFFSETTO:-0400
TZNAME:EDT
DTSTART:20270314T070000
END:DAYLIGHT
BEGIN:STANDARD
TZOFFSETFROM:-0400
TZOFFSETTO:-0500
TZNAME:EST
DTSTART:20271107T060000
END:STANDARD
END:VTIMEZONE
BEGIN:VEVENT
DTSTART;TZID=America/Detroit:20260506T163000
DTEND;TZID=America/Detroit:20260506T174500
DTSTAMP:20260424T120442
CREATED:20260420T143841Z
LAST-MODIFIED:20260420T143841Z
UID:10012457-1778085000-1778089500@preblelibrary.org
SUMMARY:Paper Craft Month
DESCRIPTION:Come do a different paper craft every week with us in May!
URL:https://preblelibrary.org/event/paper-craft-month/2026-05-06/
LOCATION:West Manchester
CATEGORIES:In-Person
ATTACH;FMTTYPE=image/png:https://preblelibrary.org/wp-content/uploads/2026/04/2026.-WM-Paper-Craft-Month-Website-Graphic-1.png
END:VEVENT
BEGIN:VEVENT
DTSTART;VALUE=DATE:20260508
DTEND;VALUE=DATE:20260509
DTSTAMP:20260424T120442
CREATED:20260331T183440Z
LAST-MODIFIED:20260331T183725Z
UID:10012366-1778198400-1778284799@preblelibrary.org
SUMMARY:Ohio Trivia: Arts\, Culture\, Literature\, and Movies
DESCRIPTION:How much do you know about movies\, tv shows\, bands\, or authors from Ohio? \nCome to the Eaton Branch during the month of May and answer trivia questions for a chance to win an Ohio-Themed Gift Basket! \nThis challenge is for all ages. In order to be considered to win\, you must answer all 12 questions. The winner of the basket will be drawn on June 1.
URL:https://preblelibrary.org/event/ohio-trivia-arts-culture-literature-and-movies/2026-05-08/
LOCATION:Eaton
CATEGORIES:Contest,In-Person
ATTACH;FMTTYPE=image/png:https://preblelibrary.org/wp-content/uploads/2026/03/2026.-Eaton-Ohio-Trivia-Arts-Culture-Literature-and-Movies-Website-Graphic-1.png
END:VEVENT
BEGIN:VEVENT
DTSTART;VALUE=DATE:20260511
DTEND;VALUE=DATE:20260512
DTSTAMP:20260424T120442
CREATED:20260401T151724Z
LAST-MODIFIED:20260401T152031Z
UID:10012372-1778457600-1778543999@preblelibrary.org
SUMMARY:America 250: Patriotic Plant Swap
DESCRIPTION:We salute the great red\, white\, and blue! In celebration of America’s 250th birthday\, we’re switching things up for this year’s plant swap! \nDo you already have enough houseplants from our prior swaps? If so\, we’re focusing more on outdoor annual and perennial flowers this year—and\, you guessed it\, a lot of red\, white\, and blue! \nGet your outdoor flowerpots ready to display the colors of the American flag all around your home this season! \nBring in any pest-free annuals and perennials to swap with our patriotic annual and perennial plant selection from May 11 through June 11\, during regular business hours!
URL:https://preblelibrary.org/event/america-250-patriotic-plant-swap/2026-05-11/
LOCATION:West Elkton
CATEGORIES:In-Person,Plant Swap
ATTACH;FMTTYPE=image/png:https://preblelibrary.org/wp-content/uploads/2026/04/2026.-WE-America-250-Patriotic-Plant-Swap-Website-Graphic.png
END:VEVENT
BEGIN:VEVENT
DTSTART;TZID=America/Detroit:20260511T170000
DTEND;TZID=America/Detroit:20260511T180000
DTSTAMP:20260424T120442
CREATED:20260313T183735Z
LAST-MODIFIED:20260313T183735Z
UID:10012296-1778518800-1778522400@preblelibrary.org
SUMMARY:Let’s Role! Kids RPG Club
DESCRIPTION:Greetings\, young adventurer! A realm of wonder awaits thee! Join our fellowship of heroes for a noble quest. \nThis club is recommended for children 6-12 years of age and will meet on the second Monday of each month at 5 p.m. Each month\, the group will complete a campaign of different kid-friendly\, tabletop RPG games.
URL:https://preblelibrary.org/event/lets-role-kids-rpg-club/2026-05-11/
LOCATION:Eaton
CATEGORIES:In-Person
ATTACH;FMTTYPE=image/png:https://preblelibrary.org/wp-content/uploads/2023/12/Event-Calendar-Images-5.png
END:VEVENT
BEGIN:VEVENT
DTSTART;TZID=America/Detroit:20260513T103000
DTEND;TZID=America/Detroit:20260513T113000
DTSTAMP:20260424T120442
CREATED:20260304T190920Z
LAST-MODIFIED:20260304T190920Z
UID:10012281-1778668200-1778671800@preblelibrary.org
SUMMARY:Stay & Play Hour
DESCRIPTION:Stop into the Eaton Branch for our Stay & Play Hour! This is a chance for parents and toddlers to socialize with other families and for kids to play with books\, puppets\, blocks\, a ball pit\, and more! \nThrough play\, children can expand their vocabulary\, learn to problem-solve\, and build social and emotional skills! \nThis program is for children 0-5 years of age.
URL:https://preblelibrary.org/event/stay-play-hour-2/2026-05-13/
LOCATION:Eaton
CATEGORIES:In-Person
ATTACH;FMTTYPE=image/png:https://preblelibrary.org/wp-content/uploads/2023/10/Stay-and-Play-Hour-website.png
END:VEVENT
BEGIN:VEVENT
DTSTART;TZID=America/Detroit:20260513T163000
DTEND;TZID=America/Detroit:20260513T174500
DTSTAMP:20260424T120442
CREATED:20260420T143841Z
LAST-MODIFIED:20260420T143841Z
UID:10012458-1778689800-1778694300@preblelibrary.org
SUMMARY:Paper Craft Month
DESCRIPTION:Come do a different paper craft every week with us in May!
URL:https://preblelibrary.org/event/paper-craft-month/2026-05-13/
LOCATION:West Manchester
CATEGORIES:In-Person
ATTACH;FMTTYPE=image/png:https://preblelibrary.org/wp-content/uploads/2026/04/2026.-WM-Paper-Craft-Month-Website-Graphic-1.png
END:VEVENT
BEGIN:VEVENT
DTSTART;VALUE=DATE:20260515
DTEND;VALUE=DATE:20260516
DTSTAMP:20260424T120442
CREATED:20260331T183440Z
LAST-MODIFIED:20260331T183725Z
UID:10012367-1778803200-1778889599@preblelibrary.org
SUMMARY:Ohio Trivia: Arts\, Culture\, Literature\, and Movies
DESCRIPTION:How much do you know about movies\, tv shows\, bands\, or authors from Ohio? \nCome to the Eaton Branch during the month of May and answer trivia questions for a chance to win an Ohio-Themed Gift Basket! \nThis challenge is for all ages. In order to be considered to win\, you must answer all 12 questions. The winner of the basket will be drawn on June 1.
URL:https://preblelibrary.org/event/ohio-trivia-arts-culture-literature-and-movies/2026-05-15/
LOCATION:Eaton
CATEGORIES:Contest,In-Person
ATTACH;FMTTYPE=image/png:https://preblelibrary.org/wp-content/uploads/2026/03/2026.-Eaton-Ohio-Trivia-Arts-Culture-Literature-and-Movies-Website-Graphic-1.png
END:VEVENT
BEGIN:VEVENT
DTSTART;TZID=America/Detroit:20260516T140000
DTEND;TZID=America/Detroit:20260516T150000
DTSTAMP:20260424T120442
CREATED:20260324T172511Z
LAST-MODIFIED:20260324T172511Z
UID:10012324-1778940000-1778943600@preblelibrary.org
SUMMARY:America 250: Bald Eagles
DESCRIPTION:As part of our America 250 series\, local author and eagle enthusiast\, Jim Weller\, joins us for a special presentation on the American national symbol… the bald eagle! \nLearn more about these impressive creatures and their role here in Southwest Ohio! \nThis free program is open to all ages!
URL:https://preblelibrary.org/event/america-250-bald-eagles/
LOCATION:Eaton
CATEGORIES:In-Person
ATTACH;FMTTYPE=image/png:https://preblelibrary.org/wp-content/uploads/2026/03/2026.-Eaton-America-250-Bald-Eagles-Website-Graphic.png
END:VEVENT
BEGIN:VEVENT
DTSTART;VALUE=DATE:20260518
DTEND;VALUE=DATE:20260519
DTSTAMP:20260424T120442
CREATED:20260401T151724Z
LAST-MODIFIED:20260401T152031Z
UID:10012373-1779062400-1779148799@preblelibrary.org
SUMMARY:America 250: Patriotic Plant Swap
DESCRIPTION:We salute the great red\, white\, and blue! In celebration of America’s 250th birthday\, we’re switching things up for this year’s plant swap! \nDo you already have enough houseplants from our prior swaps? If so\, we’re focusing more on outdoor annual and perennial flowers this year—and\, you guessed it\, a lot of red\, white\, and blue! \nGet your outdoor flowerpots ready to display the colors of the American flag all around your home this season! \nBring in any pest-free annuals and perennials to swap with our patriotic annual and perennial plant selection from May 11 through June 11\, during regular business hours!
URL:https://preblelibrary.org/event/america-250-patriotic-plant-swap/2026-05-18/
LOCATION:West Elkton
CATEGORIES:In-Person,Plant Swap
ATTACH;FMTTYPE=image/png:https://preblelibrary.org/wp-content/uploads/2026/04/2026.-WE-America-250-Patriotic-Plant-Swap-Website-Graphic.png
END:VEVENT
BEGIN:VEVENT
DTSTART;TZID=America/Detroit:20260520T103000
DTEND;TZID=America/Detroit:20260520T113000
DTSTAMP:20260424T120442
CREATED:20260304T190920Z
LAST-MODIFIED:20260304T190920Z
UID:10012282-1779273000-1779276600@preblelibrary.org
SUMMARY:Stay & Play Hour
DESCRIPTION:Stop into the Eaton Branch for our Stay & Play Hour! This is a chance for parents and toddlers to socialize with other families and for kids to play with books\, puppets\, blocks\, a ball pit\, and more! \nThrough play\, children can expand their vocabulary\, learn to problem-solve\, and build social and emotional skills! \nThis program is for children 0-5 years of age.
URL:https://preblelibrary.org/event/stay-play-hour-2/2026-05-20/
LOCATION:Eaton
CATEGORIES:In-Person
ATTACH;FMTTYPE=image/png:https://preblelibrary.org/wp-content/uploads/2023/10/Stay-and-Play-Hour-website.png
END:VEVENT
BEGIN:VEVENT
DTSTART;TZID=America/Detroit:20260520T163000
DTEND;TZID=America/Detroit:20260520T174500
DTSTAMP:20260424T120442
CREATED:20260420T143841Z
LAST-MODIFIED:20260420T143841Z
UID:10012459-1779294600-1779299100@preblelibrary.org
SUMMARY:Paper Craft Month
DESCRIPTION:Come do a different paper craft every week with us in May!
URL:https://preblelibrary.org/event/paper-craft-month/2026-05-20/
LOCATION:West Manchester
CATEGORIES:In-Person
ATTACH;FMTTYPE=image/png:https://preblelibrary.org/wp-content/uploads/2026/04/2026.-WM-Paper-Craft-Month-Website-Graphic-1.png
END:VEVENT
BEGIN:VEVENT
DTSTART;VALUE=DATE:20260522
DTEND;VALUE=DATE:20260523
DTSTAMP:20260424T120442
CREATED:20260331T183440Z
LAST-MODIFIED:20260331T183725Z
UID:10012368-1779408000-1779494399@preblelibrary.org
SUMMARY:Ohio Trivia: Arts\, Culture\, Literature\, and Movies
DESCRIPTION:How much do you know about movies\, tv shows\, bands\, or authors from Ohio? \nCome to the Eaton Branch during the month of May and answer trivia questions for a chance to win an Ohio-Themed Gift Basket! \nThis challenge is for all ages. In order to be considered to win\, you must answer all 12 questions. The winner of the basket will be drawn on June 1.
URL:https://preblelibrary.org/event/ohio-trivia-arts-culture-literature-and-movies/2026-05-22/
LOCATION:Eaton
CATEGORIES:Contest,In-Person
ATTACH;FMTTYPE=image/png:https://preblelibrary.org/wp-content/uploads/2026/03/2026.-Eaton-Ohio-Trivia-Arts-Culture-Literature-and-Movies-Website-Graphic-1.png
END:VEVENT
BEGIN:VEVENT
DTSTART;VALUE=DATE:20260525
DTEND;VALUE=DATE:20260526
DTSTAMP:20260424T120442
CREATED:20260401T151724Z
LAST-MODIFIED:20260401T152031Z
UID:10012374-1779667200-1779753599@preblelibrary.org
SUMMARY:America 250: Patriotic Plant Swap
DESCRIPTION:We salute the great red\, white\, and blue! In celebration of America’s 250th birthday\, we’re switching things up for this year’s plant swap! \nDo you already have enough houseplants from our prior swaps? If so\, we’re focusing more on outdoor annual and perennial flowers this year—and\, you guessed it\, a lot of red\, white\, and blue! \nGet your outdoor flowerpots ready to display the colors of the American flag all around your home this season! \nBring in any pest-free annuals and perennials to swap with our patriotic annual and perennial plant selection from May 11 through June 11\, during regular business hours!
URL:https://preblelibrary.org/event/america-250-patriotic-plant-swap/2026-05-25/
LOCATION:West Elkton
CATEGORIES:In-Person,Plant Swap
ATTACH;FMTTYPE=image/png:https://preblelibrary.org/wp-content/uploads/2026/04/2026.-WE-America-250-Patriotic-Plant-Swap-Website-Graphic.png
END:VEVENT
BEGIN:VEVENT
DTSTART;TZID=America/Detroit:20260525T163000
DTEND;TZID=America/Detroit:20260525T171500
DTSTAMP:20260424T120442
CREATED:20260327T174255Z
LAST-MODIFIED:20260327T174255Z
UID:10012345-1779726600-1779729300@preblelibrary.org
SUMMARY:LEGO Club (Eaton Branch)
DESCRIPTION:Join us on the last Monday of the month for the Eaton Branch Library’s LEGO Club! We will be meeting in person at the Eaton Branch! Bring your LEGOs and your imagination to show off your Master Builder skills! \nThe library will have LEGOs for children to build with!\nThis program will run for approximately 45 minutes.
URL:https://preblelibrary.org/event/lego-club-eaton-branch/2026-05-25/
LOCATION:Eaton
CATEGORIES:In-Person,Lego Club
ATTACH;FMTTYPE=image/png:https://preblelibrary.org/wp-content/uploads/2022/08/LEGO-Club-Eaton-Website.png
END:VEVENT
BEGIN:VEVENT
DTSTART;TZID=America/Detroit:20260527T103000
DTEND;TZID=America/Detroit:20260527T113000
DTSTAMP:20260424T120442
CREATED:20260304T190920Z
LAST-MODIFIED:20260304T190920Z
UID:10012283-1779877800-1779881400@preblelibrary.org
SUMMARY:Stay & Play Hour
DESCRIPTION:Stop into the Eaton Branch for our Stay & Play Hour! This is a chance for parents and toddlers to socialize with other families and for kids to play with books\, puppets\, blocks\, a ball pit\, and more! \nThrough play\, children can expand their vocabulary\, learn to problem-solve\, and build social and emotional skills! \nThis program is for children 0-5 years of age.
URL:https://preblelibrary.org/event/stay-play-hour-2/2026-05-27/
LOCATION:Eaton
CATEGORIES:In-Person
ATTACH;FMTTYPE=image/png:https://preblelibrary.org/wp-content/uploads/2023/10/Stay-and-Play-Hour-website.png
END:VEVENT
BEGIN:VEVENT
DTSTART;TZID=America/Detroit:20260527T160000
DTEND;TZID=America/Detroit:20260527T170000
DTSTAMP:20260424T120442
CREATED:20260330T215113Z
LAST-MODIFIED:20260331T150014Z
UID:10012356-1779897600-1779901200@preblelibrary.org
SUMMARY:America 250: Discover America Series
DESCRIPTION:From California rolls to totem poles—and everything in between! Join us on the fourth Wednesday of the month\, from May through August\, in celebration of America’s 250th birthday.  \nWe’ll visit different regions across our fifty great states through crafts that represent each area\, while learning fun facts and exploring interesting displays. Discover something new and exciting about all that America has to offer!  \nWe hope to see you for a great American road trip\, right here at the West Elkton Library!
URL:https://preblelibrary.org/event/america-250-discover-america-series/2026-05-27/
LOCATION:West Elkton
CATEGORIES:In-Person
ATTACH;FMTTYPE=image/png:https://preblelibrary.org/wp-content/uploads/2026/03/2026.-West-Elkton-Discover-America-Series-Website-Graphic-3.png
END:VEVENT
BEGIN:VEVENT
DTSTART;TZID=America/Detroit:20260527T163000
DTEND;TZID=America/Detroit:20260527T174500
DTSTAMP:20260424T120442
CREATED:20260420T143841Z
LAST-MODIFIED:20260420T143841Z
UID:10012460-1779899400-1779903900@preblelibrary.org
SUMMARY:Paper Craft Month
DESCRIPTION:Come do a different paper craft every week with us in May!
URL:https://preblelibrary.org/event/paper-craft-month/2026-05-27/
LOCATION:West Manchester
CATEGORIES:In-Person
ATTACH;FMTTYPE=image/png:https://preblelibrary.org/wp-content/uploads/2026/04/2026.-WM-Paper-Craft-Month-Website-Graphic-1.png
END:VEVENT
BEGIN:VEVENT
DTSTART;VALUE=DATE:20260529
DTEND;VALUE=DATE:20260530
DTSTAMP:20260424T120442
CREATED:20260331T183440Z
LAST-MODIFIED:20260331T183725Z
UID:10012369-1780012800-1780099199@preblelibrary.org
SUMMARY:Ohio Trivia: Arts\, Culture\, Literature\, and Movies
DESCRIPTION:How much do you know about movies\, tv shows\, bands\, or authors from Ohio? \nCome to the Eaton Branch during the month of May and answer trivia questions for a chance to win an Ohio-Themed Gift Basket! \nThis challenge is for all ages. In order to be considered to win\, you must answer all 12 questions. The winner of the basket will be drawn on June 1.
URL:https://preblelibrary.org/event/ohio-trivia-arts-culture-literature-and-movies/2026-05-29/
LOCATION:Eaton
CATEGORIES:Contest,In-Person
ATTACH;FMTTYPE=image/png:https://preblelibrary.org/wp-content/uploads/2026/03/2026.-Eaton-Ohio-Trivia-Arts-Culture-Literature-and-Movies-Website-Graphic-1.png
END:VEVENT
BEGIN:VEVENT
DTSTART;TZID=America/Detroit:20260530T120000
DTEND;TZID=America/Detroit:20260530T130000
DTSTAMP:20260424T120442
CREATED:20260203T211412Z
LAST-MODIFIED:20260205T210606Z
UID:10012127-1780142400-1780146000@preblelibrary.org
SUMMARY:LEGO Club
DESCRIPTION:Join us each month to build creative LEGO masterpieces with friends! The library provides the bricks—you bring the imagination. Each session includes a monthly drawing for a LEGO-themed prize\, and every visit earns you an entry into our Grand Prize Drawing in December. The more months you attend\, the more chances you have to win!
URL:https://preblelibrary.org/event/lego-club-6/
LOCATION:West Alexandria
CATEGORIES:In-Person
ATTACH;FMTTYPE=image/png:https://preblelibrary.org/wp-content/uploads/2026/02/2026.-WA-May-LEGO-Club.png
END:VEVENT
BEGIN:VEVENT
DTSTART;VALUE=DATE:20260601
DTEND;VALUE=DATE:20260602
DTSTAMP:20260424T120442
CREATED:20260401T151724Z
LAST-MODIFIED:20260401T152031Z
UID:10012375-1780272000-1780358399@preblelibrary.org
SUMMARY:America 250: Patriotic Plant Swap
DESCRIPTION:We salute the great red\, white\, and blue! In celebration of America’s 250th birthday\, we’re switching things up for this year’s plant swap! \nDo you already have enough houseplants from our prior swaps? If so\, we’re focusing more on outdoor annual and perennial flowers this year—and\, you guessed it\, a lot of red\, white\, and blue! \nGet your outdoor flowerpots ready to display the colors of the American flag all around your home this season! \nBring in any pest-free annuals and perennials to swap with our patriotic annual and perennial plant selection from May 11 through June 11\, during regular business hours!
URL:https://preblelibrary.org/event/america-250-patriotic-plant-swap/2026-06-01/
LOCATION:West Elkton
CATEGORIES:In-Person,Plant Swap
ATTACH;FMTTYPE=image/png:https://preblelibrary.org/wp-content/uploads/2026/04/2026.-WE-America-250-Patriotic-Plant-Swap-Website-Graphic.png
END:VEVENT
BEGIN:VEVENT
DTSTART;TZID=America/Detroit:20260601T170000
DTEND;TZID=America/Detroit:20260601T190000
DTSTAMP:20260424T120442
CREATED:20260422T211031Z
LAST-MODIFIED:20260422T211031Z
UID:10012468-1780333200-1780340400@preblelibrary.org
SUMMARY:Unearth Summer Reading
DESCRIPTION:Dig into Summer Reading fun by joining us for our kick-off event here at the Eaton Library! We’ll have a fossil dig station\, games\, face painting\, and more. While you’re at it\, you can stop into the library to sign up for one of the Summer Reading Challenges! \nThis program takes place on the grassy lawn behind the Eaton Branch. This program may be messy; please dress appropriately. \n**The program will be moved indoors in the case of inclement weather.
URL:https://preblelibrary.org/event/unearth-summer-reading/
LOCATION:Eaton
CATEGORIES:In-Person
ATTACH;FMTTYPE=image/png:https://preblelibrary.org/wp-content/uploads/2026/04/Unearth-Summer-Reading.png
END:VEVENT
BEGIN:VEVENT
DTSTART;VALUE=DATE:20260604
DTEND;VALUE=DATE:20260605
DTSTAMP:20260424T120442
CREATED:20260212T203840Z
LAST-MODIFIED:20260212T204251Z
UID:10012190-1780531200-1780617599@preblelibrary.org
SUMMARY:Kid's Revolution Readers
DESCRIPTION:Celebrate America’s 250th birthday by learning how it all started! Sign up and get a FREE copy of “The History of the American Revolution” by Cincinnati author Emma Carlson Berne\, while supplies last! \nAfter you read the book\, you can join us on July 2 for a program with activities\, snacks\, and a chance to chat about it! \nThe book is recommended for kids ages 6-10. Parental discretion advised. \nContact your branch to request a copy beginning June 4.
URL:https://preblelibrary.org/event/kids-revolution-readers/
LOCATION:All
CATEGORIES:Book Club,In-Person
ATTACH;FMTTYPE=image/png:https://preblelibrary.org/wp-content/uploads/2026/02/Tween-tivities-Watercolor-Basics-Event-Calendar-2.png
END:VEVENT
BEGIN:VEVENT
DTSTART;VALUE=DATE:20260608
DTEND;VALUE=DATE:20260609
DTSTAMP:20260424T120442
CREATED:20260401T151724Z
LAST-MODIFIED:20260401T152031Z
UID:10012376-1780876800-1780963199@preblelibrary.org
SUMMARY:America 250: Patriotic Plant Swap
DESCRIPTION:We salute the great red\, white\, and blue! In celebration of America’s 250th birthday\, we’re switching things up for this year’s plant swap! \nDo you already have enough houseplants from our prior swaps? If so\, we’re focusing more on outdoor annual and perennial flowers this year—and\, you guessed it\, a lot of red\, white\, and blue! \nGet your outdoor flowerpots ready to display the colors of the American flag all around your home this season! \nBring in any pest-free annuals and perennials to swap with our patriotic annual and perennial plant selection from May 11 through June 11\, during regular business hours!
URL:https://preblelibrary.org/event/america-250-patriotic-plant-swap/2026-06-08/
LOCATION:West Elkton
CATEGORIES:In-Person,Plant Swap
ATTACH;FMTTYPE=image/png:https://preblelibrary.org/wp-content/uploads/2026/04/2026.-WE-America-250-Patriotic-Plant-Swap-Website-Graphic.png
END:VEVENT
BEGIN:VEVENT
DTSTART;TZID=America/Detroit:20260608T170000
DTEND;TZID=America/Detroit:20260608T180000
DTSTAMP:20260424T120442
CREATED:20260313T183735Z
LAST-MODIFIED:20260313T183735Z
UID:10012297-1780938000-1780941600@preblelibrary.org
SUMMARY:Let’s Role! Kids RPG Club
DESCRIPTION:Greetings\, young adventurer! A realm of wonder awaits thee! Join our fellowship of heroes for a noble quest. \nThis club is recommended for children 6-12 years of age and will meet on the second Monday of each month at 5 p.m. Each month\, the group will complete a campaign of different kid-friendly\, tabletop RPG games.
URL:https://preblelibrary.org/event/lets-role-kids-rpg-club/2026-06-08/
LOCATION:Eaton
CATEGORIES:In-Person
ATTACH;FMTTYPE=image/png:https://preblelibrary.org/wp-content/uploads/2023/12/Event-Calendar-Images-5.png
END:VEVENT
BEGIN:VEVENT
DTSTART;TZID=America/Detroit:20260622T153000
DTEND;TZID=America/Detroit:20260622T163000
DTSTAMP:20260424T120442
CREATED:20260422T142724Z
LAST-MODIFIED:20260422T142724Z
UID:10012467-1782142200-1782145800@preblelibrary.org
SUMMARY:Unearth a Story: Yooperlite
DESCRIPTION:Have you heard of Yooperlite? If not\, we’ve got you covered! \nLearn how it was discovered in 2017 along the shoreline of Lake Superior in Michigan. \nDid you know that Yooperlite glows under black light? This is how it was discovered by a native Michigander! \nCome check out our glowing display of Yooperlite rocks and learn some interesting facts!
URL:https://preblelibrary.org/event/unearth-a-story-yooperlite/
LOCATION:West Elkton
CATEGORIES:In-Person
ATTACH;FMTTYPE=image/png:https://preblelibrary.org/wp-content/uploads/2026/04/2026.-WE-Unearth-a-Story-Yooperlite-Flyer-5.png
END:VEVENT
BEGIN:VEVENT
DTSTART;TZID=America/Detroit:20260624T160000
DTEND;TZID=America/Detroit:20260624T170000
DTSTAMP:20260424T120442
CREATED:20260330T215113Z
LAST-MODIFIED:20260331T150014Z
UID:10012357-1782316800-1782320400@preblelibrary.org
SUMMARY:America 250: Discover America Series
DESCRIPTION:From California rolls to totem poles—and everything in between! Join us on the fourth Wednesday of the month\, from May through August\, in celebration of America’s 250th birthday.  \nWe’ll visit different regions across our fifty great states through crafts that represent each area\, while learning fun facts and exploring interesting displays. Discover something new and exciting about all that America has to offer!  \nWe hope to see you for a great American road trip\, right here at the West Elkton Library!
URL:https://preblelibrary.org/event/america-250-discover-america-series/2026-06-24/
LOCATION:West Elkton
CATEGORIES:In-Person
ATTACH;FMTTYPE=image/png:https://preblelibrary.org/wp-content/uploads/2026/03/2026.-West-Elkton-Discover-America-Series-Website-Graphic-3.png
END:VEVENT
BEGIN:VEVENT
DTSTART;TZID=America/Detroit:20260627T120000
DTEND;TZID=America/Detroit:20260627T130000
DTSTAMP:20260424T120442
CREATED:20260410T123009Z
LAST-MODIFIED:20260410T123009Z
UID:10012444-1782561600-1782565200@preblelibrary.org
SUMMARY:LEGO Club
DESCRIPTION:Join us each month to build creative LEGO masterpieces with friends! \nThe library provides the bricks—you bring the imagination. \nEach session includes a monthly drawing for a LEGO-themed prize\, and every visit earns you an entry into our Grand Prize Drawing in December. \nThe more months you attend\, the more chances you have to win!
URL:https://preblelibrary.org/event/lego-club-9/
LOCATION:West Alexandria
CATEGORIES:In-Person,Lego Club
ATTACH;FMTTYPE=image/png:https://preblelibrary.org/wp-content/uploads/2026/04/2026.-WA-June-LEGO-Club.png
END:VEVENT
BEGIN:VEVENT
DTSTART;TZID=America/Detroit:20260629T163000
DTEND;TZID=America/Detroit:20260629T171500
DTSTAMP:20260424T120442
CREATED:20260327T174255Z
LAST-MODIFIED:20260327T174255Z
UID:10012346-1782750600-1782753300@preblelibrary.org
SUMMARY:LEGO Club (Eaton Branch)
DESCRIPTION:Join us on the last Monday of the month for the Eaton Branch Library’s LEGO Club! We will be meeting in person at the Eaton Branch! Bring your LEGOs and your imagination to show off your Master Builder skills! \nThe library will have LEGOs for children to build with!\nThis program will run for approximately 45 minutes.
URL:https://preblelibrary.org/event/lego-club-eaton-branch/2026-06-29/
LOCATION:Eaton
CATEGORIES:In-Person,Lego Club
ATTACH;FMTTYPE=image/png:https://preblelibrary.org/wp-content/uploads/2022/08/LEGO-Club-Eaton-Website.png
END:VEVENT
BEGIN:VEVENT
DTSTART;TZID=America/Detroit:20260713T170000
DTEND;TZID=America/Detroit:20260713T180000
DTSTAMP:20260424T120442
CREATED:20260313T183735Z
LAST-MODIFIED:20260313T183735Z
UID:10012298-1783962000-1783965600@preblelibrary.org
SUMMARY:Let’s Role! Kids RPG Club
DESCRIPTION:Greetings\, young adventurer! A realm of wonder awaits thee! Join our fellowship of heroes for a noble quest. \nThis club is recommended for children 6-12 years of age and will meet on the second Monday of each month at 5 p.m. Each month\, the group will complete a campaign of different kid-friendly\, tabletop RPG games.
URL:https://preblelibrary.org/event/lets-role-kids-rpg-club/2026-07-13/
LOCATION:Eaton
CATEGORIES:In-Person
ATTACH;FMTTYPE=image/png:https://preblelibrary.org/wp-content/uploads/2023/12/Event-Calendar-Images-5.png
END:VEVENT
BEGIN:VEVENT
DTSTART;TZID=America/Detroit:20260722T160000
DTEND;TZID=America/Detroit:20260722T170000
DTSTAMP:20260424T120442
CREATED:20260330T215113Z
LAST-MODIFIED:20260331T150014Z
UID:10012358-1784736000-1784739600@preblelibrary.org
SUMMARY:America 250: Discover America Series
DESCRIPTION:From California rolls to totem poles—and everything in between! Join us on the fourth Wednesday of the month\, from May through August\, in celebration of America’s 250th birthday.  \nWe’ll visit different regions across our fifty great states through crafts that represent each area\, while learning fun facts and exploring interesting displays. Discover something new and exciting about all that America has to offer!  \nWe hope to see you for a great American road trip\, right here at the West Elkton Library!
URL:https://preblelibrary.org/event/america-250-discover-america-series/2026-07-22/
LOCATION:West Elkton
CATEGORIES:In-Person
ATTACH;FMTTYPE=image/png:https://preblelibrary.org/wp-content/uploads/2026/03/2026.-West-Elkton-Discover-America-Series-Website-Graphic-3.png
END:VEVENT
END:VCALENDAR