BEGIN:VCALENDAR
VERSION:2.0
PRODID:-//Preble County Library - ECPv6.15.20//NONSGML v1.0//EN
CALSCALE:GREGORIAN
METHOD:PUBLISH
X-ORIGINAL-URL:https://preblelibrary.org
X-WR-CALDESC:Events for Preble County Library
REFRESH-INTERVAL;VALUE=DURATION:PT1H
X-Robots-Tag:noindex
X-PUBLISHED-TTL:PT1H
BEGIN:VTIMEZONE
TZID:America/Detroit
BEGIN:DAYLIGHT
TZOFFSETFROM:-0500
TZOFFSETTO:-0400
TZNAME:EDT
DTSTART:20250309T070000
END:DAYLIGHT
BEGIN:STANDARD
TZOFFSETFROM:-0400
TZOFFSETTO:-0500
TZNAME:EST
DTSTART:20251102T060000
END:STANDARD
BEGIN:DAYLIGHT
TZOFFSETFROM:-0500
TZOFFSETTO:-0400
TZNAME:EDT
DTSTART:20260308T070000
END:DAYLIGHT
BEGIN:STANDARD
TZOFFSETFROM:-0400
TZOFFSETTO:-0500
TZNAME:EST
DTSTART:20261101T060000
END:STANDARD
BEGIN:DAYLIGHT
TZOFFSETFROM:-0500
TZOFFSETTO:-0400
TZNAME:EDT
DTSTART:20270314T070000
END:DAYLIGHT
BEGIN:STANDARD
TZOFFSETFROM:-0400
TZOFFSETTO:-0500
TZNAME:EST
DTSTART:20271107T060000
END:STANDARD
BEGIN:DAYLIGHT
TZOFFSETFROM:-0500
TZOFFSETTO:-0400
TZNAME:EDT
DTSTART:20280312T070000
END:DAYLIGHT
BEGIN:STANDARD
TZOFFSETFROM:-0400
TZOFFSETTO:-0500
TZNAME:EST
DTSTART:20281105T060000
END:STANDARD
END:VTIMEZONE
BEGIN:VEVENT
DTSTART;TZID=America/Detroit:20260622T153000
DTEND;TZID=America/Detroit:20260622T163000
DTSTAMP:20260424T145548
CREATED:20260422T142724Z
LAST-MODIFIED:20260422T142724Z
UID:10012467-1782142200-1782145800@preblelibrary.org
SUMMARY:Unearth a Story: Yooperlite
DESCRIPTION:Have you heard of Yooperlite? If not\, we’ve got you covered! \nLearn how it was discovered in 2017 along the shoreline of Lake Superior in Michigan. \nDid you know that Yooperlite glows under black light? This is how it was discovered by a native Michigander! \nCome check out our glowing display of Yooperlite rocks and learn some interesting facts!
URL:https://preblelibrary.org/event/unearth-a-story-yooperlite/
LOCATION:West Elkton
CATEGORIES:In-Person
ATTACH;FMTTYPE=image/png:https://preblelibrary.org/wp-content/uploads/2026/04/2026.-WE-Unearth-a-Story-Yooperlite-Flyer-5.png
END:VEVENT
BEGIN:VEVENT
DTSTART;TZID=America/Detroit:20260624T160000
DTEND;TZID=America/Detroit:20260624T170000
DTSTAMP:20260424T145548
CREATED:20260330T215113Z
LAST-MODIFIED:20260331T150014Z
UID:10012357-1782316800-1782320400@preblelibrary.org
SUMMARY:America 250: Discover America Series
DESCRIPTION:From California rolls to totem poles—and everything in between! Join us on the fourth Wednesday of the month\, from May through August\, in celebration of America’s 250th birthday.  \nWe’ll visit different regions across our fifty great states through crafts that represent each area\, while learning fun facts and exploring interesting displays. Discover something new and exciting about all that America has to offer!  \nWe hope to see you for a great American road trip\, right here at the West Elkton Library!
URL:https://preblelibrary.org/event/america-250-discover-america-series/2026-06-24/
LOCATION:West Elkton
CATEGORIES:In-Person
ATTACH;FMTTYPE=image/png:https://preblelibrary.org/wp-content/uploads/2026/03/2026.-West-Elkton-Discover-America-Series-Website-Graphic-3.png
END:VEVENT
BEGIN:VEVENT
DTSTART;TZID=America/Detroit:20260627T120000
DTEND;TZID=America/Detroit:20260627T130000
DTSTAMP:20260424T145548
CREATED:20260410T123009Z
LAST-MODIFIED:20260410T123009Z
UID:10012444-1782561600-1782565200@preblelibrary.org
SUMMARY:LEGO Club
DESCRIPTION:Join us each month to build creative LEGO masterpieces with friends! \nThe library provides the bricks—you bring the imagination. \nEach session includes a monthly drawing for a LEGO-themed prize\, and every visit earns you an entry into our Grand Prize Drawing in December. \nThe more months you attend\, the more chances you have to win!
URL:https://preblelibrary.org/event/lego-club-9/
LOCATION:West Alexandria
CATEGORIES:In-Person,Lego Club
ATTACH;FMTTYPE=image/png:https://preblelibrary.org/wp-content/uploads/2026/04/2026.-WA-June-LEGO-Club.png
END:VEVENT
BEGIN:VEVENT
DTSTART;TZID=America/Detroit:20260629T163000
DTEND;TZID=America/Detroit:20260629T171500
DTSTAMP:20260424T145548
CREATED:20260327T174255Z
LAST-MODIFIED:20260327T174255Z
UID:10012346-1782750600-1782753300@preblelibrary.org
SUMMARY:LEGO Club (Eaton Branch)
DESCRIPTION:Join us on the last Monday of the month for the Eaton Branch Library’s LEGO Club! We will be meeting in person at the Eaton Branch! Bring your LEGOs and your imagination to show off your Master Builder skills! \nThe library will have LEGOs for children to build with!\nThis program will run for approximately 45 minutes.
URL:https://preblelibrary.org/event/lego-club-eaton-branch/2026-06-29/
LOCATION:Eaton
CATEGORIES:In-Person,Lego Club
ATTACH;FMTTYPE=image/png:https://preblelibrary.org/wp-content/uploads/2022/08/LEGO-Club-Eaton-Website.png
END:VEVENT
BEGIN:VEVENT
DTSTART;TZID=America/Detroit:20260713T170000
DTEND;TZID=America/Detroit:20260713T180000
DTSTAMP:20260424T145548
CREATED:20260313T183735Z
LAST-MODIFIED:20260313T183735Z
UID:10012298-1783962000-1783965600@preblelibrary.org
SUMMARY:Let’s Role! Kids RPG Club
DESCRIPTION:Greetings\, young adventurer! A realm of wonder awaits thee! Join our fellowship of heroes for a noble quest. \nThis club is recommended for children 6-12 years of age and will meet on the second Monday of each month at 5 p.m. Each month\, the group will complete a campaign of different kid-friendly\, tabletop RPG games.
URL:https://preblelibrary.org/event/lets-role-kids-rpg-club/2026-07-13/
LOCATION:Eaton
CATEGORIES:In-Person
ATTACH;FMTTYPE=image/png:https://preblelibrary.org/wp-content/uploads/2023/12/Event-Calendar-Images-5.png
END:VEVENT
BEGIN:VEVENT
DTSTART;TZID=America/Detroit:20260722T160000
DTEND;TZID=America/Detroit:20260722T170000
DTSTAMP:20260424T145548
CREATED:20260330T215113Z
LAST-MODIFIED:20260331T150014Z
UID:10012358-1784736000-1784739600@preblelibrary.org
SUMMARY:America 250: Discover America Series
DESCRIPTION:From California rolls to totem poles—and everything in between! Join us on the fourth Wednesday of the month\, from May through August\, in celebration of America’s 250th birthday.  \nWe’ll visit different regions across our fifty great states through crafts that represent each area\, while learning fun facts and exploring interesting displays. Discover something new and exciting about all that America has to offer!  \nWe hope to see you for a great American road trip\, right here at the West Elkton Library!
URL:https://preblelibrary.org/event/america-250-discover-america-series/2026-07-22/
LOCATION:West Elkton
CATEGORIES:In-Person
ATTACH;FMTTYPE=image/png:https://preblelibrary.org/wp-content/uploads/2026/03/2026.-West-Elkton-Discover-America-Series-Website-Graphic-3.png
END:VEVENT
BEGIN:VEVENT
DTSTART;TZID=America/Detroit:20260725T120000
DTEND;TZID=America/Detroit:20260725T130000
DTSTAMP:20260424T145548
CREATED:20260410T134342Z
LAST-MODIFIED:20260410T134342Z
UID:10012445-1784980800-1784984400@preblelibrary.org
SUMMARY:LEGO Club
DESCRIPTION:Join us each month to build creative LEGO masterpieces with friends! \nThe library provides the bricks—you bring the imagination. \nEach session includes a monthly drawing for a LEGO-themed prize\, and every visit earns you an entry into our Grand Prize Drawing in December. \nThe more months you attend\, the more chances you have to win!
URL:https://preblelibrary.org/event/lego-club-10/
LOCATION:West Alexandria
CATEGORIES:In-Person,Lego Club
ATTACH;FMTTYPE=image/png:https://preblelibrary.org/wp-content/uploads/2026/04/2026.-WA-July-LEGO-Club.png
END:VEVENT
BEGIN:VEVENT
DTSTART;TZID=America/Detroit:20260727T163000
DTEND;TZID=America/Detroit:20260727T171500
DTSTAMP:20260424T145548
CREATED:20260327T174255Z
LAST-MODIFIED:20260327T174255Z
UID:10012347-1785169800-1785172500@preblelibrary.org
SUMMARY:LEGO Club (Eaton Branch)
DESCRIPTION:Join us on the last Monday of the month for the Eaton Branch Library’s LEGO Club! We will be meeting in person at the Eaton Branch! Bring your LEGOs and your imagination to show off your Master Builder skills! \nThe library will have LEGOs for children to build with!\nThis program will run for approximately 45 minutes.
URL:https://preblelibrary.org/event/lego-club-eaton-branch/2026-07-27/
LOCATION:Eaton
CATEGORIES:In-Person,Lego Club
ATTACH;FMTTYPE=image/png:https://preblelibrary.org/wp-content/uploads/2022/08/LEGO-Club-Eaton-Website.png
END:VEVENT
BEGIN:VEVENT
DTSTART;TZID=America/Detroit:20260805T180000
DTEND;TZID=America/Detroit:20260805T190000
DTSTAMP:20260424T145548
CREATED:20260422T115414Z
LAST-MODIFIED:20260423T161208Z
UID:10012466-1785952800-1785956400@preblelibrary.org
SUMMARY:Camden Library Water Games!
DESCRIPTION:Dress to get wet! \nHave fun playing water games with friends. \nHot dogs and chips will be served!
URL:https://preblelibrary.org/event/camden-library-water-games/
LOCATION:Camden
CATEGORIES:In-Person
ATTACH;FMTTYPE=image/png:https://preblelibrary.org/wp-content/uploads/2026/04/2025.-Camden-Library-Water-Games-6.png
END:VEVENT
BEGIN:VEVENT
DTSTART;TZID=America/Detroit:20260810T170000
DTEND;TZID=America/Detroit:20260810T180000
DTSTAMP:20260424T145548
CREATED:20260313T183735Z
LAST-MODIFIED:20260313T183735Z
UID:10012299-1786381200-1786384800@preblelibrary.org
SUMMARY:Let’s Role! Kids RPG Club
DESCRIPTION:Greetings\, young adventurer! A realm of wonder awaits thee! Join our fellowship of heroes for a noble quest. \nThis club is recommended for children 6-12 years of age and will meet on the second Monday of each month at 5 p.m. Each month\, the group will complete a campaign of different kid-friendly\, tabletop RPG games.
URL:https://preblelibrary.org/event/lets-role-kids-rpg-club/2026-08-10/
LOCATION:Eaton
CATEGORIES:In-Person
ATTACH;FMTTYPE=image/png:https://preblelibrary.org/wp-content/uploads/2023/12/Event-Calendar-Images-5.png
END:VEVENT
BEGIN:VEVENT
DTSTART;TZID=America/Detroit:20260826T160000
DTEND;TZID=America/Detroit:20260826T170000
DTSTAMP:20260424T145548
CREATED:20260330T215113Z
LAST-MODIFIED:20260331T150014Z
UID:10012359-1787760000-1787763600@preblelibrary.org
SUMMARY:America 250: Discover America Series
DESCRIPTION:From California rolls to totem poles—and everything in between! Join us on the fourth Wednesday of the month\, from May through August\, in celebration of America’s 250th birthday.  \nWe’ll visit different regions across our fifty great states through crafts that represent each area\, while learning fun facts and exploring interesting displays. Discover something new and exciting about all that America has to offer!  \nWe hope to see you for a great American road trip\, right here at the West Elkton Library!
URL:https://preblelibrary.org/event/america-250-discover-america-series/2026-08-26/
LOCATION:West Elkton
CATEGORIES:In-Person
ATTACH;FMTTYPE=image/png:https://preblelibrary.org/wp-content/uploads/2026/03/2026.-West-Elkton-Discover-America-Series-Website-Graphic-3.png
END:VEVENT
BEGIN:VEVENT
DTSTART;TZID=America/Detroit:20260831T163000
DTEND;TZID=America/Detroit:20260831T171500
DTSTAMP:20260424T145548
CREATED:20260327T174255Z
LAST-MODIFIED:20260327T174255Z
UID:10012348-1788193800-1788196500@preblelibrary.org
SUMMARY:LEGO Club (Eaton Branch)
DESCRIPTION:Join us on the last Monday of the month for the Eaton Branch Library’s LEGO Club! We will be meeting in person at the Eaton Branch! Bring your LEGOs and your imagination to show off your Master Builder skills! \nThe library will have LEGOs for children to build with!\nThis program will run for approximately 45 minutes.
URL:https://preblelibrary.org/event/lego-club-eaton-branch/2026-08-31/
LOCATION:Eaton
CATEGORIES:In-Person,Lego Club
ATTACH;FMTTYPE=image/png:https://preblelibrary.org/wp-content/uploads/2022/08/LEGO-Club-Eaton-Website.png
END:VEVENT
BEGIN:VEVENT
DTSTART;TZID=America/Detroit:20260914T170000
DTEND;TZID=America/Detroit:20260914T180000
DTSTAMP:20260424T145548
CREATED:20260313T183735Z
LAST-MODIFIED:20260313T183735Z
UID:10012300-1789405200-1789408800@preblelibrary.org
SUMMARY:Let’s Role! Kids RPG Club
DESCRIPTION:Greetings\, young adventurer! A realm of wonder awaits thee! Join our fellowship of heroes for a noble quest. \nThis club is recommended for children 6-12 years of age and will meet on the second Monday of each month at 5 p.m. Each month\, the group will complete a campaign of different kid-friendly\, tabletop RPG games.
URL:https://preblelibrary.org/event/lets-role-kids-rpg-club/2026-09-14/
LOCATION:Eaton
CATEGORIES:In-Person
ATTACH;FMTTYPE=image/png:https://preblelibrary.org/wp-content/uploads/2023/12/Event-Calendar-Images-5.png
END:VEVENT
BEGIN:VEVENT
DTSTART;TZID=America/Detroit:20260928T163000
DTEND;TZID=America/Detroit:20260928T171500
DTSTAMP:20260424T145548
CREATED:20260327T174255Z
LAST-MODIFIED:20260327T174255Z
UID:10012349-1790613000-1790615700@preblelibrary.org
SUMMARY:LEGO Club (Eaton Branch)
DESCRIPTION:Join us on the last Monday of the month for the Eaton Branch Library’s LEGO Club! We will be meeting in person at the Eaton Branch! Bring your LEGOs and your imagination to show off your Master Builder skills! \nThe library will have LEGOs for children to build with!\nThis program will run for approximately 45 minutes.
URL:https://preblelibrary.org/event/lego-club-eaton-branch/2026-09-28/
LOCATION:Eaton
CATEGORIES:In-Person,Lego Club
ATTACH;FMTTYPE=image/png:https://preblelibrary.org/wp-content/uploads/2022/08/LEGO-Club-Eaton-Website.png
END:VEVENT
BEGIN:VEVENT
DTSTART;TZID=America/Detroit:20261012T170000
DTEND;TZID=America/Detroit:20261012T180000
DTSTAMP:20260424T145548
CREATED:20260313T183735Z
LAST-MODIFIED:20260313T183735Z
UID:10012301-1791824400-1791828000@preblelibrary.org
SUMMARY:Let’s Role! Kids RPG Club
DESCRIPTION:Greetings\, young adventurer! A realm of wonder awaits thee! Join our fellowship of heroes for a noble quest. \nThis club is recommended for children 6-12 years of age and will meet on the second Monday of each month at 5 p.m. Each month\, the group will complete a campaign of different kid-friendly\, tabletop RPG games.
URL:https://preblelibrary.org/event/lets-role-kids-rpg-club/2026-10-12/
LOCATION:Eaton
CATEGORIES:In-Person
ATTACH;FMTTYPE=image/png:https://preblelibrary.org/wp-content/uploads/2023/12/Event-Calendar-Images-5.png
END:VEVENT
BEGIN:VEVENT
DTSTART;TZID=America/Detroit:20261026T163000
DTEND;TZID=America/Detroit:20261026T171500
DTSTAMP:20260424T145548
CREATED:20260327T174255Z
LAST-MODIFIED:20260327T174255Z
UID:10012350-1793032200-1793034900@preblelibrary.org
SUMMARY:LEGO Club (Eaton Branch)
DESCRIPTION:Join us on the last Monday of the month for the Eaton Branch Library’s LEGO Club! We will be meeting in person at the Eaton Branch! Bring your LEGOs and your imagination to show off your Master Builder skills! \nThe library will have LEGOs for children to build with!\nThis program will run for approximately 45 minutes.
URL:https://preblelibrary.org/event/lego-club-eaton-branch/2026-10-26/
LOCATION:Eaton
CATEGORIES:In-Person,Lego Club
ATTACH;FMTTYPE=image/png:https://preblelibrary.org/wp-content/uploads/2022/08/LEGO-Club-Eaton-Website.png
END:VEVENT
BEGIN:VEVENT
DTSTART;TZID=America/Detroit:20261109T170000
DTEND;TZID=America/Detroit:20261109T180000
DTSTAMP:20260424T145548
CREATED:20260313T183735Z
LAST-MODIFIED:20260313T183735Z
UID:10012302-1794243600-1794247200@preblelibrary.org
SUMMARY:Let’s Role! Kids RPG Club
DESCRIPTION:Greetings\, young adventurer! A realm of wonder awaits thee! Join our fellowship of heroes for a noble quest. \nThis club is recommended for children 6-12 years of age and will meet on the second Monday of each month at 5 p.m. Each month\, the group will complete a campaign of different kid-friendly\, tabletop RPG games.
URL:https://preblelibrary.org/event/lets-role-kids-rpg-club/2026-11-09/
LOCATION:Eaton
CATEGORIES:In-Person
ATTACH;FMTTYPE=image/png:https://preblelibrary.org/wp-content/uploads/2023/12/Event-Calendar-Images-5.png
END:VEVENT
BEGIN:VEVENT
DTSTART;TZID=America/Detroit:20261130T163000
DTEND;TZID=America/Detroit:20261130T171500
DTSTAMP:20260424T145548
CREATED:20260327T174255Z
LAST-MODIFIED:20260327T174255Z
UID:10012351-1796056200-1796058900@preblelibrary.org
SUMMARY:LEGO Club (Eaton Branch)
DESCRIPTION:Join us on the last Monday of the month for the Eaton Branch Library’s LEGO Club! We will be meeting in person at the Eaton Branch! Bring your LEGOs and your imagination to show off your Master Builder skills! \nThe library will have LEGOs for children to build with!\nThis program will run for approximately 45 minutes.
URL:https://preblelibrary.org/event/lego-club-eaton-branch/2026-11-30/
LOCATION:Eaton
CATEGORIES:In-Person,Lego Club
ATTACH;FMTTYPE=image/png:https://preblelibrary.org/wp-content/uploads/2022/08/LEGO-Club-Eaton-Website.png
END:VEVENT
BEGIN:VEVENT
DTSTART;TZID=America/Detroit:20261214T170000
DTEND;TZID=America/Detroit:20261214T180000
DTSTAMP:20260424T145548
CREATED:20260313T183735Z
LAST-MODIFIED:20260313T183735Z
UID:10012303-1797267600-1797271200@preblelibrary.org
SUMMARY:Let’s Role! Kids RPG Club
DESCRIPTION:Greetings\, young adventurer! A realm of wonder awaits thee! Join our fellowship of heroes for a noble quest. \nThis club is recommended for children 6-12 years of age and will meet on the second Monday of each month at 5 p.m. Each month\, the group will complete a campaign of different kid-friendly\, tabletop RPG games.
URL:https://preblelibrary.org/event/lets-role-kids-rpg-club/2026-12-14/
LOCATION:Eaton
CATEGORIES:In-Person
ATTACH;FMTTYPE=image/png:https://preblelibrary.org/wp-content/uploads/2023/12/Event-Calendar-Images-5.png
END:VEVENT
BEGIN:VEVENT
DTSTART;TZID=America/Detroit:20261228T163000
DTEND;TZID=America/Detroit:20261228T171500
DTSTAMP:20260424T145548
CREATED:20260327T174255Z
LAST-MODIFIED:20260327T174255Z
UID:10012352-1798475400-1798478100@preblelibrary.org
SUMMARY:LEGO Club (Eaton Branch)
DESCRIPTION:Join us on the last Monday of the month for the Eaton Branch Library’s LEGO Club! We will be meeting in person at the Eaton Branch! Bring your LEGOs and your imagination to show off your Master Builder skills! \nThe library will have LEGOs for children to build with!\nThis program will run for approximately 45 minutes.
URL:https://preblelibrary.org/event/lego-club-eaton-branch/2026-12-28/
LOCATION:Eaton
CATEGORIES:In-Person,Lego Club
ATTACH;FMTTYPE=image/png:https://preblelibrary.org/wp-content/uploads/2022/08/LEGO-Club-Eaton-Website.png
END:VEVENT
BEGIN:VEVENT
DTSTART;TZID=America/Detroit:20270111T170000
DTEND;TZID=America/Detroit:20270111T180000
DTSTAMP:20260424T145548
CREATED:20260313T183735Z
LAST-MODIFIED:20260313T183735Z
UID:10012304-1799686800-1799690400@preblelibrary.org
SUMMARY:Let’s Role! Kids RPG Club
DESCRIPTION:Greetings\, young adventurer! A realm of wonder awaits thee! Join our fellowship of heroes for a noble quest. \nThis club is recommended for children 6-12 years of age and will meet on the second Monday of each month at 5 p.m. Each month\, the group will complete a campaign of different kid-friendly\, tabletop RPG games.
URL:https://preblelibrary.org/event/lets-role-kids-rpg-club/2027-01-11/
LOCATION:Eaton
CATEGORIES:In-Person
ATTACH;FMTTYPE=image/png:https://preblelibrary.org/wp-content/uploads/2023/12/Event-Calendar-Images-5.png
END:VEVENT
BEGIN:VEVENT
DTSTART;TZID=America/Detroit:20270125T163000
DTEND;TZID=America/Detroit:20270125T171500
DTSTAMP:20260424T145548
CREATED:20260327T174255Z
LAST-MODIFIED:20260327T174255Z
UID:10012353-1800894600-1800897300@preblelibrary.org
SUMMARY:LEGO Club (Eaton Branch)
DESCRIPTION:Join us on the last Monday of the month for the Eaton Branch Library’s LEGO Club! We will be meeting in person at the Eaton Branch! Bring your LEGOs and your imagination to show off your Master Builder skills! \nThe library will have LEGOs for children to build with!\nThis program will run for approximately 45 minutes.
URL:https://preblelibrary.org/event/lego-club-eaton-branch/2027-01-25/
LOCATION:Eaton
CATEGORIES:In-Person,Lego Club
ATTACH;FMTTYPE=image/png:https://preblelibrary.org/wp-content/uploads/2022/08/LEGO-Club-Eaton-Website.png
END:VEVENT
BEGIN:VEVENT
DTSTART;TZID=America/Detroit:20270222T163000
DTEND;TZID=America/Detroit:20270222T171500
DTSTAMP:20260424T145548
CREATED:20260327T174255Z
LAST-MODIFIED:20260327T174255Z
UID:10012354-1803313800-1803316500@preblelibrary.org
SUMMARY:LEGO Club (Eaton Branch)
DESCRIPTION:Join us on the last Monday of the month for the Eaton Branch Library’s LEGO Club! We will be meeting in person at the Eaton Branch! Bring your LEGOs and your imagination to show off your Master Builder skills! \nThe library will have LEGOs for children to build with!\nThis program will run for approximately 45 minutes.
URL:https://preblelibrary.org/event/lego-club-eaton-branch/2027-02-22/
LOCATION:Eaton
CATEGORIES:In-Person,Lego Club
ATTACH;FMTTYPE=image/png:https://preblelibrary.org/wp-content/uploads/2022/08/LEGO-Club-Eaton-Website.png
END:VEVENT
BEGIN:VEVENT
DTSTART;TZID=America/Detroit:20270329T163000
DTEND;TZID=America/Detroit:20270329T171500
DTSTAMP:20260424T145548
CREATED:20260327T174255Z
LAST-MODIFIED:20260327T174255Z
UID:10012355-1806337800-1806340500@preblelibrary.org
SUMMARY:LEGO Club (Eaton Branch)
DESCRIPTION:Join us on the last Monday of the month for the Eaton Branch Library’s LEGO Club! We will be meeting in person at the Eaton Branch! Bring your LEGOs and your imagination to show off your Master Builder skills! \nThe library will have LEGOs for children to build with!\nThis program will run for approximately 45 minutes.
URL:https://preblelibrary.org/event/lego-club-eaton-branch/2027-03-29/
LOCATION:Eaton
CATEGORIES:In-Person,Lego Club
ATTACH;FMTTYPE=image/png:https://preblelibrary.org/wp-content/uploads/2022/08/LEGO-Club-Eaton-Website.png
END:VEVENT
END:VCALENDAR