BEGIN:VCALENDAR
VERSION:2.0
PRODID:-//Preble County Library - ECPv6.15.20//NONSGML v1.0//EN
CALSCALE:GREGORIAN
METHOD:PUBLISH
X-WR-CALNAME:Preble County Library
X-ORIGINAL-URL:https://preblelibrary.org
X-WR-CALDESC:Events for Preble County Library
REFRESH-INTERVAL;VALUE=DURATION:PT1H
X-Robots-Tag:noindex
X-PUBLISHED-TTL:PT1H
BEGIN:VTIMEZONE
TZID:America/Detroit
BEGIN:DAYLIGHT
TZOFFSETFROM:-0500
TZOFFSETTO:-0400
TZNAME:EDT
DTSTART:20250309T070000
END:DAYLIGHT
BEGIN:STANDARD
TZOFFSETFROM:-0400
TZOFFSETTO:-0500
TZNAME:EST
DTSTART:20251102T060000
END:STANDARD
BEGIN:DAYLIGHT
TZOFFSETFROM:-0500
TZOFFSETTO:-0400
TZNAME:EDT
DTSTART:20260308T070000
END:DAYLIGHT
BEGIN:STANDARD
TZOFFSETFROM:-0400
TZOFFSETTO:-0500
TZNAME:EST
DTSTART:20261101T060000
END:STANDARD
BEGIN:DAYLIGHT
TZOFFSETFROM:-0500
TZOFFSETTO:-0400
TZNAME:EDT
DTSTART:20270314T070000
END:DAYLIGHT
BEGIN:STANDARD
TZOFFSETFROM:-0400
TZOFFSETTO:-0500
TZNAME:EST
DTSTART:20271107T060000
END:STANDARD
END:VTIMEZONE
BEGIN:VEVENT
DTSTART;VALUE=DATE:20260201
DTEND;VALUE=DATE:20260202
DTSTAMP:20260424T133708
CREATED:20251219T200522Z
LAST-MODIFIED:20251219T200522Z
UID:10011950-1769904000-1769990399@preblelibrary.org
SUMMARY:Winter Olympics Reading Challenge (Beanstack)
DESCRIPTION:The 2026 Winter Olympics will be held in the Italian cities of Milan and Cortina d’Ampezzo. Athletes will compete in fun sports like skiing\, snowboarding\, and ice skating in the snowy mountains and on the ice. Celebrate by logging your reading and earning Olympic-inspired badges throughout the month! The goal is to read 5 hours in one month! Once the challenge is complete\, stop by your local branch to pick out a small prize! \nWhen: February 1- 28\, 2026 \nSuitable For: All ages \nHow to Participate: Sign up online through Beanstack> https://preblelibrary.beanstack.org/reader365 \n 
URL:https://preblelibrary.org/event/winter-olympics-reading-challenge-beanstack/
LOCATION:All
ATTACH;FMTTYPE=image/png:https://preblelibrary.org/wp-content/uploads/2025/12/Winter-Olympic-Reading-Challenge-2026.png
END:VEVENT
BEGIN:VEVENT
DTSTART;VALUE=DATE:20260202
DTEND;VALUE=DATE:20260203
DTSTAMP:20260424T133708
CREATED:20260113T194232Z
LAST-MODIFIED:20260113T194232Z
UID:10012077-1769990400-1770076799@preblelibrary.org
SUMMARY:Window Hearts
DESCRIPTION:During the month of February\, help the West Elkton Branch decorate the big picture window with conversation hearts customized by you! Write a fun saying\, a kind word\, an inspirational note\, or a word of encouragement to show our community some love! Please stop in and fill our window. We look forward to seeing you!
URL:https://preblelibrary.org/event/window-hearts/2026-02-02/
LOCATION:West Elkton
CATEGORIES:In-Person
ATTACH;FMTTYPE=image/png:https://preblelibrary.org/wp-content/uploads/2026/01/Window-Hearts.png
END:VEVENT
BEGIN:VEVENT
DTSTART;TZID=America/Detroit:20260203T153000
DTEND;TZID=America/Detroit:20260203T170000
DTSTAMP:20260424T133708
CREATED:20260113T170827Z
LAST-MODIFIED:20260113T190113Z
UID:10012076-1770132600-1770138000@preblelibrary.org
SUMMARY:Teens: Weird Foods
DESCRIPTION:Come sample the strangest flavors! \nPatrons in grades 6-12 are invited to kick off the 2026 teen programming season with the fan-favorite Weird Foods program. \nIn the past\, we’ve tried everything from pickle candy to dried cod! What strange snacks will you try this time? \n*This free program is open to patrons in grades 6-12. Please inform the instructor of any food allergies at the beginning of the program.*
URL:https://preblelibrary.org/event/teens-weird-foods/
LOCATION:Eaton
CATEGORIES:In-Person
ATTACH;FMTTYPE=image/png:https://preblelibrary.org/wp-content/uploads/2026/01/2026.-Teens-Weird-Foods-Website-Graphic-3.png
END:VEVENT
BEGIN:VEVENT
DTSTART;TZID=America/Detroit:20260204T163000
DTEND;TZID=America/Detroit:20260204T174500
DTSTAMP:20260424T133708
CREATED:20260120T211804Z
LAST-MODIFIED:20260120T211840Z
UID:10012110-1770222600-1770227100@preblelibrary.org
SUMMARY:LEGO Day
DESCRIPTION:How crazy can you build a LEGO tower\, and have it stand\, or what kind of car would Minifigs drive in outer space? Come show us!
URL:https://preblelibrary.org/event/lego-day-7/
LOCATION:West Manchester
CATEGORIES:In-Person
ATTACH;FMTTYPE=image/png:https://preblelibrary.org/wp-content/uploads/2026/01/2025.-West-Manchester-LEGO-Day-4.png
END:VEVENT
BEGIN:VEVENT
DTSTART;VALUE=DATE:20260206
DTEND;VALUE=DATE:20260207
DTSTAMP:20260424T133708
CREATED:20251209T152453Z
LAST-MODIFIED:20251209T161224Z
UID:10011873-1770336000-1770422399@preblelibrary.org
SUMMARY:Winter Reading - Level Up at Your Library
DESCRIPTION:It’s that time again—Winter Reading is back at the West Alexandria Library! This year\, we’re leveling up with all things gaming from Jan 2 – Feb 28. \nSign-up begins January 2\, and the last day to turn in your completed items is February 28. \nChildren (ages 0–12): You’ll be placed on one of three teams\, each captained by a librarian. \nTeens (ages 12–17) & Adults (18+): Challenge our librarians to see who can complete the most coveralls! \nAll winter long\, enjoy games\, books about games\, and even more games—it’s the perfect way to read\, play\, and have fun this winter. \nLevel up your reading skills and game knowledge—join us at the library and let the fun begin!
URL:https://preblelibrary.org/event/winter-reading-level-up-at-your-library-6/
LOCATION:West Alexandria
CATEGORIES:In-Person
ATTACH;FMTTYPE=image/png:https://preblelibrary.org/wp-content/uploads/2025/12/2026.-West-Alexandria-Winter-Reading-Level-Up-at-Your-Library-Flyer-10.png
END:VEVENT
BEGIN:VEVENT
DTSTART;TZID=America/Detroit:20260207T110000
DTEND;TZID=America/Detroit:20260207T130000
DTSTAMP:20260424T133708
CREATED:20251219T170736Z
LAST-MODIFIED:20251219T171041Z
UID:10011946-1770462000-1770469200@preblelibrary.org
SUMMARY:Level Up at Your Library Game Day Saturdays
DESCRIPTION:Saturday Game Days – Join us every Saturday in February! \nLooking for something fun to do this winter? Come in from the cold and join us for a new gaming adventure every Saturday in February! Each week brings a different theme with exciting games to explore. We’ll have plenty to choose from—or bring your own that fits the theme! \nGame Day Schedule: \nSaturday\, February 7 – Guessing Games\nGet your detective hat on with:\nClue\, Guess Who\, Dr. Seuss Who’s That?\, Hues and Clues and more! \nSaturday\, February 14 – Word Games\nCelebrate Valentine’s Day with wordplay and wit!\nGames include: Boggle\, Scrabble\, Word Yahtzee\, Wheel of Fortune\, Scrabble Junior \nSaturday\, February 21 – Library Olympics\nReady\, set\, play! Compete in fun\, fast-paced games and see if you have what it takes to become the next Library Olympic Champion! \nSaturday\, February 28 – LEGO Challenges\nBack by popular demand! This week is all about building\, creating\, and imagining with LEGO.\nTake on new challenges and show off your skills! \nAll ages welcome! Come for the games\, stay for the fun!
URL:https://preblelibrary.org/event/level-up-at-your-library-game-day-saturdays-5/
LOCATION:West Alexandria
CATEGORIES:In-Person
ATTACH;FMTTYPE=image/png:https://preblelibrary.org/wp-content/uploads/2025/12/2026-WA-Level-Up-at-Your-Library-February-2.png
END:VEVENT
BEGIN:VEVENT
DTSTART;VALUE=DATE:20260209
DTEND;VALUE=DATE:20260210
DTSTAMP:20260424T133708
CREATED:20260106T131040Z
LAST-MODIFIED:20260106T131040Z
UID:10011968-1770595200-1770681599@preblelibrary.org
SUMMARY:Valentine Card Station
DESCRIPTION:Make a card for someone special at the library’s Valentine Card Station! The card station will be available from February 9th – 14th\, during regular business hours.
URL:https://preblelibrary.org/event/valentine-card-station/
LOCATION:New Paris
CATEGORIES:Crafting,In-Person
ATTACH;FMTTYPE=image/png:https://preblelibrary.org/wp-content/uploads/2026/01/2026.-New-Paris-Valentine-Card-Station-Flyer-1.png
END:VEVENT
BEGIN:VEVENT
DTSTART;VALUE=DATE:20260209
DTEND;VALUE=DATE:20260210
DTSTAMP:20260424T133708
CREATED:20260112T161914Z
LAST-MODIFIED:20260112T162411Z
UID:10012067-1770595200-1770681599@preblelibrary.org
SUMMARY:Book & Bake Sale
DESCRIPTION:The Camden Library will be holding a book and bake sale from February 9th through February 14th during regular business hours. There are no set prices; items are available by donation only. All proceeds support the Camden Library.
URL:https://preblelibrary.org/event/book-bake-sale/
LOCATION:Camden
CATEGORIES:In-Person
ATTACH;FMTTYPE=image/png:https://preblelibrary.org/wp-content/uploads/2026/01/2026.-Camden-Book-Bake-Sale-Flyer-4.png
END:VEVENT
BEGIN:VEVENT
DTSTART;VALUE=DATE:20260209
DTEND;VALUE=DATE:20260210
DTSTAMP:20260424T133708
CREATED:20260113T194232Z
LAST-MODIFIED:20260113T194232Z
UID:10012078-1770595200-1770681599@preblelibrary.org
SUMMARY:Window Hearts
DESCRIPTION:During the month of February\, help the West Elkton Branch decorate the big picture window with conversation hearts customized by you! Write a fun saying\, a kind word\, an inspirational note\, or a word of encouragement to show our community some love! Please stop in and fill our window. We look forward to seeing you!
URL:https://preblelibrary.org/event/window-hearts/2026-02-09/
LOCATION:West Elkton
CATEGORIES:In-Person
ATTACH;FMTTYPE=image/png:https://preblelibrary.org/wp-content/uploads/2026/01/Window-Hearts.png
END:VEVENT
BEGIN:VEVENT
DTSTART;TZID=America/Detroit:20260210T153000
DTEND;TZID=America/Detroit:20260210T170000
DTSTAMP:20260424T133708
CREATED:20260113T203523Z
LAST-MODIFIED:20260113T203523Z
UID:10012081-1770737400-1770742800@preblelibrary.org
SUMMARY:Teens: Vintage Valentines
DESCRIPTION:Talk about a throwback! \nThis Valentine’s party is filled with retro crafts and activities and is open to patrons in grades 6-12.
URL:https://preblelibrary.org/event/teens-vintage-valentines/
LOCATION:Eaton
CATEGORIES:In-Person
ATTACH;FMTTYPE=image/png:https://preblelibrary.org/wp-content/uploads/2026/01/2026.-Teens-Vintage-Valentines-Flyer-4.png
END:VEVENT
BEGIN:VEVENT
DTSTART;VALUE=DATE:20260213
DTEND;VALUE=DATE:20260214
DTSTAMP:20260424T133708
CREATED:20251209T152630Z
LAST-MODIFIED:20251209T161254Z
UID:10011874-1770940800-1771027199@preblelibrary.org
SUMMARY:Winter Reading - Level Up at Your Library
DESCRIPTION:It’s that time again—Winter Reading is back at the West Alexandria Library! This year\, we’re leveling up with all things gaming from Jan 2 – Feb 28. \nSign-up begins January 2\, and the last day to turn in your completed items is February 28. \nChildren (ages 0–12): You’ll be placed on one of three teams\, each captained by a librarian. \nTeens (ages 12–17) & Adults (18+): Challenge our librarians to see who can complete the most coveralls! \nAll winter long\, enjoy games\, books about games\, and even more games—it’s the perfect way to read\, play\, and have fun this winter. \nLevel up your reading skills and game knowledge—join us at the library and let the fun begin!
URL:https://preblelibrary.org/event/winter-reading-level-up-at-your-library-7/
LOCATION:West Alexandria
CATEGORIES:In-Person
ATTACH;FMTTYPE=image/png:https://preblelibrary.org/wp-content/uploads/2025/12/2026.-West-Alexandria-Winter-Reading-Level-Up-at-Your-Library-Flyer-10.png
END:VEVENT
BEGIN:VEVENT
DTSTART;TZID=America/Detroit:20260214T110000
DTEND;TZID=America/Detroit:20260214T130000
DTSTAMP:20260424T133708
CREATED:20251219T171249Z
LAST-MODIFIED:20251219T171249Z
UID:10011947-1771066800-1771074000@preblelibrary.org
SUMMARY:Level Up at Your Library Game Day Saturdays
DESCRIPTION:Saturday Game Days – Join us every Saturday in February! \nLooking for something fun to do this winter? Come in from the cold and join us for a new gaming adventure every Saturday in February! Each week brings a different theme with exciting games to explore. We’ll have plenty to choose from—or bring your own that fits the theme! \nGame Day Schedule: \nSaturday\, February 7 – Guessing Games\nGet your detective hat on with:\nClue\, Guess Who\, Dr. Seuss Who’s That?\, Hues and Clues and more! \nSaturday\, February 14 – Word Games\nCelebrate Valentine’s Day with wordplay and wit!\nGames include: Boggle\, Scrabble\, Word Yahtzee\, Wheel of Fortune\, Scrabble Junior \nSaturday\, February 21 – Library Olympics\nReady\, set\, play! Compete in fun\, fast-paced games and see if you have what it takes to become the next Library Olympic Champion! \nSaturday\, February 28 – LEGO Challenges\nBack by popular demand! This week is all about building\, creating\, and imagining with LEGO.\nTake on new challenges and show off your skills! \nAll ages welcome! Come for the games\, stay for the fun!
URL:https://preblelibrary.org/event/level-up-at-your-library-game-day-saturdays-6/
LOCATION:West Alexandria
CATEGORIES:In-Person
ATTACH;FMTTYPE=image/png:https://preblelibrary.org/wp-content/uploads/2025/12/2026-WA-Level-Up-at-Your-Library-February-2.png
END:VEVENT
BEGIN:VEVENT
DTSTART;VALUE=DATE:20260216
DTEND;VALUE=DATE:20260217
DTSTAMP:20260424T133708
CREATED:20260113T194232Z
LAST-MODIFIED:20260113T194232Z
UID:10012079-1771200000-1771286399@preblelibrary.org
SUMMARY:Window Hearts
DESCRIPTION:During the month of February\, help the West Elkton Branch decorate the big picture window with conversation hearts customized by you! Write a fun saying\, a kind word\, an inspirational note\, or a word of encouragement to show our community some love! Please stop in and fill our window. We look forward to seeing you!
URL:https://preblelibrary.org/event/window-hearts/2026-02-16/
LOCATION:West Elkton
CATEGORIES:In-Person
ATTACH;FMTTYPE=image/png:https://preblelibrary.org/wp-content/uploads/2026/01/Window-Hearts.png
END:VEVENT
BEGIN:VEVENT
DTSTART;TZID=America/Detroit:20260217T153000
DTEND;TZID=America/Detroit:20260217T163000
DTSTAMP:20260424T133708
CREATED:20260115T164938Z
LAST-MODIFIED:20260115T165922Z
UID:10012085-1771342200-1771345800@preblelibrary.org
SUMMARY:Teen Craft: Pet Toys
DESCRIPTION:Celebrate Random Acts of Kindness Day by making pet toys for your own pet—or to donate to a furry friend in need. \n\n\nDon’t have a pet? No problem! Join us anyway! We’ll make sure every toy finds a loving home.
URL:https://preblelibrary.org/event/teen-craft-pet-toys/
LOCATION:West Alexandria
CATEGORIES:In-Person
ATTACH;FMTTYPE=image/png:https://preblelibrary.org/wp-content/uploads/2026/01/2026.-WA-Teen-Craft-Pet-Toys-2.png
END:VEVENT
BEGIN:VEVENT
DTSTART;TZID=America/Detroit:20260218T163000
DTEND;TZID=America/Detroit:20260218T174500
DTSTAMP:20260424T133708
CREATED:20260120T212930Z
LAST-MODIFIED:20260120T213541Z
UID:10012111-1771432200-1771436700@preblelibrary.org
SUMMARY:Creative Building Day
DESCRIPTION:Anything we have but LEGOs—what will you build?
URL:https://preblelibrary.org/event/creative-building-day-2/
LOCATION:West Manchester
CATEGORIES:In-Person
ATTACH;FMTTYPE=image/png:https://preblelibrary.org/wp-content/uploads/2026/01/2026.-West-Manchester-Creative-Building-Day-Website-Graphic-1.png
END:VEVENT
BEGIN:VEVENT
DTSTART;VALUE=DATE:20260220
DTEND;VALUE=DATE:20260221
DTSTAMP:20260424T133708
CREATED:20251209T152756Z
LAST-MODIFIED:20251209T160709Z
UID:10011875-1771545600-1771631999@preblelibrary.org
SUMMARY:Winter Reading - Level Up at Your Library
DESCRIPTION:It’s that time again—Winter Reading is back at the West Alexandria Library! This year\, we’re leveling up with all things gaming from Jan 2 – Feb 28. \nSign-up begins January 2\, and the last day to turn in your completed items is February 28. \nChildren (ages 0–12): You’ll be placed on one of three teams\, each captained by a librarian. \nTeens (ages 12–17) & Adults (18+): Challenge our librarians to see who can complete the most coveralls! \nAll winter long\, enjoy games\, books about games\, and even more games—it’s the perfect way to read\, play\, and have fun this winter. \nLevel up your reading skills and game knowledge—join us at the library and let the fun begin!
URL:https://preblelibrary.org/event/winter-reading-level-up-at-your-library-8/
LOCATION:West Alexandria
CATEGORIES:In-Person
ATTACH;FMTTYPE=image/png:https://preblelibrary.org/wp-content/uploads/2025/12/2026.-West-Alexandria-Winter-Reading-Level-Up-at-Your-Library-Flyer-10.png
END:VEVENT
BEGIN:VEVENT
DTSTART;TZID=America/Detroit:20260221T110000
DTEND;TZID=America/Detroit:20260221T130000
DTSTAMP:20260424T133708
CREATED:20251219T171452Z
LAST-MODIFIED:20251219T171452Z
UID:10011948-1771671600-1771678800@preblelibrary.org
SUMMARY:Level Up at Your Library Game Day Saturdays
DESCRIPTION:Saturday Game Days – Join us every Saturday in February! \nLooking for something fun to do this winter? Come in from the cold and join us for a new gaming adventure every Saturday in February! Each week brings a different theme with exciting games to explore. We’ll have plenty to choose from—or bring your own that fits the theme! \nGame Day Schedule: \nSaturday\, February 7 – Guessing Games\nGet your detective hat on with:\nClue\, Guess Who\, Dr. Seuss Who’s That?\, Hues and Clues and more! \nSaturday\, February 14 – Word Games\nCelebrate Valentine’s Day with wordplay and wit!\nGames include: Boggle\, Scrabble\, Word Yahtzee\, Wheel of Fortune\, Scrabble Junior \nSaturday\, February 21 – Library Olympics\nReady\, set\, play! Compete in fun\, fast-paced games and see if you have what it takes to become the next Library Olympic Champion! \nSaturday\, February 28 – LEGO Challenges\nBack by popular demand! This week is all about building\, creating\, and imagining with LEGO.\nTake on new challenges and show off your skills! \nAll ages welcome! Come for the games\, stay for the fun!
URL:https://preblelibrary.org/event/level-up-at-your-library-game-day-saturdays-7/
LOCATION:West Alexandria
CATEGORIES:In-Person
ATTACH;FMTTYPE=image/png:https://preblelibrary.org/wp-content/uploads/2025/12/2026-WA-Level-Up-at-Your-Library-February-2.png
END:VEVENT
BEGIN:VEVENT
DTSTART;VALUE=DATE:20260223
DTEND;VALUE=DATE:20260224
DTSTAMP:20260424T133708
CREATED:20260113T194232Z
LAST-MODIFIED:20260113T194232Z
UID:10012080-1771804800-1771891199@preblelibrary.org
SUMMARY:Window Hearts
DESCRIPTION:During the month of February\, help the West Elkton Branch decorate the big picture window with conversation hearts customized by you! Write a fun saying\, a kind word\, an inspirational note\, or a word of encouragement to show our community some love! Please stop in and fill our window. We look forward to seeing you!
URL:https://preblelibrary.org/event/window-hearts/2026-02-23/
LOCATION:West Elkton
CATEGORIES:In-Person
ATTACH;FMTTYPE=image/png:https://preblelibrary.org/wp-content/uploads/2026/01/Window-Hearts.png
END:VEVENT
BEGIN:VEVENT
DTSTART;TZID=America/Detroit:20260224T140000
DTEND;TZID=America/Detroit:20260224T200000
DTSTAMP:20260424T133708
CREATED:20260120T205742Z
LAST-MODIFIED:20260120T205742Z
UID:10012109-1771941600-1771963200@preblelibrary.org
SUMMARY:LEGO Day
DESCRIPTION:Stop by during our open hours and play with the library’s LEGO collection. Build with your friends and grow your building skills.
URL:https://preblelibrary.org/event/lego-day-6/
LOCATION:New Paris
CATEGORIES:In-Person
ATTACH;FMTTYPE=image/png:https://preblelibrary.org/wp-content/uploads/2025/10/2025.-New-Paris-LEGO-Day-Website-Graphic-7.png
END:VEVENT
BEGIN:VEVENT
DTSTART;TZID=America/Detroit:20260224T153000
DTEND;TZID=America/Detroit:20260224T173000
DTSTAMP:20260424T133708
CREATED:20260120T180412Z
LAST-MODIFIED:20260120T180412Z
UID:10012105-1771947000-1771954200@preblelibrary.org
SUMMARY:Teens: Monthly Movie
DESCRIPTION:Once a month\, enjoy a free screening of a teen-selected film at the Eaton Branch! \nCast your vote and settle in for a movie night with friends. Popcorn is provided! \n*This FREE program is open to patrons in grades 6-12*
URL:https://preblelibrary.org/event/teens-monthly-movie/
LOCATION:Eaton
CATEGORIES:In-Person
ATTACH;FMTTYPE=image/png:https://preblelibrary.org/wp-content/uploads/2026/01/2026.-Teens-Monthly-Movie-Website-Graphic-1.png
END:VEVENT
BEGIN:VEVENT
DTSTART;TZID=America/Detroit:20260225T163000
DTEND;TZID=America/Detroit:20260225T174500
DTSTAMP:20260424T133708
CREATED:20260121T130028Z
LAST-MODIFIED:20260121T130028Z
UID:10012112-1772037000-1772041500@preblelibrary.org
SUMMARY:Winter Bingo!
DESCRIPTION:Kid-friendly games with small prizes!
URL:https://preblelibrary.org/event/winter-bingo/
LOCATION:West Manchester
CATEGORIES:In-Person
ATTACH;FMTTYPE=image/png:https://preblelibrary.org/wp-content/uploads/2026/01/2026.-WM-Winter-Bingo-Website-Graphic.png
END:VEVENT
BEGIN:VEVENT
DTSTART;VALUE=DATE:20260227
DTEND;VALUE=DATE:20260228
DTSTAMP:20260424T133708
CREATED:20251209T153029Z
LAST-MODIFIED:20251209T161330Z
UID:10011876-1772150400-1772236799@preblelibrary.org
SUMMARY:Winter Reading - Level Up at Your Library
DESCRIPTION:It’s that time again—Winter Reading is back at the West Alexandria Library! This year\, we’re leveling up with all things gaming from Jan 2 – Feb 28. \nSign-up begins January 2\, and the last day to turn in your completed items is February 28. \nChildren (ages 0–12): You’ll be placed on one of three teams\, each captained by a librarian. \nTeens (ages 12–17) & Adults (18+): Challenge our librarians to see who can complete the most coveralls! \nAll winter long\, enjoy games\, books about games\, and even more games—it’s the perfect way to read\, play\, and have fun this winter. \nLevel up your reading skills and game knowledge—join us at the library and let the fun begin!
URL:https://preblelibrary.org/event/winter-reading-level-up-at-your-library-9/
LOCATION:West Alexandria
CATEGORIES:In-Person
ATTACH;FMTTYPE=image/png:https://preblelibrary.org/wp-content/uploads/2025/12/2026.-West-Alexandria-Winter-Reading-Level-Up-at-Your-Library-Flyer-10.png
END:VEVENT
BEGIN:VEVENT
DTSTART;TZID=America/Detroit:20260228T090000
DTEND;TZID=America/Detroit:20260228T170000
DTSTAMP:20260424T133708
CREATED:20260115T133021Z
LAST-MODIFIED:20260115T133021Z
UID:10012083-1772269200-1772298000@preblelibrary.org
SUMMARY:Eaton Library Book Sale
DESCRIPTION:The Eaton Library book sale is back! \nIt will run for one week\, from February 28 to March 7\, 9:00am-5:00pm. Get to the library early for the best selection of fiction\, nonfiction\, young adult\, and children’s books\, as well as CDs and DVDs! There are no set prices; all sales are by donation only. \nGrab what you want and give as much as you can. All funds raised support the Eaton Library.
URL:https://preblelibrary.org/event/eaton-library-book-sale/
LOCATION:Eaton
CATEGORIES:Book Sale,In-Person
ATTACH;FMTTYPE=image/png:https://preblelibrary.org/wp-content/uploads/2026/01/2026.-Eaton-Library-Book-Sale.png
END:VEVENT
BEGIN:VEVENT
DTSTART;TZID=America/Detroit:20260228T110000
DTEND;TZID=America/Detroit:20260228T130000
DTSTAMP:20260424T133708
CREATED:20251219T171656Z
LAST-MODIFIED:20251219T171656Z
UID:10011949-1772276400-1772283600@preblelibrary.org
SUMMARY:Level Up at Your Library Game Day Saturdays
DESCRIPTION:Saturday Game Days – Join us every Saturday in February! \nLooking for something fun to do this winter? Come in from the cold and join us for a new gaming adventure every Saturday in February! Each week brings a different theme with exciting games to explore. We’ll have plenty to choose from—or bring your own that fits the theme! \nGame Day Schedule: \nSaturday\, February 7 – Guessing Games\nGet your detective hat on with:\nClue\, Guess Who\, Dr. Seuss Who’s That?\, Hues and Clues and more! \nSaturday\, February 14 – Word Games\nCelebrate Valentine’s Day with wordplay and wit!\nGames include: Boggle\, Scrabble\, Word Yahtzee\, Wheel of Fortune\, Scrabble Junior \nSaturday\, February 21 – Library Olympics\nReady\, set\, play! Compete in fun\, fast-paced games and see if you have what it takes to become the next Library Olympic Champion! \nSaturday\, February 28 – LEGO Challenges\nBack by popular demand! This week is all about building\, creating\, and imagining with LEGO.\nTake on new challenges and show off your skills! \nAll ages welcome! Come for the games\, stay for the fun!
URL:https://preblelibrary.org/event/level-up-at-your-library-game-day-saturdays-8/
LOCATION:West Alexandria
CATEGORIES:In-Person
ATTACH;FMTTYPE=image/png:https://preblelibrary.org/wp-content/uploads/2025/12/2026-WA-Level-Up-at-Your-Library-February-2.png
END:VEVENT
END:VCALENDAR