BEGIN:VCALENDAR
VERSION:2.0
PRODID:-//Preble County Library - ECPv6.15.20//NONSGML v1.0//EN
CALSCALE:GREGORIAN
METHOD:PUBLISH
X-WR-CALNAME:Preble County Library
X-ORIGINAL-URL:https://preblelibrary.org
X-WR-CALDESC:Events for Preble County Library
REFRESH-INTERVAL;VALUE=DURATION:PT1H
X-Robots-Tag:noindex
X-PUBLISHED-TTL:PT1H
BEGIN:VTIMEZONE
TZID:America/Detroit
BEGIN:DAYLIGHT
TZOFFSETFROM:-0500
TZOFFSETTO:-0400
TZNAME:EDT
DTSTART:20250309T070000
END:DAYLIGHT
BEGIN:STANDARD
TZOFFSETFROM:-0400
TZOFFSETTO:-0500
TZNAME:EST
DTSTART:20251102T060000
END:STANDARD
BEGIN:DAYLIGHT
TZOFFSETFROM:-0500
TZOFFSETTO:-0400
TZNAME:EDT
DTSTART:20260308T070000
END:DAYLIGHT
BEGIN:STANDARD
TZOFFSETFROM:-0400
TZOFFSETTO:-0500
TZNAME:EST
DTSTART:20261101T060000
END:STANDARD
BEGIN:DAYLIGHT
TZOFFSETFROM:-0500
TZOFFSETTO:-0400
TZNAME:EDT
DTSTART:20270314T070000
END:DAYLIGHT
BEGIN:STANDARD
TZOFFSETFROM:-0400
TZOFFSETTO:-0500
TZNAME:EST
DTSTART:20271107T060000
END:STANDARD
END:VTIMEZONE
BEGIN:VEVENT
DTSTART;TZID=America/Detroit:20261019T130000
DTEND;TZID=America/Detroit:20261019T160000
DTSTAMP:20260424T193738
CREATED:20251211T162458Z
LAST-MODIFIED:20251211T162458Z
UID:10011927-1792414800-1792425600@preblelibrary.org
SUMMARY:Book a Librarian
DESCRIPTION:Your Reference Librarian can help you with so much technology.\nWould you like to learn more about computers? Do you have a new tablet or smartphone you’d like to learn more about? The Reference Librarian is happy to help! \nDrop in on Monday afternoons between 1:00 pm – 4:00 pm for assistance with: \n\ntablets\ne-readers\nmobile phones\ncomputers\nMicrosoft Office programs\nInternet\nresumes and job searching\nusing the library catalog and research. You may also call 937-456-5562\, email prebleref@preblelibrary.org\, or stop by the library in person to set up an appointment if you can’t make it on a Monday.*These sessions will take place at Eaton\, but the Reference Librarian is more than happy to travel to your home branch if 24-hour advance notice is provided*
URL:https://preblelibrary.org/event/book-a-librarian-3/2026-10-19/
LOCATION:All
CATEGORIES:In-Person
ATTACH;FMTTYPE=image/png:https://preblelibrary.org/wp-content/uploads/2023/12/Book-a-Librarian-1.png
END:VEVENT
BEGIN:VEVENT
DTSTART;TZID=America/Detroit:20261026T130000
DTEND;TZID=America/Detroit:20261026T160000
DTSTAMP:20260424T193738
CREATED:20251211T162458Z
LAST-MODIFIED:20251211T162458Z
UID:10011928-1793019600-1793030400@preblelibrary.org
SUMMARY:Book a Librarian
DESCRIPTION:Your Reference Librarian can help you with so much technology.\nWould you like to learn more about computers? Do you have a new tablet or smartphone you’d like to learn more about? The Reference Librarian is happy to help! \nDrop in on Monday afternoons between 1:00 pm – 4:00 pm for assistance with: \n\ntablets\ne-readers\nmobile phones\ncomputers\nMicrosoft Office programs\nInternet\nresumes and job searching\nusing the library catalog and research. You may also call 937-456-5562\, email prebleref@preblelibrary.org\, or stop by the library in person to set up an appointment if you can’t make it on a Monday.*These sessions will take place at Eaton\, but the Reference Librarian is more than happy to travel to your home branch if 24-hour advance notice is provided*
URL:https://preblelibrary.org/event/book-a-librarian-3/2026-10-26/
LOCATION:All
CATEGORIES:In-Person
ATTACH;FMTTYPE=image/png:https://preblelibrary.org/wp-content/uploads/2023/12/Book-a-Librarian-1.png
END:VEVENT
BEGIN:VEVENT
DTSTART;TZID=America/Detroit:20261102T130000
DTEND;TZID=America/Detroit:20261102T160000
DTSTAMP:20260424T193738
CREATED:20251211T162458Z
LAST-MODIFIED:20251211T162458Z
UID:10011929-1793624400-1793635200@preblelibrary.org
SUMMARY:Book a Librarian
DESCRIPTION:Your Reference Librarian can help you with so much technology.\nWould you like to learn more about computers? Do you have a new tablet or smartphone you’d like to learn more about? The Reference Librarian is happy to help! \nDrop in on Monday afternoons between 1:00 pm – 4:00 pm for assistance with: \n\ntablets\ne-readers\nmobile phones\ncomputers\nMicrosoft Office programs\nInternet\nresumes and job searching\nusing the library catalog and research. You may also call 937-456-5562\, email prebleref@preblelibrary.org\, or stop by the library in person to set up an appointment if you can’t make it on a Monday.*These sessions will take place at Eaton\, but the Reference Librarian is more than happy to travel to your home branch if 24-hour advance notice is provided*
URL:https://preblelibrary.org/event/book-a-librarian-3/2026-11-02/
LOCATION:All
CATEGORIES:In-Person
ATTACH;FMTTYPE=image/png:https://preblelibrary.org/wp-content/uploads/2023/12/Book-a-Librarian-1.png
END:VEVENT
BEGIN:VEVENT
DTSTART;TZID=America/Detroit:20261109T130000
DTEND;TZID=America/Detroit:20261109T160000
DTSTAMP:20260424T193738
CREATED:20251211T162458Z
LAST-MODIFIED:20251211T162458Z
UID:10011930-1794229200-1794240000@preblelibrary.org
SUMMARY:Book a Librarian
DESCRIPTION:Your Reference Librarian can help you with so much technology.\nWould you like to learn more about computers? Do you have a new tablet or smartphone you’d like to learn more about? The Reference Librarian is happy to help! \nDrop in on Monday afternoons between 1:00 pm – 4:00 pm for assistance with: \n\ntablets\ne-readers\nmobile phones\ncomputers\nMicrosoft Office programs\nInternet\nresumes and job searching\nusing the library catalog and research. You may also call 937-456-5562\, email prebleref@preblelibrary.org\, or stop by the library in person to set up an appointment if you can’t make it on a Monday.*These sessions will take place at Eaton\, but the Reference Librarian is more than happy to travel to your home branch if 24-hour advance notice is provided*
URL:https://preblelibrary.org/event/book-a-librarian-3/2026-11-09/
LOCATION:All
CATEGORIES:In-Person
ATTACH;FMTTYPE=image/png:https://preblelibrary.org/wp-content/uploads/2023/12/Book-a-Librarian-1.png
END:VEVENT
BEGIN:VEVENT
DTSTART;TZID=America/Detroit:20261116T130000
DTEND;TZID=America/Detroit:20261116T160000
DTSTAMP:20260424T193738
CREATED:20251211T162458Z
LAST-MODIFIED:20251211T162458Z
UID:10011931-1794834000-1794844800@preblelibrary.org
SUMMARY:Book a Librarian
DESCRIPTION:Your Reference Librarian can help you with so much technology.\nWould you like to learn more about computers? Do you have a new tablet or smartphone you’d like to learn more about? The Reference Librarian is happy to help! \nDrop in on Monday afternoons between 1:00 pm – 4:00 pm for assistance with: \n\ntablets\ne-readers\nmobile phones\ncomputers\nMicrosoft Office programs\nInternet\nresumes and job searching\nusing the library catalog and research. You may also call 937-456-5562\, email prebleref@preblelibrary.org\, or stop by the library in person to set up an appointment if you can’t make it on a Monday.*These sessions will take place at Eaton\, but the Reference Librarian is more than happy to travel to your home branch if 24-hour advance notice is provided*
URL:https://preblelibrary.org/event/book-a-librarian-3/2026-11-16/
LOCATION:All
CATEGORIES:In-Person
ATTACH;FMTTYPE=image/png:https://preblelibrary.org/wp-content/uploads/2023/12/Book-a-Librarian-1.png
END:VEVENT
BEGIN:VEVENT
DTSTART;TZID=America/Detroit:20261123T130000
DTEND;TZID=America/Detroit:20261123T160000
DTSTAMP:20260424T193738
CREATED:20251211T162458Z
LAST-MODIFIED:20251211T162458Z
UID:10011932-1795438800-1795449600@preblelibrary.org
SUMMARY:Book a Librarian
DESCRIPTION:Your Reference Librarian can help you with so much technology.\nWould you like to learn more about computers? Do you have a new tablet or smartphone you’d like to learn more about? The Reference Librarian is happy to help! \nDrop in on Monday afternoons between 1:00 pm – 4:00 pm for assistance with: \n\ntablets\ne-readers\nmobile phones\ncomputers\nMicrosoft Office programs\nInternet\nresumes and job searching\nusing the library catalog and research. You may also call 937-456-5562\, email prebleref@preblelibrary.org\, or stop by the library in person to set up an appointment if you can’t make it on a Monday.*These sessions will take place at Eaton\, but the Reference Librarian is more than happy to travel to your home branch if 24-hour advance notice is provided*
URL:https://preblelibrary.org/event/book-a-librarian-3/2026-11-23/
LOCATION:All
CATEGORIES:In-Person
ATTACH;FMTTYPE=image/png:https://preblelibrary.org/wp-content/uploads/2023/12/Book-a-Librarian-1.png
END:VEVENT
BEGIN:VEVENT
DTSTART;TZID=America/Detroit:20261130T130000
DTEND;TZID=America/Detroit:20261130T160000
DTSTAMP:20260424T193738
CREATED:20251211T162458Z
LAST-MODIFIED:20251211T162458Z
UID:10011933-1796043600-1796054400@preblelibrary.org
SUMMARY:Book a Librarian
DESCRIPTION:Your Reference Librarian can help you with so much technology.\nWould you like to learn more about computers? Do you have a new tablet or smartphone you’d like to learn more about? The Reference Librarian is happy to help! \nDrop in on Monday afternoons between 1:00 pm – 4:00 pm for assistance with: \n\ntablets\ne-readers\nmobile phones\ncomputers\nMicrosoft Office programs\nInternet\nresumes and job searching\nusing the library catalog and research. You may also call 937-456-5562\, email prebleref@preblelibrary.org\, or stop by the library in person to set up an appointment if you can’t make it on a Monday.*These sessions will take place at Eaton\, but the Reference Librarian is more than happy to travel to your home branch if 24-hour advance notice is provided*
URL:https://preblelibrary.org/event/book-a-librarian-3/2026-11-30/
LOCATION:All
CATEGORIES:In-Person
ATTACH;FMTTYPE=image/png:https://preblelibrary.org/wp-content/uploads/2023/12/Book-a-Librarian-1.png
END:VEVENT
BEGIN:VEVENT
DTSTART;TZID=America/Detroit:20261207T130000
DTEND;TZID=America/Detroit:20261207T160000
DTSTAMP:20260424T193738
CREATED:20251211T162458Z
LAST-MODIFIED:20251211T162458Z
UID:10011934-1796648400-1796659200@preblelibrary.org
SUMMARY:Book a Librarian
DESCRIPTION:Your Reference Librarian can help you with so much technology.\nWould you like to learn more about computers? Do you have a new tablet or smartphone you’d like to learn more about? The Reference Librarian is happy to help! \nDrop in on Monday afternoons between 1:00 pm – 4:00 pm for assistance with: \n\ntablets\ne-readers\nmobile phones\ncomputers\nMicrosoft Office programs\nInternet\nresumes and job searching\nusing the library catalog and research. You may also call 937-456-5562\, email prebleref@preblelibrary.org\, or stop by the library in person to set up an appointment if you can’t make it on a Monday.*These sessions will take place at Eaton\, but the Reference Librarian is more than happy to travel to your home branch if 24-hour advance notice is provided*
URL:https://preblelibrary.org/event/book-a-librarian-3/2026-12-07/
LOCATION:All
CATEGORIES:In-Person
ATTACH;FMTTYPE=image/png:https://preblelibrary.org/wp-content/uploads/2023/12/Book-a-Librarian-1.png
END:VEVENT
BEGIN:VEVENT
DTSTART;TZID=America/Detroit:20261214T130000
DTEND;TZID=America/Detroit:20261214T160000
DTSTAMP:20260424T193738
CREATED:20251211T162458Z
LAST-MODIFIED:20251211T162458Z
UID:10011935-1797253200-1797264000@preblelibrary.org
SUMMARY:Book a Librarian
DESCRIPTION:Your Reference Librarian can help you with so much technology.\nWould you like to learn more about computers? Do you have a new tablet or smartphone you’d like to learn more about? The Reference Librarian is happy to help! \nDrop in on Monday afternoons between 1:00 pm – 4:00 pm for assistance with: \n\ntablets\ne-readers\nmobile phones\ncomputers\nMicrosoft Office programs\nInternet\nresumes and job searching\nusing the library catalog and research. You may also call 937-456-5562\, email prebleref@preblelibrary.org\, or stop by the library in person to set up an appointment if you can’t make it on a Monday.*These sessions will take place at Eaton\, but the Reference Librarian is more than happy to travel to your home branch if 24-hour advance notice is provided*
URL:https://preblelibrary.org/event/book-a-librarian-3/2026-12-14/
LOCATION:All
CATEGORIES:In-Person
ATTACH;FMTTYPE=image/png:https://preblelibrary.org/wp-content/uploads/2023/12/Book-a-Librarian-1.png
END:VEVENT
BEGIN:VEVENT
DTSTART;TZID=America/Detroit:20261221T130000
DTEND;TZID=America/Detroit:20261221T160000
DTSTAMP:20260424T193738
CREATED:20251211T162458Z
LAST-MODIFIED:20251211T162458Z
UID:10011936-1797858000-1797868800@preblelibrary.org
SUMMARY:Book a Librarian
DESCRIPTION:Your Reference Librarian can help you with so much technology.\nWould you like to learn more about computers? Do you have a new tablet or smartphone you’d like to learn more about? The Reference Librarian is happy to help! \nDrop in on Monday afternoons between 1:00 pm – 4:00 pm for assistance with: \n\ntablets\ne-readers\nmobile phones\ncomputers\nMicrosoft Office programs\nInternet\nresumes and job searching\nusing the library catalog and research. You may also call 937-456-5562\, email prebleref@preblelibrary.org\, or stop by the library in person to set up an appointment if you can’t make it on a Monday.*These sessions will take place at Eaton\, but the Reference Librarian is more than happy to travel to your home branch if 24-hour advance notice is provided*
URL:https://preblelibrary.org/event/book-a-librarian-3/2026-12-21/
LOCATION:All
CATEGORIES:In-Person
ATTACH;FMTTYPE=image/png:https://preblelibrary.org/wp-content/uploads/2023/12/Book-a-Librarian-1.png
END:VEVENT
BEGIN:VEVENT
DTSTART;TZID=America/Detroit:20261228T130000
DTEND;TZID=America/Detroit:20261228T160000
DTSTAMP:20260424T193738
CREATED:20251211T162458Z
LAST-MODIFIED:20251211T162458Z
UID:10011937-1798462800-1798473600@preblelibrary.org
SUMMARY:Book a Librarian
DESCRIPTION:Your Reference Librarian can help you with so much technology.\nWould you like to learn more about computers? Do you have a new tablet or smartphone you’d like to learn more about? The Reference Librarian is happy to help! \nDrop in on Monday afternoons between 1:00 pm – 4:00 pm for assistance with: \n\ntablets\ne-readers\nmobile phones\ncomputers\nMicrosoft Office programs\nInternet\nresumes and job searching\nusing the library catalog and research. You may also call 937-456-5562\, email prebleref@preblelibrary.org\, or stop by the library in person to set up an appointment if you can’t make it on a Monday.*These sessions will take place at Eaton\, but the Reference Librarian is more than happy to travel to your home branch if 24-hour advance notice is provided*
URL:https://preblelibrary.org/event/book-a-librarian-3/2026-12-28/
LOCATION:All
CATEGORIES:In-Person
ATTACH;FMTTYPE=image/png:https://preblelibrary.org/wp-content/uploads/2023/12/Book-a-Librarian-1.png
END:VEVENT
END:VCALENDAR