BEGIN:VCALENDAR
VERSION:2.0
PRODID:-//Preble County Library - ECPv6.15.20//NONSGML v1.0//EN
CALSCALE:GREGORIAN
METHOD:PUBLISH
X-WR-CALNAME:Preble County Library
X-ORIGINAL-URL:https://preblelibrary.org
X-WR-CALDESC:Events for Preble County Library
REFRESH-INTERVAL;VALUE=DURATION:PT1H
X-Robots-Tag:noindex
X-PUBLISHED-TTL:PT1H
BEGIN:VTIMEZONE
TZID:America/Detroit
BEGIN:DAYLIGHT
TZOFFSETFROM:-0500
TZOFFSETTO:-0400
TZNAME:EDT
DTSTART:20240310T070000
END:DAYLIGHT
BEGIN:STANDARD
TZOFFSETFROM:-0400
TZOFFSETTO:-0500
TZNAME:EST
DTSTART:20241103T060000
END:STANDARD
BEGIN:DAYLIGHT
TZOFFSETFROM:-0500
TZOFFSETTO:-0400
TZNAME:EDT
DTSTART:20250309T070000
END:DAYLIGHT
BEGIN:STANDARD
TZOFFSETFROM:-0400
TZOFFSETTO:-0500
TZNAME:EST
DTSTART:20251102T060000
END:STANDARD
BEGIN:DAYLIGHT
TZOFFSETFROM:-0500
TZOFFSETTO:-0400
TZNAME:EDT
DTSTART:20260308T070000
END:DAYLIGHT
BEGIN:STANDARD
TZOFFSETFROM:-0400
TZOFFSETTO:-0500
TZNAME:EST
DTSTART:20261101T060000
END:STANDARD
BEGIN:DAYLIGHT
TZOFFSETFROM:-0500
TZOFFSETTO:-0400
TZNAME:EDT
DTSTART:20270314T070000
END:DAYLIGHT
BEGIN:STANDARD
TZOFFSETFROM:-0400
TZOFFSETTO:-0500
TZNAME:EST
DTSTART:20271107T060000
END:STANDARD
END:VTIMEZONE
BEGIN:VEVENT
DTSTART;TZID=America/Detroit:20260210T180000
DTEND;TZID=America/Detroit:20260210T190000
DTSTAMP:20260424T165421
CREATED:20260116T124332Z
LAST-MODIFIED:20260116T124332Z
UID:10012091-1770746400-1770750000@preblelibrary.org
SUMMARY:Camden Book Buddies Book Club
DESCRIPTION:If you love reading\, join us for great books and discussion on the second Tuesday of every month!
URL:https://preblelibrary.org/event/camden-book-buddies-book-club/2026-02-10/
LOCATION:Camden
CATEGORIES:Book Club,In-Person
ATTACH;FMTTYPE=image/png:https://preblelibrary.org/wp-content/uploads/2026/01/2026.-Camden-Book-Buddies-Book-Club-Flyer.png
END:VEVENT
BEGIN:VEVENT
DTSTART;VALUE=DATE:20260209
DTEND;VALUE=DATE:20260210
DTSTAMP:20260424T165421
CREATED:20260112T161914Z
LAST-MODIFIED:20260112T162411Z
UID:10012067-1770595200-1770681599@preblelibrary.org
SUMMARY:Book & Bake Sale
DESCRIPTION:The Camden Library will be holding a book and bake sale from February 9th through February 14th during regular business hours. There are no set prices; items are available by donation only. All proceeds support the Camden Library.
URL:https://preblelibrary.org/event/book-bake-sale/
LOCATION:Camden
CATEGORIES:In-Person
ATTACH;FMTTYPE=image/png:https://preblelibrary.org/wp-content/uploads/2026/01/2026.-Camden-Book-Bake-Sale-Flyer-4.png
END:VEVENT
BEGIN:VEVENT
DTSTART;TZID=America/Detroit:20260122T180000
DTEND;TZID=America/Detroit:20260122T190000
DTSTAMP:20260424T165421
CREATED:20251111T184257Z
LAST-MODIFIED:20251111T184337Z
UID:10011236-1769104800-1769108400@preblelibrary.org
SUMMARY:Q&A Sourdough Group
DESCRIPTION:Join other sourdough enthusiasts and share your tips\, experiences and recipes. Whether you are new or a pro\, together we can help each other create delicious sourdough products.
URL:https://preblelibrary.org/event/qa-sourdough-group/
LOCATION:Camden
CATEGORIES:In-Person
ATTACH;FMTTYPE=image/png:https://preblelibrary.org/wp-content/uploads/2025/11/2025.-Camden-QA-Sourdough-Group-Flyer-2.png
END:VEVENT
BEGIN:VEVENT
DTSTART;TZID=America/Detroit:20260121T180000
DTEND;TZID=America/Detroit:20260121T190000
DTSTAMP:20260424T165421
CREATED:20260107T152812Z
LAST-MODIFIED:20260407T203634Z
UID:10011985-1769018400-1769022000@preblelibrary.org
SUMMARY:After School Fun
DESCRIPTION:Come to the Camden Branch and play games\, do crafts\, and have snacks!
URL:https://preblelibrary.org/event/after-school-fun/2026-01-21/
LOCATION:Camden
CATEGORIES:In-Person
ATTACH;FMTTYPE=image/png:https://preblelibrary.org/wp-content/uploads/2022/12/After-School-Crew-January-website.png
END:VEVENT
BEGIN:VEVENT
DTSTART;TZID=America/Detroit:20260120T173000
DTEND;TZID=America/Detroit:20260120T183000
DTSTAMP:20260424T165421
CREATED:20250515T190953Z
LAST-MODIFIED:20260407T203359Z
UID:10009256-1768930200-1768933800@preblelibrary.org
SUMMARY:Little Ones Storytime
DESCRIPTION:Join us for Storytime at the Camden Branch!\nHelp your kids develop a love for books and make new friends!\nOn the third Tuesday of every month\, each Storytime will have a new theme and activity. \nNo reservation needed.
URL:https://preblelibrary.org/event/little-ones-storytime-5-2/2026-01-20/
LOCATION:Camden
CATEGORIES:In-Person
ATTACH;FMTTYPE=image/png:https://preblelibrary.org/wp-content/uploads/2022/09/Little-Ones-Storytime-Website.png
END:VEVENT
BEGIN:VEVENT
DTSTART;TZID=America/Detroit:20260113T180000
DTEND;TZID=America/Detroit:20260113T190000
DTSTAMP:20260424T165421
CREATED:20251113T164808Z
LAST-MODIFIED:20251113T164808Z
UID:10011237-1768327200-1768330800@preblelibrary.org
SUMMARY:Book Club
DESCRIPTION:Do you love reading books? Join us to set the foundation for our book club. Snacks will be provided.
URL:https://preblelibrary.org/event/book-club/
LOCATION:Camden
CATEGORIES:Book Club,In-Person
ATTACH;FMTTYPE=image/png:https://preblelibrary.org/wp-content/uploads/2025/11/2025.-Camden-Book-Club-4.png
END:VEVENT
BEGIN:VEVENT
DTSTART;TZID=America/Detroit:20260108T180000
DTEND;TZID=America/Detroit:20260108T190000
DTSTAMP:20260424T165421
CREATED:20260107T152025Z
LAST-MODIFIED:20260107T155135Z
UID:10011973-1767895200-1767898800@preblelibrary.org
SUMMARY:Adult Craft Club
DESCRIPTION:Visit the Camden Branch for fun activities and crafts. \nPlease register for this event by calling the Camden Branch at (937) 452-3142.
URL:https://preblelibrary.org/event/adult-craft-club/2026-01-08/
LOCATION:Camden
CATEGORIES:In-Person
ATTACH;FMTTYPE=image/png:https://preblelibrary.org/wp-content/uploads/2022/09/Camden-Adult-Craft-Club-Website.png
END:VEVENT
BEGIN:VEVENT
DTSTART;TZID=America/Detroit:20251217T180000
DTEND;TZID=America/Detroit:20251217T190000
DTSTAMP:20260424T165421
CREATED:20240718T203336Z
LAST-MODIFIED:20250109T170617Z
UID:10010258-1765994400-1765998000@preblelibrary.org
SUMMARY:After School Fun
DESCRIPTION:Come to the Camden Branch and play games\, do crafts\, and have snacks!
URL:https://preblelibrary.org/event/after-school-fun-4-2/2025-12-17/
LOCATION:Camden
CATEGORIES:In-Person
ATTACH;FMTTYPE=image/png:https://preblelibrary.org/wp-content/uploads/2022/12/After-School-Crew-January-website.png
END:VEVENT
BEGIN:VEVENT
DTSTART;TZID=America/Detroit:20251216T173000
DTEND;TZID=America/Detroit:20251216T183000
DTSTAMP:20260424T165421
CREATED:20250515T190953Z
LAST-MODIFIED:20260407T203359Z
UID:10010727-1765906200-1765909800@preblelibrary.org
SUMMARY:Little Ones Storytime
DESCRIPTION:Join us for Storytime at the Camden Branch!\nHelp your kids develop a love for books and make new friends!\nOn the third Tuesday of every month\, each Storytime will have a new theme and activity. \nNo reservation needed.
URL:https://preblelibrary.org/event/little-ones-storytime-5-2/2025-12-16/
LOCATION:Camden
CATEGORIES:In-Person
ATTACH;FMTTYPE=image/png:https://preblelibrary.org/wp-content/uploads/2022/09/Little-Ones-Storytime-Website.png
END:VEVENT
BEGIN:VEVENT
DTSTART;TZID=America/Detroit:20251215T120000
DTEND;TZID=America/Detroit:20251215T200000
DTSTAMP:20260424T165421
CREATED:20250925T183454Z
LAST-MODIFIED:20250925T190147Z
UID:10011144-1765800000-1765828800@preblelibrary.org
SUMMARY:Holiday Cheer
DESCRIPTION:Join us for our holiday open house. Hot chocolate\, cookies\, friends and holiday cheer!
URL:https://preblelibrary.org/event/holiday-cheer/
LOCATION:Camden
CATEGORIES:In-Person
ATTACH;FMTTYPE=image/png:https://preblelibrary.org/wp-content/uploads/2025/09/2025.-Camden-Holiday-Cheer-Flyer-3.png
END:VEVENT
BEGIN:VEVENT
DTSTART;TZID=America/Detroit:20251211T180000
DTEND;TZID=America/Detroit:20251211T190000
DTSTAMP:20260424T165421
CREATED:20250103T144428Z
LAST-MODIFIED:20250103T144428Z
UID:10010246-1765476000-1765479600@preblelibrary.org
SUMMARY:Adult Craft Club
DESCRIPTION:Visit the Camden Branch for fun activities and crafts. \nPLEASE REGISTER FOR THIS EVENT BY CALLING THE CAMDEN LIBRARY (937) 452-3142
URL:https://preblelibrary.org/event/adult-craft-club-5/2025-12-11/
LOCATION:Camden
CATEGORIES:In-Person
ATTACH;FMTTYPE=image/png:https://preblelibrary.org/wp-content/uploads/2022/09/Camden-Adult-Craft-Club-Website.png
END:VEVENT
BEGIN:VEVENT
DTSTART;TZID=America/Detroit:20251208T180000
DTEND;TZID=America/Detroit:20251208T190000
DTSTAMP:20260424T165421
CREATED:20250919T151029Z
LAST-MODIFIED:20250919T153536Z
UID:10011127-1765216800-1765220400@preblelibrary.org
SUMMARY:Family Gingerbread House Program
DESCRIPTION:Let’s get into the seasonal spirit with gingerbread!  \nConstruct a gingerbread house with provided materials and enter the contest. One gingerbread kit per family. Supplies are limited. Winners in each category will receive a prize. \nRegistration is required. Please register by calling the Camden Branch at (937) 452-3142\, or by stopping by! \n 
URL:https://preblelibrary.org/event/family-gingerbread-house-program/
LOCATION:Camden
CATEGORIES:Contest,In-Person
ATTACH;FMTTYPE=image/png:https://preblelibrary.org/wp-content/uploads/2025/09/2025.-Camden-Family-Gingerbread-House-Decorating-Party-Flyer-9.png
END:VEVENT
BEGIN:VEVENT
DTSTART;TZID=America/Detroit:20251202T183000
DTEND;TZID=America/Detroit:20251202T193000
DTSTAMP:20260424T165421
CREATED:20251029T130522Z
LAST-MODIFIED:20251029T130522Z
UID:10011190-1764700200-1764703800@preblelibrary.org
SUMMARY:Free Family Portraits (Camden Branch)
DESCRIPTION:Say Cheese! \nThe Camden Branch offers FREE family portraits on Tuesday\, December 2\, from 6:30 PM – 7:30 PM.\nPhoto sessions will be approximately 10 minutes long.\nDigital copies will be emailed the following week. \nPlease sign up for a time slot in advance by calling 937-452-3142. Registration opens in November . \nWHAT TO EXPECT FROM YOUR PHOTO SESSION:\nPortrait Sessions are scheduled in 10-minute increments. Be sure to remember the specific time slot for which you have registered! If plans change and you cannot make your appointment\, please call the library so the spot may be opened for someone else. \nPlan to arrive early to make the most of your session. You may want a moment before your time begins to take off coats\, fix hair\, or make sure everyone is ready.\nWe aim for these portraits to be as fun and casual as possible! Dress in a way that makes you feel comfortable– whether it’s dress clothes\, holiday attire\, or everyday wear. Feel free to bring props or accessories you want in your photos. Santa hats\, special jewelry\, or even kids’ favorite toys can help personalize your portrait! \nPhotos will be cropped and lightly edited after the session. Digital copies will be emailed to the account used at registration. \nContact Youthservices@preblelibrary.org with any questions about your photo session!
URL:https://preblelibrary.org/event/free-family-portraits-camden-branch/
LOCATION:Camden
CATEGORIES:In-Person
ATTACH;FMTTYPE=image/png:https://preblelibrary.org/wp-content/uploads/2025/10/Free-Family-Portraits1.png
END:VEVENT
BEGIN:VEVENT
DTSTART;TZID=America/Detroit:20251119T180000
DTEND;TZID=America/Detroit:20251119T190000
DTSTAMP:20260424T165421
CREATED:20240718T203336Z
LAST-MODIFIED:20250109T170617Z
UID:10010257-1763575200-1763578800@preblelibrary.org
SUMMARY:After School Fun
DESCRIPTION:Come to the Camden Branch and play games\, do crafts\, and have snacks!
URL:https://preblelibrary.org/event/after-school-fun-4-2/2025-11-19/
LOCATION:Camden
CATEGORIES:In-Person
ATTACH;FMTTYPE=image/png:https://preblelibrary.org/wp-content/uploads/2022/12/After-School-Crew-January-website.png
END:VEVENT
BEGIN:VEVENT
DTSTART;TZID=America/Detroit:20251118T173000
DTEND;TZID=America/Detroit:20251118T183000
DTSTAMP:20260424T165421
CREATED:20250515T190953Z
LAST-MODIFIED:20260407T203359Z
UID:10010726-1763487000-1763490600@preblelibrary.org
SUMMARY:Little Ones Storytime
DESCRIPTION:Join us for Storytime at the Camden Branch!\nHelp your kids develop a love for books and make new friends!\nOn the third Tuesday of every month\, each Storytime will have a new theme and activity. \nNo reservation needed.
URL:https://preblelibrary.org/event/little-ones-storytime-5-2/2025-11-18/
LOCATION:Camden
CATEGORIES:In-Person
ATTACH;FMTTYPE=image/png:https://preblelibrary.org/wp-content/uploads/2022/09/Little-Ones-Storytime-Website.png
END:VEVENT
BEGIN:VEVENT
DTSTART;TZID=America/Detroit:20251113T180000
DTEND;TZID=America/Detroit:20251113T190000
DTSTAMP:20260424T165421
CREATED:20250103T144428Z
LAST-MODIFIED:20250103T144428Z
UID:10010245-1763056800-1763060400@preblelibrary.org
SUMMARY:Adult Craft Club
DESCRIPTION:Visit the Camden Branch for fun activities and crafts. \nPLEASE REGISTER FOR THIS EVENT BY CALLING THE CAMDEN LIBRARY (937) 452-3142
URL:https://preblelibrary.org/event/adult-craft-club-5/2025-11-13/
LOCATION:Camden
CATEGORIES:In-Person
ATTACH;FMTTYPE=image/png:https://preblelibrary.org/wp-content/uploads/2022/09/Camden-Adult-Craft-Club-Website.png
END:VEVENT
BEGIN:VEVENT
DTSTART;TZID=America/Detroit:20251028T180000
DTEND;TZID=America/Detroit:20251028T190000
DTSTAMP:20260424T165421
CREATED:20250828T191446Z
LAST-MODIFIED:20250828T191446Z
UID:10011086-1761674400-1761678000@preblelibrary.org
SUMMARY:Halloween Story and Costume Parade!
DESCRIPTION:Kids\, come dressed in costume to listen to a Halloween story and participate in our parade around the library. We will have spooktacular treats and prizes!
URL:https://preblelibrary.org/event/halloween-story-and-costume-parade/
LOCATION:Camden
CATEGORIES:In-Person
ATTACH;FMTTYPE=image/png:https://preblelibrary.org/wp-content/uploads/2025/08/2025.-Camden-Halloween-Story-and-Costume-Parade-4.png
END:VEVENT
END:VCALENDAR