BEGIN:VCALENDAR
VERSION:2.0
PRODID:-//Preble County Library - ECPv6.15.20//NONSGML v1.0//EN
CALSCALE:GREGORIAN
METHOD:PUBLISH
X-WR-CALNAME:Preble County Library
X-ORIGINAL-URL:https://preblelibrary.org
X-WR-CALDESC:Events for Preble County Library
REFRESH-INTERVAL;VALUE=DURATION:PT1H
X-Robots-Tag:noindex
X-PUBLISHED-TTL:PT1H
BEGIN:VTIMEZONE
TZID:America/Detroit
BEGIN:DAYLIGHT
TZOFFSETFROM:-0500
TZOFFSETTO:-0400
TZNAME:EDT
DTSTART:20250309T070000
END:DAYLIGHT
BEGIN:STANDARD
TZOFFSETFROM:-0400
TZOFFSETTO:-0500
TZNAME:EST
DTSTART:20251102T060000
END:STANDARD
BEGIN:DAYLIGHT
TZOFFSETFROM:-0500
TZOFFSETTO:-0400
TZNAME:EDT
DTSTART:20260308T070000
END:DAYLIGHT
BEGIN:STANDARD
TZOFFSETFROM:-0400
TZOFFSETTO:-0500
TZNAME:EST
DTSTART:20261101T060000
END:STANDARD
BEGIN:DAYLIGHT
TZOFFSETFROM:-0500
TZOFFSETTO:-0400
TZNAME:EDT
DTSTART:20270314T070000
END:DAYLIGHT
BEGIN:STANDARD
TZOFFSETFROM:-0400
TZOFFSETTO:-0500
TZNAME:EST
DTSTART:20271107T060000
END:STANDARD
END:VTIMEZONE
BEGIN:VEVENT
DTSTART;TZID=America/Detroit:20260424T100000
DTEND;TZID=America/Detroit:20260424T160000
DTSTAMP:20260424T103604
CREATED:20251205T142926Z
LAST-MODIFIED:20251205T142926Z
UID:10011835-1777024800-1777046400@preblelibrary.org
SUMMARY:Maker Space Open Hours
DESCRIPTION:The Maker Space is a room full of technology with open access to all ages.* All equipment and assistance is free. Try out digital design\, photography\, sewing\, and more with free access to this equipment. Bring your own consumables\, such as fabric and paper. Some materials can be purchased for a fee. \nThe Maker Space is open Fridays between 10 am and 4 pm. \nLimited assistance is available. \nContact the Youth Department at youthservices@preblelibrary.org or by calling 937-456-5478 for questions or to request to use the Maker Space other than during Friday open hours. \nTechnology Includes: \nMakerBot 3D printer.\nSilhouette Cameo Digital Cutter\nBrother Computerized Sewing and Embroidery Machine\nAsus Computer with software for 3D modeling\, video/photo editing\, and more\nAnd more!
URL:https://preblelibrary.org/event/maker-space-open-hours/2026-04-24/
LOCATION:Eaton
ATTACH;FMTTYPE=image/jpeg:https://preblelibrary.org/wp-content/uploads/2022/06/makerspace.jpg
END:VEVENT
BEGIN:VEVENT
DTSTART;TZID=America/Detroit:20260427T163000
DTEND;TZID=America/Detroit:20260427T171500
DTSTAMP:20260424T103604
CREATED:20260327T174255Z
LAST-MODIFIED:20260327T174255Z
UID:10012344-1777307400-1777310100@preblelibrary.org
SUMMARY:LEGO Club (Eaton Branch)
DESCRIPTION:Join us on the last Monday of the month for the Eaton Branch Library’s LEGO Club! We will be meeting in person at the Eaton Branch! Bring your LEGOs and your imagination to show off your Master Builder skills! \nThe library will have LEGOs for children to build with!\nThis program will run for approximately 45 minutes.
URL:https://preblelibrary.org/event/lego-club-eaton-branch/2026-04-27/
LOCATION:Eaton
CATEGORIES:In-Person,Lego Club
ATTACH;FMTTYPE=image/png:https://preblelibrary.org/wp-content/uploads/2022/08/LEGO-Club-Eaton-Website.png
END:VEVENT
BEGIN:VEVENT
DTSTART;TZID=America/Detroit:20260428T153000
DTEND;TZID=America/Detroit:20260428T180000
DTSTAMP:20260424T103604
CREATED:20260327T122712Z
LAST-MODIFIED:20260327T122712Z
UID:10012329-1777390200-1777399200@preblelibrary.org
SUMMARY:Teens: Monthly Movie
DESCRIPTION:Once a month\, enjoy a free screening of a teen-selected film at the Eaton Branch! \nCast your vote and settle in for a movie night with friends. Popcorn is provided! \n*This FREE program is open to patrons in grades 6-12*
URL:https://preblelibrary.org/event/teens-monthly-movie-3/
LOCATION:Eaton
CATEGORIES:In-Person
ATTACH;FMTTYPE=image/png:https://preblelibrary.org/wp-content/uploads/2026/03/2026.-Teens-Monthly-Movie-Website-Graphic-3.png
END:VEVENT
BEGIN:VEVENT
DTSTART;TZID=America/Detroit:20260429T103000
DTEND;TZID=America/Detroit:20260429T113000
DTSTAMP:20260424T103604
CREATED:20260304T190920Z
LAST-MODIFIED:20260304T190920Z
UID:10012279-1777458600-1777462200@preblelibrary.org
SUMMARY:Stay & Play Hour
DESCRIPTION:Stop into the Eaton Branch for our Stay & Play Hour! This is a chance for parents and toddlers to socialize with other families and for kids to play with books\, puppets\, blocks\, a ball pit\, and more! \nThrough play\, children can expand their vocabulary\, learn to problem-solve\, and build social and emotional skills! \nThis program is for children 0-5 years of age.
URL:https://preblelibrary.org/event/stay-play-hour-2/2026-04-29/
LOCATION:Eaton
CATEGORIES:In-Person
ATTACH;FMTTYPE=image/png:https://preblelibrary.org/wp-content/uploads/2023/10/Stay-and-Play-Hour-website.png
END:VEVENT
BEGIN:VEVENT
DTSTART;TZID=America/Detroit:20260429T180000
DTEND;TZID=America/Detroit:20260429T193000
DTSTAMP:20260424T103604
CREATED:20260115T213910Z
LAST-MODIFIED:20260115T213910Z
UID:10012089-1777485600-1777491000@preblelibrary.org
SUMMARY:AYA Book Club
DESCRIPTION:This Adult/Young Adult Book Club is for ages 18+. \nFor each meeting\, a few FREE copies of our selected book club title will be available\, beginning the first of the month. Please register and pick up a copy in advance\, read the book\, and then join us for a relaxed discussion on the scheduled program date. That’s it! We’ll provide the meeting space; you bring the conversation.
URL:https://preblelibrary.org/event/aya-book-club-3/2026-04-29/
LOCATION:Eaton
CATEGORIES:Book Club,In-Person
ATTACH;FMTTYPE=image/png:https://preblelibrary.org/wp-content/uploads/2026/01/AYA-Book-Club.png
END:VEVENT
BEGIN:VEVENT
DTSTART;TZID=America/Detroit:20260430T180000
DTEND;TZID=America/Detroit:20260430T190000
DTSTAMP:20260424T103604
CREATED:20260327T125511Z
LAST-MODIFIED:20260327T125619Z
UID:10012330-1777572000-1777575600@preblelibrary.org
SUMMARY:Reading Dragons Party
DESCRIPTION:It’s the last day of the official Reading Dragons season\, and we’re celebrating with a party! \nEarn bonus cards\, compete in tournaments\, and trade your duplicates with other players at this social event. \nThis program is open to patrons of all ages and all experience levels! \nJust getting started with the Reading Dragons program? Come see what it’s all about! \n  \nFind more information on Reading Dragons at https://preblelibrary.org/readingdragons
URL:https://preblelibrary.org/event/reading-dragons-party/
LOCATION:Eaton
CATEGORIES:In-Person
ATTACH;FMTTYPE=image/png:https://preblelibrary.org/wp-content/uploads/2026/03/2025.-Eaton-Reading-Dragons-Season-2-2.png
END:VEVENT
BEGIN:VEVENT
DTSTART;VALUE=DATE:20260501
DTEND;VALUE=DATE:20260502
DTSTAMP:20260424T103604
CREATED:20260212T191439Z
LAST-MODIFIED:20260212T191439Z
UID:10012189-1777593600-1777679999@preblelibrary.org
SUMMARY:Plant Swap
DESCRIPTION:Help our communities grow! Sprouting up this May is our Eaton Branch Plant Swap! Patrons can drop off cuttings\, rootings\, seeds\, and plants in exchange for others. Everyone gets to pick a new friend to take home. \nThe Plant Swap will be open the entire month of May. \n*Please only bring in healthy\, pest-free plants and cuttings.
URL:https://preblelibrary.org/event/plant-swap/
LOCATION:Eaton
CATEGORIES:In-Person,Plant Swap
ATTACH;FMTTYPE=image/png:https://preblelibrary.org/wp-content/uploads/2026/02/Plant-Swap.png
END:VEVENT
BEGIN:VEVENT
DTSTART;VALUE=DATE:20260501
DTEND;VALUE=DATE:20260502
DTSTAMP:20260424T103604
CREATED:20260306T202820Z
LAST-MODIFIED:20260306T203127Z
UID:10012292-1777593600-1777679999@preblelibrary.org
SUMMARY:Coloring Collab for America's 250th
DESCRIPTION:Make your mark by helping us decorate the library for America’s 250th Birthday! Sign up and get a square to color. Return your finished square to the library. All the pieces will be assembled into a bulletin board display to help us celebrate America’s birthday! You won’t know what the finished design is until it is assembled! \nPieces can be picked up beginning May 1. Completed pieces are due back to the Eaton Library by May 25. \nThis program is open to artists of all ages! \n*Use any art supplies you have. No art supplies at home? Feel free to ask at the front desk to utilize the library supplies!
URL:https://preblelibrary.org/event/coloring-collab-for-americas-250th/
LOCATION:Eaton
ATTACH;FMTTYPE=image/png:https://preblelibrary.org/wp-content/uploads/2026/03/Event-Calendar-Images-47.png
END:VEVENT
BEGIN:VEVENT
DTSTART;VALUE=DATE:20260501
DTEND;VALUE=DATE:20260502
DTSTAMP:20260424T103604
CREATED:20260331T183440Z
LAST-MODIFIED:20260331T183725Z
UID:10012365-1777593600-1777679999@preblelibrary.org
SUMMARY:Ohio Trivia: Arts\, Culture\, Literature\, and Movies
DESCRIPTION:How much do you know about movies\, tv shows\, bands\, or authors from Ohio? \nCome to the Eaton Branch during the month of May and answer trivia questions for a chance to win an Ohio-Themed Gift Basket! \nThis challenge is for all ages. In order to be considered to win\, you must answer all 12 questions. The winner of the basket will be drawn on June 1.
URL:https://preblelibrary.org/event/ohio-trivia-arts-culture-literature-and-movies/2026-05-01/
LOCATION:Eaton
CATEGORIES:Contest,In-Person
ATTACH;FMTTYPE=image/png:https://preblelibrary.org/wp-content/uploads/2026/03/2026.-Eaton-Ohio-Trivia-Arts-Culture-Literature-and-Movies-Website-Graphic-1.png
END:VEVENT
BEGIN:VEVENT
DTSTART;TZID=America/Detroit:20260501T100000
DTEND;TZID=America/Detroit:20260501T160000
DTSTAMP:20260424T103604
CREATED:20251205T142926Z
LAST-MODIFIED:20251205T142926Z
UID:10011836-1777629600-1777651200@preblelibrary.org
SUMMARY:Maker Space Open Hours
DESCRIPTION:The Maker Space is a room full of technology with open access to all ages.* All equipment and assistance is free. Try out digital design\, photography\, sewing\, and more with free access to this equipment. Bring your own consumables\, such as fabric and paper. Some materials can be purchased for a fee. \nThe Maker Space is open Fridays between 10 am and 4 pm. \nLimited assistance is available. \nContact the Youth Department at youthservices@preblelibrary.org or by calling 937-456-5478 for questions or to request to use the Maker Space other than during Friday open hours. \nTechnology Includes: \nMakerBot 3D printer.\nSilhouette Cameo Digital Cutter\nBrother Computerized Sewing and Embroidery Machine\nAsus Computer with software for 3D modeling\, video/photo editing\, and more\nAnd more!
URL:https://preblelibrary.org/event/maker-space-open-hours/2026-05-01/
LOCATION:Eaton
ATTACH;FMTTYPE=image/jpeg:https://preblelibrary.org/wp-content/uploads/2022/06/makerspace.jpg
END:VEVENT
BEGIN:VEVENT
DTSTART;TZID=America/Detroit:20260505T180000
DTEND;TZID=America/Detroit:20260505T190000
DTSTAMP:20260424T103604
CREATED:20260401T133245Z
LAST-MODIFIED:20260401T133245Z
UID:10012371-1778004000-1778007600@preblelibrary.org
SUMMARY:Adult Craft: Crayon Resist Art
DESCRIPTION:You won’t be able to “resist” this simple craft with a cool scientific reaction! \nAll supplies provided. A limited number of grab and go kits will be available May 6.
URL:https://preblelibrary.org/event/adult-craft-crayon-resist-art/
LOCATION:Eaton
CATEGORIES:In-Person
ATTACH;FMTTYPE=image/png:https://preblelibrary.org/wp-content/uploads/2026/04/2026.-Eaton-Crayon-Resist-Art-Website-Graphic-.png
END:VEVENT
BEGIN:VEVENT
DTSTART;TZID=America/Detroit:20260506T103000
DTEND;TZID=America/Detroit:20260506T113000
DTSTAMP:20260424T103604
CREATED:20260304T190920Z
LAST-MODIFIED:20260304T190920Z
UID:10012280-1778063400-1778067000@preblelibrary.org
SUMMARY:Stay & Play Hour
DESCRIPTION:Stop into the Eaton Branch for our Stay & Play Hour! This is a chance for parents and toddlers to socialize with other families and for kids to play with books\, puppets\, blocks\, a ball pit\, and more! \nThrough play\, children can expand their vocabulary\, learn to problem-solve\, and build social and emotional skills! \nThis program is for children 0-5 years of age.
URL:https://preblelibrary.org/event/stay-play-hour-2/2026-05-06/
LOCATION:Eaton
CATEGORIES:In-Person
ATTACH;FMTTYPE=image/png:https://preblelibrary.org/wp-content/uploads/2023/10/Stay-and-Play-Hour-website.png
END:VEVENT
BEGIN:VEVENT
DTSTART;VALUE=DATE:20260508
DTEND;VALUE=DATE:20260509
DTSTAMP:20260424T103604
CREATED:20260331T183440Z
LAST-MODIFIED:20260331T183725Z
UID:10012366-1778198400-1778284799@preblelibrary.org
SUMMARY:Ohio Trivia: Arts\, Culture\, Literature\, and Movies
DESCRIPTION:How much do you know about movies\, tv shows\, bands\, or authors from Ohio? \nCome to the Eaton Branch during the month of May and answer trivia questions for a chance to win an Ohio-Themed Gift Basket! \nThis challenge is for all ages. In order to be considered to win\, you must answer all 12 questions. The winner of the basket will be drawn on June 1.
URL:https://preblelibrary.org/event/ohio-trivia-arts-culture-literature-and-movies/2026-05-08/
LOCATION:Eaton
CATEGORIES:Contest,In-Person
ATTACH;FMTTYPE=image/png:https://preblelibrary.org/wp-content/uploads/2026/03/2026.-Eaton-Ohio-Trivia-Arts-Culture-Literature-and-Movies-Website-Graphic-1.png
END:VEVENT
BEGIN:VEVENT
DTSTART;TZID=America/Detroit:20260508T100000
DTEND;TZID=America/Detroit:20260508T160000
DTSTAMP:20260424T103604
CREATED:20251205T142926Z
LAST-MODIFIED:20251205T142926Z
UID:10011837-1778234400-1778256000@preblelibrary.org
SUMMARY:Maker Space Open Hours
DESCRIPTION:The Maker Space is a room full of technology with open access to all ages.* All equipment and assistance is free. Try out digital design\, photography\, sewing\, and more with free access to this equipment. Bring your own consumables\, such as fabric and paper. Some materials can be purchased for a fee. \nThe Maker Space is open Fridays between 10 am and 4 pm. \nLimited assistance is available. \nContact the Youth Department at youthservices@preblelibrary.org or by calling 937-456-5478 for questions or to request to use the Maker Space other than during Friday open hours. \nTechnology Includes: \nMakerBot 3D printer.\nSilhouette Cameo Digital Cutter\nBrother Computerized Sewing and Embroidery Machine\nAsus Computer with software for 3D modeling\, video/photo editing\, and more\nAnd more!
URL:https://preblelibrary.org/event/maker-space-open-hours/2026-05-08/
LOCATION:Eaton
ATTACH;FMTTYPE=image/jpeg:https://preblelibrary.org/wp-content/uploads/2022/06/makerspace.jpg
END:VEVENT
BEGIN:VEVENT
DTSTART;TZID=America/Detroit:20260511T170000
DTEND;TZID=America/Detroit:20260511T180000
DTSTAMP:20260424T103604
CREATED:20260313T183735Z
LAST-MODIFIED:20260313T183735Z
UID:10012296-1778518800-1778522400@preblelibrary.org
SUMMARY:Let’s Role! Kids RPG Club
DESCRIPTION:Greetings\, young adventurer! A realm of wonder awaits thee! Join our fellowship of heroes for a noble quest. \nThis club is recommended for children 6-12 years of age and will meet on the second Monday of each month at 5 p.m. Each month\, the group will complete a campaign of different kid-friendly\, tabletop RPG games.
URL:https://preblelibrary.org/event/lets-role-kids-rpg-club/2026-05-11/
LOCATION:Eaton
CATEGORIES:In-Person
ATTACH;FMTTYPE=image/png:https://preblelibrary.org/wp-content/uploads/2023/12/Event-Calendar-Images-5.png
END:VEVENT
BEGIN:VEVENT
DTSTART;TZID=America/Detroit:20260512T153000
DTEND;TZID=America/Detroit:20260512T170000
DTSTAMP:20260424T103604
CREATED:20260403T132541Z
LAST-MODIFIED:20260403T132541Z
UID:10012433-1778599800-1778605200@preblelibrary.org
SUMMARY:Teens: Analog Hour
DESCRIPTION:PHONES DOWN! \nAre you looking to get away from the endless scroll? This teen program is your chance to log off! \nUse retro tech and hands-on activities to spend one hour totally phone free. You may even win a prize! \n**This free program is available to patrons in grades 6-12**
URL:https://preblelibrary.org/event/teens-analog-hour/
LOCATION:Eaton
CATEGORIES:In-Person
ATTACH;FMTTYPE=image/png:https://preblelibrary.org/wp-content/uploads/2026/04/2026.-Eaton-Teens-Analog-Hour-4.png
END:VEVENT
BEGIN:VEVENT
DTSTART;TZID=America/Detroit:20260512T180000
DTEND;TZID=America/Detroit:20260512T190000
DTSTAMP:20260424T103604
CREATED:20260402T151518Z
LAST-MODIFIED:20260402T151613Z
UID:10012430-1778608800-1778612400@preblelibrary.org
SUMMARY:Beginners' Excel Class
DESCRIPTION:New to Excel? \nLearn the difference between cells\, rows and columns\, as well as basic formulas and functions and formatting techniques. \nSome computer experience required. Class size limited to 4. \nRegistration required.
URL:https://preblelibrary.org/event/beginners-excel-class/
LOCATION:Eaton
CATEGORIES:In-Person
ATTACH;FMTTYPE=image/png:https://preblelibrary.org/wp-content/uploads/2026/04/2026.-Eaton-Excel-For-Beginners-Website-Graphic.png
END:VEVENT
BEGIN:VEVENT
DTSTART;TZID=America/Detroit:20260513T103000
DTEND;TZID=America/Detroit:20260513T113000
DTSTAMP:20260424T103604
CREATED:20260304T190920Z
LAST-MODIFIED:20260304T190920Z
UID:10012281-1778668200-1778671800@preblelibrary.org
SUMMARY:Stay & Play Hour
DESCRIPTION:Stop into the Eaton Branch for our Stay & Play Hour! This is a chance for parents and toddlers to socialize with other families and for kids to play with books\, puppets\, blocks\, a ball pit\, and more! \nThrough play\, children can expand their vocabulary\, learn to problem-solve\, and build social and emotional skills! \nThis program is for children 0-5 years of age.
URL:https://preblelibrary.org/event/stay-play-hour-2/2026-05-13/
LOCATION:Eaton
CATEGORIES:In-Person
ATTACH;FMTTYPE=image/png:https://preblelibrary.org/wp-content/uploads/2023/10/Stay-and-Play-Hour-website.png
END:VEVENT
BEGIN:VEVENT
DTSTART;TZID=America/Detroit:20260513T180000
DTEND;TZID=America/Detroit:20260513T194500
DTSTAMP:20260424T103604
CREATED:20251219T140649Z
LAST-MODIFIED:20251219T140649Z
UID:10011945-1778695200-1778701500@preblelibrary.org
SUMMARY:Solvers
DESCRIPTION:Attention riddlers\, puzzle-solvers\, and amateur detectives– this new monthly program has all the pieces you’re searching for! \nDo you know the killer in every episode of SVU? Have you worn out your Agatha Christie collection? Do your friends call you up for internet deep-dives on true crime podcasts? \nPut your investigation skills together to solve murder mysteries\, puzzle games\, and escape rooms! \n*This program may include mature themes\, and is strictly offered for ages 18+* \n**This event will be held the second Wednesday of each month.
URL:https://preblelibrary.org/event/solvers-8/
LOCATION:Eaton
CATEGORIES:In-Person
ATTACH;FMTTYPE=image/png:https://preblelibrary.org/wp-content/uploads/2025/09/Solvers.png
END:VEVENT
BEGIN:VEVENT
DTSTART;VALUE=DATE:20260515
DTEND;VALUE=DATE:20260516
DTSTAMP:20260424T103604
CREATED:20260331T183440Z
LAST-MODIFIED:20260331T183725Z
UID:10012367-1778803200-1778889599@preblelibrary.org
SUMMARY:Ohio Trivia: Arts\, Culture\, Literature\, and Movies
DESCRIPTION:How much do you know about movies\, tv shows\, bands\, or authors from Ohio? \nCome to the Eaton Branch during the month of May and answer trivia questions for a chance to win an Ohio-Themed Gift Basket! \nThis challenge is for all ages. In order to be considered to win\, you must answer all 12 questions. The winner of the basket will be drawn on June 1.
URL:https://preblelibrary.org/event/ohio-trivia-arts-culture-literature-and-movies/2026-05-15/
LOCATION:Eaton
CATEGORIES:Contest,In-Person
ATTACH;FMTTYPE=image/png:https://preblelibrary.org/wp-content/uploads/2026/03/2026.-Eaton-Ohio-Trivia-Arts-Culture-Literature-and-Movies-Website-Graphic-1.png
END:VEVENT
BEGIN:VEVENT
DTSTART;TZID=America/Detroit:20260515T100000
DTEND;TZID=America/Detroit:20260515T160000
DTSTAMP:20260424T103604
CREATED:20251205T142926Z
LAST-MODIFIED:20251205T142926Z
UID:10011838-1778839200-1778860800@preblelibrary.org
SUMMARY:Maker Space Open Hours
DESCRIPTION:The Maker Space is a room full of technology with open access to all ages.* All equipment and assistance is free. Try out digital design\, photography\, sewing\, and more with free access to this equipment. Bring your own consumables\, such as fabric and paper. Some materials can be purchased for a fee. \nThe Maker Space is open Fridays between 10 am and 4 pm. \nLimited assistance is available. \nContact the Youth Department at youthservices@preblelibrary.org or by calling 937-456-5478 for questions or to request to use the Maker Space other than during Friday open hours. \nTechnology Includes: \nMakerBot 3D printer.\nSilhouette Cameo Digital Cutter\nBrother Computerized Sewing and Embroidery Machine\nAsus Computer with software for 3D modeling\, video/photo editing\, and more\nAnd more!
URL:https://preblelibrary.org/event/maker-space-open-hours/2026-05-15/
LOCATION:Eaton
ATTACH;FMTTYPE=image/jpeg:https://preblelibrary.org/wp-content/uploads/2022/06/makerspace.jpg
END:VEVENT
BEGIN:VEVENT
DTSTART;TZID=America/Detroit:20260516T140000
DTEND;TZID=America/Detroit:20260516T150000
DTSTAMP:20260424T103604
CREATED:20260324T172511Z
LAST-MODIFIED:20260324T172511Z
UID:10012324-1778940000-1778943600@preblelibrary.org
SUMMARY:America 250: Bald Eagles
DESCRIPTION:As part of our America 250 series\, local author and eagle enthusiast\, Jim Weller\, joins us for a special presentation on the American national symbol… the bald eagle! \nLearn more about these impressive creatures and their role here in Southwest Ohio! \nThis free program is open to all ages!
URL:https://preblelibrary.org/event/america-250-bald-eagles/
LOCATION:Eaton
CATEGORIES:In-Person
ATTACH;FMTTYPE=image/png:https://preblelibrary.org/wp-content/uploads/2026/03/2026.-Eaton-America-250-Bald-Eagles-Website-Graphic.png
END:VEVENT
BEGIN:VEVENT
DTSTART;TZID=America/Detroit:20260518T180000
DTEND;TZID=America/Detroit:20260518T190000
DTSTAMP:20260424T103604
CREATED:20230622T185430Z
LAST-MODIFIED:20251121T172438Z
UID:10011252-1779127200-1779130800@preblelibrary.org
SUMMARY:Social Stitch
DESCRIPTION:Do you enjoy activities such as knitting\, crocheting\, or embroidery? Please bring your own fiber arts project and join us for drop-in style meetings on the third Monday of each month. We provide a casual atmosphere for collective crafting. All skill levels are welcome! \nThis program is open to adults aged 18 and above.
URL:https://preblelibrary.org/event/social-stitch-5/2026-05-18/
LOCATION:Eaton
CATEGORIES:In-Person
ATTACH;FMTTYPE=image/jpeg:https://preblelibrary.org/wp-content/uploads/2022/06/Social-Stitch-Website.jpg
END:VEVENT
BEGIN:VEVENT
DTSTART;TZID=America/Detroit:20260519T180000
DTEND;TZID=America/Detroit:20260519T190000
DTSTAMP:20260424T103604
CREATED:20260402T153702Z
LAST-MODIFIED:20260402T153702Z
UID:10012431-1779213600-1779217200@preblelibrary.org
SUMMARY:Intermediate Excel Class
DESCRIPTION:Join us as we go further into Excel and talk more about formatting\, functions\, charts\, and all that fun stuff! \nSome Excel experience required; it is particularly helpful if you attended the previous week’s Excel class. Class size limited to 4 and sign-up is required. \nCall the Eaton Branch at 937-456-4331 or stop by to reserve your spot!
URL:https://preblelibrary.org/event/intermediate-excel-class/
LOCATION:Eaton
CATEGORIES:In-Person
ATTACH;FMTTYPE=image/png:https://preblelibrary.org/wp-content/uploads/2026/04/2026.-Eaton-Intermediate-Excel-Website-Graphic-1.png
END:VEVENT
BEGIN:VEVENT
DTSTART;TZID=America/Detroit:20260520T103000
DTEND;TZID=America/Detroit:20260520T113000
DTSTAMP:20260424T103604
CREATED:20260304T190920Z
LAST-MODIFIED:20260304T190920Z
UID:10012282-1779273000-1779276600@preblelibrary.org
SUMMARY:Stay & Play Hour
DESCRIPTION:Stop into the Eaton Branch for our Stay & Play Hour! This is a chance for parents and toddlers to socialize with other families and for kids to play with books\, puppets\, blocks\, a ball pit\, and more! \nThrough play\, children can expand their vocabulary\, learn to problem-solve\, and build social and emotional skills! \nThis program is for children 0-5 years of age.
URL:https://preblelibrary.org/event/stay-play-hour-2/2026-05-20/
LOCATION:Eaton
CATEGORIES:In-Person
ATTACH;FMTTYPE=image/png:https://preblelibrary.org/wp-content/uploads/2023/10/Stay-and-Play-Hour-website.png
END:VEVENT
BEGIN:VEVENT
DTSTART;VALUE=DATE:20260522
DTEND;VALUE=DATE:20260523
DTSTAMP:20260424T103604
CREATED:20260331T183440Z
LAST-MODIFIED:20260331T183725Z
UID:10012368-1779408000-1779494399@preblelibrary.org
SUMMARY:Ohio Trivia: Arts\, Culture\, Literature\, and Movies
DESCRIPTION:How much do you know about movies\, tv shows\, bands\, or authors from Ohio? \nCome to the Eaton Branch during the month of May and answer trivia questions for a chance to win an Ohio-Themed Gift Basket! \nThis challenge is for all ages. In order to be considered to win\, you must answer all 12 questions. The winner of the basket will be drawn on June 1.
URL:https://preblelibrary.org/event/ohio-trivia-arts-culture-literature-and-movies/2026-05-22/
LOCATION:Eaton
CATEGORIES:Contest,In-Person
ATTACH;FMTTYPE=image/png:https://preblelibrary.org/wp-content/uploads/2026/03/2026.-Eaton-Ohio-Trivia-Arts-Culture-Literature-and-Movies-Website-Graphic-1.png
END:VEVENT
BEGIN:VEVENT
DTSTART;TZID=America/Detroit:20260522T100000
DTEND;TZID=America/Detroit:20260522T160000
DTSTAMP:20260424T103604
CREATED:20251205T142926Z
LAST-MODIFIED:20251205T142926Z
UID:10011839-1779444000-1779465600@preblelibrary.org
SUMMARY:Maker Space Open Hours
DESCRIPTION:The Maker Space is a room full of technology with open access to all ages.* All equipment and assistance is free. Try out digital design\, photography\, sewing\, and more with free access to this equipment. Bring your own consumables\, such as fabric and paper. Some materials can be purchased for a fee. \nThe Maker Space is open Fridays between 10 am and 4 pm. \nLimited assistance is available. \nContact the Youth Department at youthservices@preblelibrary.org or by calling 937-456-5478 for questions or to request to use the Maker Space other than during Friday open hours. \nTechnology Includes: \nMakerBot 3D printer.\nSilhouette Cameo Digital Cutter\nBrother Computerized Sewing and Embroidery Machine\nAsus Computer with software for 3D modeling\, video/photo editing\, and more\nAnd more!
URL:https://preblelibrary.org/event/maker-space-open-hours/2026-05-22/
LOCATION:Eaton
ATTACH;FMTTYPE=image/jpeg:https://preblelibrary.org/wp-content/uploads/2022/06/makerspace.jpg
END:VEVENT
BEGIN:VEVENT
DTSTART;TZID=America/Detroit:20260525T163000
DTEND;TZID=America/Detroit:20260525T171500
DTSTAMP:20260424T103604
CREATED:20260327T174255Z
LAST-MODIFIED:20260327T174255Z
UID:10012345-1779726600-1779729300@preblelibrary.org
SUMMARY:LEGO Club (Eaton Branch)
DESCRIPTION:Join us on the last Monday of the month for the Eaton Branch Library’s LEGO Club! We will be meeting in person at the Eaton Branch! Bring your LEGOs and your imagination to show off your Master Builder skills! \nThe library will have LEGOs for children to build with!\nThis program will run for approximately 45 minutes.
URL:https://preblelibrary.org/event/lego-club-eaton-branch/2026-05-25/
LOCATION:Eaton
CATEGORIES:In-Person,Lego Club
ATTACH;FMTTYPE=image/png:https://preblelibrary.org/wp-content/uploads/2022/08/LEGO-Club-Eaton-Website.png
END:VEVENT
BEGIN:VEVENT
DTSTART;TZID=America/Detroit:20260527T103000
DTEND;TZID=America/Detroit:20260527T113000
DTSTAMP:20260424T103604
CREATED:20260304T190920Z
LAST-MODIFIED:20260304T190920Z
UID:10012283-1779877800-1779881400@preblelibrary.org
SUMMARY:Stay & Play Hour
DESCRIPTION:Stop into the Eaton Branch for our Stay & Play Hour! This is a chance for parents and toddlers to socialize with other families and for kids to play with books\, puppets\, blocks\, a ball pit\, and more! \nThrough play\, children can expand their vocabulary\, learn to problem-solve\, and build social and emotional skills! \nThis program is for children 0-5 years of age.
URL:https://preblelibrary.org/event/stay-play-hour-2/2026-05-27/
LOCATION:Eaton
CATEGORIES:In-Person
ATTACH;FMTTYPE=image/png:https://preblelibrary.org/wp-content/uploads/2023/10/Stay-and-Play-Hour-website.png
END:VEVENT
BEGIN:VEVENT
DTSTART;TZID=America/Detroit:20260527T180000
DTEND;TZID=America/Detroit:20260527T193000
DTSTAMP:20260424T103604
CREATED:20260115T213910Z
LAST-MODIFIED:20260115T213910Z
UID:10012090-1779904800-1779910200@preblelibrary.org
SUMMARY:AYA Book Club
DESCRIPTION:This Adult/Young Adult Book Club is for ages 18+. \nFor each meeting\, a few FREE copies of our selected book club title will be available\, beginning the first of the month. Please register and pick up a copy in advance\, read the book\, and then join us for a relaxed discussion on the scheduled program date. That’s it! We’ll provide the meeting space; you bring the conversation.
URL:https://preblelibrary.org/event/aya-book-club-3/2026-05-27/
LOCATION:Eaton
CATEGORIES:Book Club,In-Person
ATTACH;FMTTYPE=image/png:https://preblelibrary.org/wp-content/uploads/2026/01/AYA-Book-Club.png
END:VEVENT
END:VCALENDAR