BEGIN:VCALENDAR
VERSION:2.0
PRODID:-//Preble County Library - ECPv6.15.20//NONSGML v1.0//EN
CALSCALE:GREGORIAN
METHOD:PUBLISH
X-WR-CALNAME:Preble County Library
X-ORIGINAL-URL:https://preblelibrary.org
X-WR-CALDESC:Events for Preble County Library
REFRESH-INTERVAL;VALUE=DURATION:PT1H
X-Robots-Tag:noindex
X-PUBLISHED-TTL:PT1H
BEGIN:VTIMEZONE
TZID:America/Detroit
BEGIN:DAYLIGHT
TZOFFSETFROM:-0500
TZOFFSETTO:-0400
TZNAME:EDT
DTSTART:20250309T070000
END:DAYLIGHT
BEGIN:STANDARD
TZOFFSETFROM:-0400
TZOFFSETTO:-0500
TZNAME:EST
DTSTART:20251102T060000
END:STANDARD
BEGIN:DAYLIGHT
TZOFFSETFROM:-0500
TZOFFSETTO:-0400
TZNAME:EDT
DTSTART:20260308T070000
END:DAYLIGHT
BEGIN:STANDARD
TZOFFSETFROM:-0400
TZOFFSETTO:-0500
TZNAME:EST
DTSTART:20261101T060000
END:STANDARD
BEGIN:DAYLIGHT
TZOFFSETFROM:-0500
TZOFFSETTO:-0400
TZNAME:EDT
DTSTART:20270314T070000
END:DAYLIGHT
BEGIN:STANDARD
TZOFFSETFROM:-0400
TZOFFSETTO:-0500
TZNAME:EST
DTSTART:20271107T060000
END:STANDARD
END:VTIMEZONE
BEGIN:VEVENT
DTSTART;TZID=America/Detroit:20260421T180000
DTEND;TZID=America/Detroit:20260421T193000
DTSTAMP:20260424T165211
CREATED:20260306T162043Z
LAST-MODIFIED:20260306T165140Z
UID:10012290-1776794400-1776799800@preblelibrary.org
SUMMARY:Adult Craft: Easy Elegant Ribbon Embroidery
DESCRIPTION:We will be making an Easy Elegant Ribbon Embroidery craft at the next adult crafting event. \nRegistration is required for this event. Please stop by the New Paris Library or call 937-437-7242 to register. \nAll supplies will be provided.
URL:https://preblelibrary.org/event/adult-craft-easy-elegant-ribbon-embroidery/
LOCATION:New Paris
CATEGORIES:Crafting,In-Person
ATTACH;FMTTYPE=image/png:https://preblelibrary.org/wp-content/uploads/2026/03/2026.-New-Paris-Adult-Craft-Easy-Elegant-Ribbon-Embroidery-Website-Graphic-3.png
END:VEVENT
BEGIN:VEVENT
DTSTART;TZID=America/Detroit:20260420T173000
DTEND;TZID=America/Detroit:20260420T180000
DTSTAMP:20260424T165211
CREATED:20260304T142040Z
LAST-MODIFIED:20260304T142040Z
UID:10012272-1776706200-1776708000@preblelibrary.org
SUMMARY:Spring Storytime
DESCRIPTION:Spring into the library and enjoy a FUN craft and story!
URL:https://preblelibrary.org/event/spring-storytime/2026-04-20/
LOCATION:New Paris
CATEGORIES:Crafting,In-Person,Storytime
ATTACH;FMTTYPE=image/png:https://preblelibrary.org/wp-content/uploads/2026/03/2026.-New-Paris-Think-Spring-Storytime-Website-Graphic-1.png
END:VEVENT
BEGIN:VEVENT
DTSTART;VALUE=DATE:20260420
DTEND;VALUE=DATE:20260421
DTSTAMP:20260424T165211
CREATED:20260325T131157Z
LAST-MODIFIED:20260325T133954Z
UID:10012325-1776643200-1776729599@preblelibrary.org
SUMMARY:National Library Week Open House & New Paris Centennial Kick-Off Celebration
DESCRIPTION:NEW PARIS LIBRARY TURNS 100!! \nThe New Paris Library has been serving our community for 100 years in its current location. \nJoin us as we kick off our Centennial Celebration during National Library Week. We will have festivities all week long\, from April 20 through April 25\, during regular business hours! \n– Explore Our History\n– Enter to Win a Library Brag Kit\n– Refreshments\n– Crafts for Kids and More! \nWe hope to see YOU at the library!
URL:https://preblelibrary.org/event/national-library-week-open-house-new-paris-centennial-kick-off-celebration/
LOCATION:New Paris
CATEGORIES:In-Person
ATTACH;FMTTYPE=image/png:https://preblelibrary.org/wp-content/uploads/2026/03/2026.-New-Paris-Centennial-Kick-Off-Celebration-Website-Graphic-4.png
END:VEVENT
BEGIN:VEVENT
DTSTART;VALUE=DATE:20260420
DTEND;VALUE=DATE:20260421
DTSTAMP:20260424T165211
CREATED:20260323T133447Z
LAST-MODIFIED:20260323T133447Z
UID:10012322-1776643200-1776729599@preblelibrary.org
SUMMARY:New Paris Birdwatching Club
DESCRIPTION:Join the birdwatching club at the New Paris Library! Pick up some birdseed between April 6 and April 29 during regular business hours\, and start your own SPRING outdoor adventure. \nWhile supplies last!
URL:https://preblelibrary.org/event/new-paris-birdwatching-club/2026-04-20/
LOCATION:New Paris
CATEGORIES:In-Person
ATTACH;FMTTYPE=image/png:https://preblelibrary.org/wp-content/uploads/2026/03/2026.-New-Paris-Birdwatching-Club-Website-Graphic.png
END:VEVENT
BEGIN:VEVENT
DTSTART;TZID=America/Detroit:20260413T173000
DTEND;TZID=America/Detroit:20260413T180000
DTSTAMP:20260424T165211
CREATED:20260304T142040Z
LAST-MODIFIED:20260304T142040Z
UID:10012271-1776101400-1776103200@preblelibrary.org
SUMMARY:Spring Storytime
DESCRIPTION:Spring into the library and enjoy a FUN craft and story!
URL:https://preblelibrary.org/event/spring-storytime/2026-04-13/
LOCATION:New Paris
CATEGORIES:Crafting,In-Person,Storytime
ATTACH;FMTTYPE=image/png:https://preblelibrary.org/wp-content/uploads/2026/03/2026.-New-Paris-Think-Spring-Storytime-Website-Graphic-1.png
END:VEVENT
BEGIN:VEVENT
DTSTART;VALUE=DATE:20260413
DTEND;VALUE=DATE:20260414
DTSTAMP:20260424T165211
CREATED:20260323T133447Z
LAST-MODIFIED:20260323T133447Z
UID:10012321-1776038400-1776124799@preblelibrary.org
SUMMARY:New Paris Birdwatching Club
DESCRIPTION:Join the birdwatching club at the New Paris Library! Pick up some birdseed between April 6 and April 29 during regular business hours\, and start your own SPRING outdoor adventure. \nWhile supplies last!
URL:https://preblelibrary.org/event/new-paris-birdwatching-club/2026-04-13/
LOCATION:New Paris
CATEGORIES:In-Person
ATTACH;FMTTYPE=image/png:https://preblelibrary.org/wp-content/uploads/2026/03/2026.-New-Paris-Birdwatching-Club-Website-Graphic.png
END:VEVENT
BEGIN:VEVENT
DTSTART;TZID=America/Detroit:20260407T140000
DTEND;TZID=America/Detroit:20260407T200000
DTSTAMP:20260424T165211
CREATED:20260304T131335Z
LAST-MODIFIED:20260304T131851Z
UID:10012269-1775570400-1775592000@preblelibrary.org
SUMMARY:Board Game Day
DESCRIPTION:Come to the library and play board games with your family and friends!
URL:https://preblelibrary.org/event/board-game-day-6/
LOCATION:New Paris
CATEGORIES:In-Person
ATTACH;FMTTYPE=image/png:https://preblelibrary.org/wp-content/uploads/2025/08/2025.-New-Paris-Board-Game-Day-Website-Graphic.png
END:VEVENT
BEGIN:VEVENT
DTSTART;TZID=America/Detroit:20260406T173000
DTEND;TZID=America/Detroit:20260406T180000
DTSTAMP:20260424T165211
CREATED:20260304T142040Z
LAST-MODIFIED:20260304T142040Z
UID:10012270-1775496600-1775498400@preblelibrary.org
SUMMARY:Spring Storytime
DESCRIPTION:Spring into the library and enjoy a FUN craft and story!
URL:https://preblelibrary.org/event/spring-storytime/2026-04-06/
LOCATION:New Paris
CATEGORIES:Crafting,In-Person,Storytime
ATTACH;FMTTYPE=image/png:https://preblelibrary.org/wp-content/uploads/2026/03/2026.-New-Paris-Think-Spring-Storytime-Website-Graphic-1.png
END:VEVENT
BEGIN:VEVENT
DTSTART;VALUE=DATE:20260406
DTEND;VALUE=DATE:20260407
DTSTAMP:20260424T165211
CREATED:20260323T133447Z
LAST-MODIFIED:20260323T133447Z
UID:10012320-1775433600-1775519999@preblelibrary.org
SUMMARY:New Paris Birdwatching Club
DESCRIPTION:Join the birdwatching club at the New Paris Library! Pick up some birdseed between April 6 and April 29 during regular business hours\, and start your own SPRING outdoor adventure. \nWhile supplies last!
URL:https://preblelibrary.org/event/new-paris-birdwatching-club/2026-04-06/
LOCATION:New Paris
CATEGORIES:In-Person
ATTACH;FMTTYPE=image/png:https://preblelibrary.org/wp-content/uploads/2026/03/2026.-New-Paris-Birdwatching-Club-Website-Graphic.png
END:VEVENT
BEGIN:VEVENT
DTSTART;TZID=America/Detroit:20260331T140000
DTEND;TZID=America/Detroit:20260331T200000
DTSTAMP:20260424T165211
CREATED:20260303T213926Z
LAST-MODIFIED:20260303T213926Z
UID:10012268-1774965600-1774987200@preblelibrary.org
SUMMARY:LEGO Day
DESCRIPTION:Stop by and build with your friends with the library’s LEGO collection!
URL:https://preblelibrary.org/event/lego-day-8/
LOCATION:New Paris
CATEGORIES:In-Person
ATTACH;FMTTYPE=image/png:https://preblelibrary.org/wp-content/uploads/2025/10/2025.-New-Paris-LEGO-Day-Website-Graphic-7.png
END:VEVENT
BEGIN:VEVENT
DTSTART;TZID=America/Detroit:20260330T173000
DTEND;TZID=America/Detroit:20260330T180000
DTSTAMP:20260424T165211
CREATED:20260226T220546Z
LAST-MODIFIED:20260226T220744Z
UID:10012258-1774891800-1774893600@preblelibrary.org
SUMMARY:Think Spring Storytime
DESCRIPTION:Spring into the library for a fun craft and story!
URL:https://preblelibrary.org/event/think-spring-storytime/2026-03-30/
LOCATION:New Paris
CATEGORIES:In-Person
ATTACH;FMTTYPE=image/png:https://preblelibrary.org/wp-content/uploads/2026/02/2026.-New-Paris-Think-Spring-Storytime-Website-Graphic.png
END:VEVENT
BEGIN:VEVENT
DTSTART;TZID=America/Detroit:20260323T173000
DTEND;TZID=America/Detroit:20260323T180000
DTSTAMP:20260424T165211
CREATED:20260226T220546Z
LAST-MODIFIED:20260226T220744Z
UID:10012257-1774287000-1774288800@preblelibrary.org
SUMMARY:Think Spring Storytime
DESCRIPTION:Spring into the library for a fun craft and story!
URL:https://preblelibrary.org/event/think-spring-storytime/2026-03-23/
LOCATION:New Paris
CATEGORIES:In-Person
ATTACH;FMTTYPE=image/png:https://preblelibrary.org/wp-content/uploads/2026/02/2026.-New-Paris-Think-Spring-Storytime-Website-Graphic.png
END:VEVENT
BEGIN:VEVENT
DTSTART;VALUE=DATE:20260318
DTEND;VALUE=DATE:20260319
DTSTAMP:20260424T165211
CREATED:20260303T205913Z
LAST-MODIFIED:20260303T210154Z
UID:10012267-1773792000-1773878399@preblelibrary.org
SUMMARY:Get Ready for Spring: Plant a Seed at the Library!
DESCRIPTION:Get ready for spring and plant a seed at the library to take home! \nAll supplies will be provided. This event will take place during our regular business hours\, from 2:00 to 8:00 PM on Wednesday\, March 18. Come and grow with us!!
URL:https://preblelibrary.org/event/get-ready-for-spring-plant-a-seed-at-the-library/
LOCATION:New Paris
CATEGORIES:In-Person
ATTACH;FMTTYPE=image/png:https://preblelibrary.org/wp-content/uploads/2026/03/2026.-New-Paris-Get-Ready-for-Spring-Plant-a-Seed-at-the-Library-Website-Graphic-2.png
END:VEVENT
BEGIN:VEVENT
DTSTART;TZID=America/Detroit:20260317T180000
DTEND;TZID=America/Detroit:20260317T193000
DTSTAMP:20260424T165211
CREATED:20260202T161828Z
LAST-MODIFIED:20260202T161828Z
UID:10012123-1773770400-1773775800@preblelibrary.org
SUMMARY:Adult Craft: Painted Bird Rock on Wooden Slice
DESCRIPTION:Adults\, kick off SPRING with this this cute craft! All supplies will be provided. Registration is required for this event. Please call the New Paris Branch at (937) 437-7242 or stop by to register.
URL:https://preblelibrary.org/event/adult-craft-painted-bird-rock-on-wooden-slice/
LOCATION:New Paris
CATEGORIES:Crafting,In-Person
ATTACH;FMTTYPE=image/png:https://preblelibrary.org/wp-content/uploads/2026/02/2026.-New-Paris-Adult-Craft-Painted-Bird-Rock-on-Wooden-Slice.png
END:VEVENT
BEGIN:VEVENT
DTSTART;TZID=America/Detroit:20260316T173000
DTEND;TZID=America/Detroit:20260316T180000
DTSTAMP:20260424T165211
CREATED:20260226T220546Z
LAST-MODIFIED:20260226T220744Z
UID:10012256-1773682200-1773684000@preblelibrary.org
SUMMARY:Think Spring Storytime
DESCRIPTION:Spring into the library for a fun craft and story!
URL:https://preblelibrary.org/event/think-spring-storytime/2026-03-16/
LOCATION:New Paris
CATEGORIES:In-Person
ATTACH;FMTTYPE=image/png:https://preblelibrary.org/wp-content/uploads/2026/02/2026.-New-Paris-Think-Spring-Storytime-Website-Graphic.png
END:VEVENT
BEGIN:VEVENT
DTSTART;TZID=America/Detroit:20260309T173000
DTEND;TZID=America/Detroit:20260309T180000
DTSTAMP:20260424T165211
CREATED:20260226T220546Z
LAST-MODIFIED:20260226T220744Z
UID:10012255-1773077400-1773079200@preblelibrary.org
SUMMARY:Think Spring Storytime
DESCRIPTION:Spring into the library for a fun craft and story!
URL:https://preblelibrary.org/event/think-spring-storytime/2026-03-09/
LOCATION:New Paris
CATEGORIES:In-Person
ATTACH;FMTTYPE=image/png:https://preblelibrary.org/wp-content/uploads/2026/02/2026.-New-Paris-Think-Spring-Storytime-Website-Graphic.png
END:VEVENT
BEGIN:VEVENT
DTSTART;VALUE=DATE:20260309
DTEND;VALUE=DATE:20260310
DTSTAMP:20260424T165211
CREATED:20260226T223959Z
LAST-MODIFIED:20260227T124109Z
UID:10012260-1773014400-1773100799@preblelibrary.org
SUMMARY:Celebrate the State of OHIO
DESCRIPTION:Join us at the library as we celebrate the birthday of the Great State of OHIO!! \nTake the Ohio challenge and enter to win a small prize during our regular business hours March 2-14.
URL:https://preblelibrary.org/event/celebrate-the-state-of-ohio/2026-03-09/
LOCATION:New Paris
CATEGORIES:In-Person
ATTACH;FMTTYPE=image/png:https://preblelibrary.org/wp-content/uploads/2026/02/2026.-New-Paris-Celebrate-the-State-of-Ohio-Flyer-.png
END:VEVENT
BEGIN:VEVENT
DTSTART;TZID=America/Detroit:20260303T140000
DTEND;TZID=America/Detroit:20260303T200000
DTSTAMP:20260424T165211
CREATED:20260224T214444Z
LAST-MODIFIED:20260224T214444Z
UID:10012238-1772546400-1772568000@preblelibrary.org
SUMMARY:Board Game Day
DESCRIPTION:Join us at the library and play board games with your family and friends. We hope to see you there!
URL:https://preblelibrary.org/event/board-game-day-5/
LOCATION:New Paris
CATEGORIES:In-Person
ATTACH;FMTTYPE=image/png:https://preblelibrary.org/wp-content/uploads/2025/08/2025.-New-Paris-Board-Game-Day-Website-Graphic.png
END:VEVENT
BEGIN:VEVENT
DTSTART;TZID=America/Detroit:20260302T173000
DTEND;TZID=America/Detroit:20260302T180000
DTSTAMP:20260424T165211
CREATED:20260226T220546Z
LAST-MODIFIED:20260226T220744Z
UID:10012254-1772472600-1772474400@preblelibrary.org
SUMMARY:Think Spring Storytime
DESCRIPTION:Spring into the library for a fun craft and story!
URL:https://preblelibrary.org/event/think-spring-storytime/2026-03-02/
LOCATION:New Paris
CATEGORIES:In-Person
ATTACH;FMTTYPE=image/png:https://preblelibrary.org/wp-content/uploads/2026/02/2026.-New-Paris-Think-Spring-Storytime-Website-Graphic.png
END:VEVENT
BEGIN:VEVENT
DTSTART;VALUE=DATE:20260302
DTEND;VALUE=DATE:20260303
DTSTAMP:20260424T165211
CREATED:20260226T223959Z
LAST-MODIFIED:20260227T124109Z
UID:10012259-1772409600-1772495999@preblelibrary.org
SUMMARY:Celebrate the State of OHIO
DESCRIPTION:Join us at the library as we celebrate the birthday of the Great State of OHIO!! \nTake the Ohio challenge and enter to win a small prize during our regular business hours March 2-14.
URL:https://preblelibrary.org/event/celebrate-the-state-of-ohio/2026-03-02/
LOCATION:New Paris
CATEGORIES:In-Person
ATTACH;FMTTYPE=image/png:https://preblelibrary.org/wp-content/uploads/2026/02/2026.-New-Paris-Celebrate-the-State-of-Ohio-Flyer-.png
END:VEVENT
BEGIN:VEVENT
DTSTART;TZID=America/Detroit:20260224T140000
DTEND;TZID=America/Detroit:20260224T200000
DTSTAMP:20260424T165211
CREATED:20260120T205742Z
LAST-MODIFIED:20260120T205742Z
UID:10012109-1771941600-1771963200@preblelibrary.org
SUMMARY:LEGO Day
DESCRIPTION:Stop by during our open hours and play with the library’s LEGO collection. Build with your friends and grow your building skills.
URL:https://preblelibrary.org/event/lego-day-6/
LOCATION:New Paris
CATEGORIES:In-Person
ATTACH;FMTTYPE=image/png:https://preblelibrary.org/wp-content/uploads/2025/10/2025.-New-Paris-LEGO-Day-Website-Graphic-7.png
END:VEVENT
BEGIN:VEVENT
DTSTART;TZID=America/Detroit:20260223T173000
DTEND;TZID=America/Detroit:20260223T180000
DTSTAMP:20260424T165211
CREATED:20260106T140840Z
LAST-MODIFIED:20260106T140840Z
UID:10011972-1771867800-1771869600@preblelibrary.org
SUMMARY:Storytime
DESCRIPTION:Stop by the library for storytime during the month of February and fall in LOVE with a good book! We will also make a craft! Remember sometimes we can get messy so…. don’t wear your favorite shirt! \n  \n 
URL:https://preblelibrary.org/event/storytime-19/
LOCATION:New Paris
CATEGORIES:Crafting,In-Person,Storytime
ATTACH;FMTTYPE=image/png:https://preblelibrary.org/wp-content/uploads/2025/07/2025.-New-Paris-Storytime-Website-Graphic.png
END:VEVENT
BEGIN:VEVENT
DTSTART;VALUE=DATE:20260223
DTEND;VALUE=DATE:20260224
DTSTAMP:20260424T165211
CREATED:20260113T145356Z
LAST-MODIFIED:20260113T145356Z
UID:10012073-1771804800-1771891199@preblelibrary.org
SUMMARY:Blind Date with a Book
DESCRIPTION:Blind Date with a Book is back again at the New Paris Library! \nThink your Valentine’s Day will be boring? Set yourself up with one of our available books. \nBlind Date with a Book will be held February 2 – 28\, during regular business hours. Please join in on the FUN! We know you will LOVE it!
URL:https://preblelibrary.org/event/blind-date-with-a-book/2026-02-23/
LOCATION:New Paris
CATEGORIES:In-Person
ATTACH;FMTTYPE=image/png:https://preblelibrary.org/wp-content/uploads/2026/01/2026.-New-Paris-Blind-Date-with-a-Book-7.png
END:VEVENT
BEGIN:VEVENT
DTSTART;VALUE=DATE:20260223
DTEND;VALUE=DATE:20260224
DTSTAMP:20260424T165211
CREATED:20251107T131416Z
LAST-MODIFIED:20251107T131416Z
UID:10011224-1771804800-1771891199@preblelibrary.org
SUMMARY:Puzzle Swap
DESCRIPTION:Bring in your gently used puzzles from December 1st – February 28th\, during regular business hours and trade them for some new-to-you ones. Please make sure all pieces are included.
URL:https://preblelibrary.org/event/puzzle-swap-20/
LOCATION:New Paris
CATEGORIES:In-Person
ATTACH;FMTTYPE=image/png:https://preblelibrary.org/wp-content/uploads/2025/11/2025.-New-Paris-Puzzle-Swap-Flyer-11.png
END:VEVENT
BEGIN:VEVENT
DTSTART;TZID=America/Detroit:20260217T180000
DTEND;TZID=America/Detroit:20260217T193000
DTSTAMP:20260424T165211
CREATED:20260120T200827Z
LAST-MODIFIED:20260120T200827Z
UID:10012107-1771351200-1771356600@preblelibrary.org
SUMMARY:Adult Craft: Stylish Ornamental Frame
DESCRIPTION:Adults – stop by the library and make a stylish ornamental frame. \nRegistration is required for this event. We look forward to seeing YOU at the library!
URL:https://preblelibrary.org/event/adult-craft-stylish-ornamental-frame/
LOCATION:New Paris
CATEGORIES:Crafting,In-Person
ATTACH;FMTTYPE=image/png:https://preblelibrary.org/wp-content/uploads/2026/01/2026.-New-Paris-Adult-Craft-Stylish-Ornamental-Frame-Website-Graphic.png
END:VEVENT
BEGIN:VEVENT
DTSTART;TZID=America/Detroit:20260216T173000
DTEND;TZID=America/Detroit:20260216T180000
DTSTAMP:20260424T165211
CREATED:20260106T140645Z
LAST-MODIFIED:20260106T140645Z
UID:10011971-1771263000-1771264800@preblelibrary.org
SUMMARY:Storytime
DESCRIPTION:Stop by the library for storytime during the month of February and fall in LOVE with a good book! We will also make a craft! Remember sometimes we can get messy so…. don’t wear your favorite shirt! \n  \nAdditional Storytime dates: \nFebruary 23rd 5:30pm-6:00pm
URL:https://preblelibrary.org/event/storytime-18/
LOCATION:New Paris
CATEGORIES:Crafting,In-Person,Storytime
ATTACH;FMTTYPE=image/png:https://preblelibrary.org/wp-content/uploads/2025/07/2025.-New-Paris-Storytime-Website-Graphic.png
END:VEVENT
BEGIN:VEVENT
DTSTART;VALUE=DATE:20260216
DTEND;VALUE=DATE:20260217
DTSTAMP:20260424T165211
CREATED:20260113T145356Z
LAST-MODIFIED:20260113T145356Z
UID:10012072-1771200000-1771286399@preblelibrary.org
SUMMARY:Blind Date with a Book
DESCRIPTION:Blind Date with a Book is back again at the New Paris Library! \nThink your Valentine’s Day will be boring? Set yourself up with one of our available books. \nBlind Date with a Book will be held February 2 – 28\, during regular business hours. Please join in on the FUN! We know you will LOVE it!
URL:https://preblelibrary.org/event/blind-date-with-a-book/2026-02-16/
LOCATION:New Paris
CATEGORIES:In-Person
ATTACH;FMTTYPE=image/png:https://preblelibrary.org/wp-content/uploads/2026/01/2026.-New-Paris-Blind-Date-with-a-Book-7.png
END:VEVENT
BEGIN:VEVENT
DTSTART;VALUE=DATE:20260216
DTEND;VALUE=DATE:20260217
DTSTAMP:20260424T165211
CREATED:20251107T131310Z
LAST-MODIFIED:20251107T131310Z
UID:10011223-1771200000-1771286399@preblelibrary.org
SUMMARY:Puzzle Swap
DESCRIPTION:Bring in your gently used puzzles from December 1st – February 28th\, during regular business hours and trade them for some new-to-you ones. Please make sure all pieces are included.
URL:https://preblelibrary.org/event/puzzle-swap-19/
LOCATION:New Paris
CATEGORIES:In-Person
ATTACH;FMTTYPE=image/png:https://preblelibrary.org/wp-content/uploads/2025/11/2025.-New-Paris-Puzzle-Swap-Flyer-11.png
END:VEVENT
BEGIN:VEVENT
DTSTART;TZID=America/Detroit:20260209T173000
DTEND;TZID=America/Detroit:20260209T180000
DTSTAMP:20260424T165211
CREATED:20260106T140350Z
LAST-MODIFIED:20260106T140438Z
UID:10011970-1770658200-1770660000@preblelibrary.org
SUMMARY:Storytime
DESCRIPTION:Stop by the library for storytime during the month of February and fall in LOVE with a good book! We will also make a craft! Remember sometimes we can get messy so…. don’t wear your favorite shirt! \n  \nAdditional Storytime dates: \nFebruary 16th 5:30pm-6:00pm\nFebruary 23rd 5:30pm-6:00pm
URL:https://preblelibrary.org/event/storytime-17/
LOCATION:New Paris
CATEGORIES:Crafting,In-Person,Storytime
ATTACH;FMTTYPE=image/png:https://preblelibrary.org/wp-content/uploads/2025/07/2025.-New-Paris-Storytime-Website-Graphic.png
END:VEVENT
BEGIN:VEVENT
DTSTART;VALUE=DATE:20260209
DTEND;VALUE=DATE:20260210
DTSTAMP:20260424T165211
CREATED:20260113T145356Z
LAST-MODIFIED:20260113T145356Z
UID:10012071-1770595200-1770681599@preblelibrary.org
SUMMARY:Blind Date with a Book
DESCRIPTION:Blind Date with a Book is back again at the New Paris Library! \nThink your Valentine’s Day will be boring? Set yourself up with one of our available books. \nBlind Date with a Book will be held February 2 – 28\, during regular business hours. Please join in on the FUN! We know you will LOVE it!
URL:https://preblelibrary.org/event/blind-date-with-a-book/2026-02-09/
LOCATION:New Paris
CATEGORIES:In-Person
ATTACH;FMTTYPE=image/png:https://preblelibrary.org/wp-content/uploads/2026/01/2026.-New-Paris-Blind-Date-with-a-Book-7.png
END:VEVENT
END:VCALENDAR