BEGIN:VCALENDAR
VERSION:2.0
PRODID:-//Preble County Library - ECPv6.15.20//NONSGML v1.0//EN
CALSCALE:GREGORIAN
METHOD:PUBLISH
X-WR-CALNAME:Preble County Library
X-ORIGINAL-URL:https://preblelibrary.org
X-WR-CALDESC:Events for Preble County Library
REFRESH-INTERVAL;VALUE=DURATION:PT1H
X-Robots-Tag:noindex
X-PUBLISHED-TTL:PT1H
BEGIN:VTIMEZONE
TZID:America/Detroit
BEGIN:DAYLIGHT
TZOFFSETFROM:-0500
TZOFFSETTO:-0400
TZNAME:EDT
DTSTART:20240310T070000
END:DAYLIGHT
BEGIN:STANDARD
TZOFFSETFROM:-0400
TZOFFSETTO:-0500
TZNAME:EST
DTSTART:20241103T060000
END:STANDARD
BEGIN:DAYLIGHT
TZOFFSETFROM:-0500
TZOFFSETTO:-0400
TZNAME:EDT
DTSTART:20250309T070000
END:DAYLIGHT
BEGIN:STANDARD
TZOFFSETFROM:-0400
TZOFFSETTO:-0500
TZNAME:EST
DTSTART:20251102T060000
END:STANDARD
BEGIN:DAYLIGHT
TZOFFSETFROM:-0500
TZOFFSETTO:-0400
TZNAME:EDT
DTSTART:20260308T070000
END:DAYLIGHT
BEGIN:STANDARD
TZOFFSETFROM:-0400
TZOFFSETTO:-0500
TZNAME:EST
DTSTART:20261101T060000
END:STANDARD
END:VTIMEZONE
BEGIN:VEVENT
DTSTART;VALUE=DATE:20251229
DTEND;VALUE=DATE:20251230
DTSTAMP:20260424T224707
CREATED:20251104T173423Z
LAST-MODIFIED:20251104T173423Z
UID:10011205-1766966400-1767052799@preblelibrary.org
SUMMARY:Holiday Fun - Life-Size Candy Land
DESCRIPTION:Get in the game! \nPlay life-size Candy Land at the library during regular business hours\, December 1st – 30th. FUN for all ages!
URL:https://preblelibrary.org/event/holiday-fun-life-size-candy-land-5/
LOCATION:New Paris
CATEGORIES:In-Person
ATTACH;FMTTYPE=image/png:https://preblelibrary.org/wp-content/uploads/2025/11/2025.-New-Paris-Holiday-Fun-Candy-Land-.png
END:VEVENT
BEGIN:VEVENT
DTSTART;VALUE=DATE:20251222
DTEND;VALUE=DATE:20251223
DTSTAMP:20260424T224707
CREATED:20251107T130418Z
LAST-MODIFIED:20251107T130418Z
UID:10011215-1766361600-1766447999@preblelibrary.org
SUMMARY:Puzzle Swap
DESCRIPTION:Bring in your gently used puzzles from December 1st – February 28th\, during regular business hours and trade them for some new-to-you ones. Please make sure all pieces are included.
URL:https://preblelibrary.org/event/puzzle-swap-11/
LOCATION:New Paris
CATEGORIES:In-Person
ATTACH;FMTTYPE=image/png:https://preblelibrary.org/wp-content/uploads/2025/11/2025.-New-Paris-Puzzle-Swap-Flyer-11.png
END:VEVENT
BEGIN:VEVENT
DTSTART;VALUE=DATE:20251222
DTEND;VALUE=DATE:20251223
DTSTAMP:20260424T224707
CREATED:20251104T173232Z
LAST-MODIFIED:20251104T173232Z
UID:10011204-1766361600-1766447999@preblelibrary.org
SUMMARY:Holiday Fun - Life-Size Candy Land
DESCRIPTION:Get in the game! \nPlay life-size Candy Land at the library during regular business hours\, December 1st – 30th. FUN for all ages!
URL:https://preblelibrary.org/event/holiday-fun-life-size-candy-land-4/
LOCATION:New Paris
CATEGORIES:In-Person
ATTACH;FMTTYPE=image/png:https://preblelibrary.org/wp-content/uploads/2025/11/2025.-New-Paris-Holiday-Fun-Candy-Land-.png
END:VEVENT
BEGIN:VEVENT
DTSTART;TZID=America/Detroit:20251216T170000
DTEND;TZID=America/Detroit:20251216T193000
DTSTAMP:20260424T224707
CREATED:20251107T161939Z
LAST-MODIFIED:20251107T161939Z
UID:10011230-1765904400-1765913400@preblelibrary.org
SUMMARY:Adult Holiday Candle Painting Party
DESCRIPTION:Please join us at the library for a CANDLE PAINTING PARTY! Bring a family member or friend and get into the holiday spirit. \nRegistration is required for this event. Please register by calling (937) 437-7242. All supplies will be provided. We hope to see you at the library!
URL:https://preblelibrary.org/event/adult-holiday-candle-painting-party/
LOCATION:New Paris
CATEGORIES:Crafting,In-Person
ATTACH;FMTTYPE=image/png:https://preblelibrary.org/wp-content/uploads/2025/11/2025.-New-Paris-Adult-Holiday-Candle-Painting-Party-1.png
END:VEVENT
BEGIN:VEVENT
DTSTART;TZID=America/Detroit:20251215T173000
DTEND;TZID=America/Detroit:20251215T180000
DTSTAMP:20260424T224707
CREATED:20251106T150300Z
LAST-MODIFIED:20251106T150300Z
UID:10011208-1765819800-1765821600@preblelibrary.org
SUMMARY:Storytime
DESCRIPTION:Join us for a FUN holiday craft and story!
URL:https://preblelibrary.org/event/storytime-6/
LOCATION:New Paris
CATEGORIES:In-Person
ATTACH;FMTTYPE=image/png:https://preblelibrary.org/wp-content/uploads/2025/07/2025.-New-Paris-Storytime-Website-Graphic.png
END:VEVENT
BEGIN:VEVENT
DTSTART;VALUE=DATE:20251215
DTEND;VALUE=DATE:20251216
DTSTAMP:20260424T224707
CREATED:20251107T130307Z
LAST-MODIFIED:20251107T130307Z
UID:10011214-1765756800-1765843199@preblelibrary.org
SUMMARY:Puzzle Swap
DESCRIPTION:Bring in your gently used puzzles from December 1st – February 28th\, during regular business hours and trade them for some new-to-you ones. Please make sure all pieces are included.
URL:https://preblelibrary.org/event/puzzle-swap-10/
LOCATION:New Paris
ATTACH;FMTTYPE=image/png:https://preblelibrary.org/wp-content/uploads/2025/11/2025.-New-Paris-Puzzle-Swap-Flyer-11.png
END:VEVENT
BEGIN:VEVENT
DTSTART;VALUE=DATE:20251215
DTEND;VALUE=DATE:20251216
DTSTAMP:20260424T224707
CREATED:20251107T130151Z
LAST-MODIFIED:20251107T130151Z
UID:10011213-1765756800-1765843199@preblelibrary.org
SUMMARY:Puzzle Swap
DESCRIPTION:Bring in your gently used puzzles from December 1st – February 28th\, during regular business hours and trade them for some new-to-you ones. Please make sure all pieces are included.
URL:https://preblelibrary.org/event/puzzle-swap-9/
LOCATION:New Paris
CATEGORIES:In-Person
ATTACH;FMTTYPE=image/png:https://preblelibrary.org/wp-content/uploads/2025/11/2025.-New-Paris-Puzzle-Swap-Flyer-11.png
END:VEVENT
BEGIN:VEVENT
DTSTART;VALUE=DATE:20251215
DTEND;VALUE=DATE:20251216
DTSTAMP:20260424T224707
CREATED:20251104T173040Z
LAST-MODIFIED:20251104T173040Z
UID:10011203-1765756800-1765843199@preblelibrary.org
SUMMARY:Holiday Fun - Life-Size Candy Land
DESCRIPTION:Get in the game! \nPlay life-size Candy Land at the library during regular business hours\, December 1st – 30th. FUN for all ages!
URL:https://preblelibrary.org/event/holiday-fun-life-size-candy-land-3/
LOCATION:New Paris
CATEGORIES:In-Person
ATTACH;FMTTYPE=image/png:https://preblelibrary.org/wp-content/uploads/2025/11/2025.-New-Paris-Holiday-Fun-Candy-Land-.png
END:VEVENT
BEGIN:VEVENT
DTSTART;TZID=America/Detroit:20251209T180000
DTEND;TZID=America/Detroit:20251209T193000
DTSTAMP:20260424T224707
CREATED:20251029T131425Z
LAST-MODIFIED:20251029T131425Z
UID:10011192-1765303200-1765308600@preblelibrary.org
SUMMARY:Free Family Portraits (New Paris Branch)
DESCRIPTION:Say Cheese! \nThe New Paris Branch offers FREE family portraits on Tuesday\, December 9\, from 6 PM – 7:30 PM.\nPhoto sessions will be approximately 10 minutes long.\nDigital copies will be emailed the following week. \nPlease sign up for a time slot in advance by calling 937-437-7242. Registration opens in November. \nWHAT TO EXPECT FROM YOUR PHOTO SESSION:\nPortrait Sessions are scheduled in 10-minute increments. Be sure to remember the specific time slot for which you have registered! If plans change and you cannot make your appointment\, please call the library so the spot may be opened for someone else. \nPlan to arrive early to make the most of your session. You may want a moment before your time begins to take off coats\, fix hair\, or make sure everyone is ready.\nWe aim for these portraits to be as fun and casual as possible! Dress in a way that makes you feel comfortable– whether it’s dress clothes\, holiday attire\, or everyday wear. Feel free to bring props or accessories you want in your photos. Santa hats\, special jewelry\, or even kids’ favorite toys can help personalize your portrait! \nPhotos will be cropped and lightly edited after the session. Digital copies will be emailed to the account used at registration. \nContact Youthservices@preblelibrary.org with any questions about your photo session!
URL:https://preblelibrary.org/event/free-family-portraits-new-paris-branch/
LOCATION:New Paris
CATEGORIES:In-Person
ATTACH;FMTTYPE=image/png:https://preblelibrary.org/wp-content/uploads/2025/10/Free-Family-Portraits1.png
END:VEVENT
BEGIN:VEVENT
DTSTART;TZID=America/Detroit:20251208T173000
DTEND;TZID=America/Detroit:20251208T180000
DTSTAMP:20260424T224707
CREATED:20251106T150049Z
LAST-MODIFIED:20251106T150049Z
UID:10011207-1765215000-1765216800@preblelibrary.org
SUMMARY:Storytime
DESCRIPTION:Join us for a FUN holiday craft and story! \n  \nAdditional Storytime dates: \nDecember 15th 5:30pm-6:00pm
URL:https://preblelibrary.org/event/storytime-5/
LOCATION:New Paris
CATEGORIES:In-Person
ATTACH;FMTTYPE=image/png:https://preblelibrary.org/wp-content/uploads/2025/07/2025.-New-Paris-Storytime-Website-Graphic.png
END:VEVENT
BEGIN:VEVENT
DTSTART;VALUE=DATE:20251208
DTEND;VALUE=DATE:20251209
DTSTAMP:20260424T224707
CREATED:20251107T130010Z
LAST-MODIFIED:20251107T130010Z
UID:10011212-1765152000-1765238399@preblelibrary.org
SUMMARY:Puzzle Swap
DESCRIPTION:Bring in your gently used puzzles from December 1st – February 28th\, during regular business hours and trade them for some new-to-you ones. Please make sure all pieces are included.
URL:https://preblelibrary.org/event/puzzle-swap-8/
LOCATION:New Paris
CATEGORIES:In-Person
ATTACH;FMTTYPE=image/png:https://preblelibrary.org/wp-content/uploads/2025/11/2025.-New-Paris-Puzzle-Swap-Flyer-11.png
END:VEVENT
BEGIN:VEVENT
DTSTART;VALUE=DATE:20251208
DTEND;VALUE=DATE:20251209
DTSTAMP:20260424T224707
CREATED:20251104T172847Z
LAST-MODIFIED:20251104T172847Z
UID:10011202-1765152000-1765238399@preblelibrary.org
SUMMARY:Holiday Fun - Life-Size Candy Land
DESCRIPTION:Get in the game! \nPlay life-size Candy Land at the library during regular business hours\, December 1st – 30th. FUN for all ages!
URL:https://preblelibrary.org/event/holiday-fun-life-size-candy-land-2/
LOCATION:New Paris
CATEGORIES:In-Person
ATTACH;FMTTYPE=image/png:https://preblelibrary.org/wp-content/uploads/2025/11/2025.-New-Paris-Holiday-Fun-Candy-Land-.png
END:VEVENT
BEGIN:VEVENT
DTSTART;VALUE=DATE:20251208
DTEND;VALUE=DATE:20251209
DTSTAMP:20260424T224707
CREATED:20251104T152232Z
LAST-MODIFIED:20251105T224728Z
UID:10011200-1765152000-1765238399@preblelibrary.org
SUMMARY:Joy of Giving - Kids Craft Corner
DESCRIPTION:Make a small craft to give to a family member or friend Monday\, December 8th\, from 2-8 pm.
URL:https://preblelibrary.org/event/joy-of-giving-kids-craft-corner/
LOCATION:New Paris
CATEGORIES:Crafting,In-Person
ATTACH;FMTTYPE=image/png:https://preblelibrary.org/wp-content/uploads/2025/11/2025.-New-Paris-Joy-of-Giving-Kids-Craft-Corner-Flyer-4.png
END:VEVENT
BEGIN:VEVENT
DTSTART;VALUE=DATE:20251202
DTEND;VALUE=DATE:20251203
DTSTAMP:20260424T224707
CREATED:20251106T152538Z
LAST-MODIFIED:20251106T152538Z
UID:10011209-1764633600-1764719999@preblelibrary.org
SUMMARY:Board Game Day
DESCRIPTION:This event is open to all ages. Join us at the library and play board games with your family and friends!
URL:https://preblelibrary.org/event/board-game-day-2/
LOCATION:New Paris
CATEGORIES:In-Person
ATTACH;FMTTYPE=image/png:https://preblelibrary.org/wp-content/uploads/2025/08/2025.-New-Paris-Board-Game-Day-Website-Graphic.png
END:VEVENT
BEGIN:VEVENT
DTSTART;VALUE=DATE:20251201
DTEND;VALUE=DATE:20251202
DTSTAMP:20260424T224707
CREATED:20251107T125831Z
LAST-MODIFIED:20251107T125831Z
UID:10011211-1764547200-1764633599@preblelibrary.org
SUMMARY:Puzzle Swap
DESCRIPTION:Bring in your gently used puzzles from December 1st – February 28th\, during regular business hours and trade them for some new-to-you ones. Please make sure all pieces are included.
URL:https://preblelibrary.org/event/puzzle-swap-7/
LOCATION:New Paris
CATEGORIES:In-Person
ATTACH;FMTTYPE=image/png:https://preblelibrary.org/wp-content/uploads/2025/11/2025.-New-Paris-Puzzle-Swap-Flyer-11.png
END:VEVENT
BEGIN:VEVENT
DTSTART;VALUE=DATE:20251201
DTEND;VALUE=DATE:20251202
DTSTAMP:20260424T224707
CREATED:20251104T172558Z
LAST-MODIFIED:20251104T172558Z
UID:10011201-1764547200-1764633599@preblelibrary.org
SUMMARY:Holiday Fun - Life-Size Candy Land
DESCRIPTION:Get in the game! \nPlay life-size Candy Land at the library during regular business hours\, December 1st – 30th. FUN for all ages!
URL:https://preblelibrary.org/event/holiday-fun-life-size-candy-land/
LOCATION:New Paris
CATEGORIES:In-Person
ATTACH;FMTTYPE=image/png:https://preblelibrary.org/wp-content/uploads/2025/11/2025.-New-Paris-Holiday-Fun-Candy-Land-.png
END:VEVENT
BEGIN:VEVENT
DTSTART;VALUE=DATE:20251129
DTEND;VALUE=DATE:20251130
DTSTAMP:20260424T224707
CREATED:20251022T144151Z
LAST-MODIFIED:20251022T144151Z
UID:10011184-1764374400-1764460799@preblelibrary.org
SUMMARY:Puzzle Swap
DESCRIPTION:Bring in your gently used puzzles (please make sure all pieces are included) and trade them in for some new-to-you ones during the month of November\, during regular business hours. \nBusiness hours: \nMonday – Wednesday 2:00pm-8:00pm\nFriday 10:00am-4:00pm\nSaturday 10:00am-2:00pm
URL:https://preblelibrary.org/event/puzzle-swap-6/
LOCATION:New Paris
CATEGORIES:In-Person
ATTACH;FMTTYPE=image/png:https://preblelibrary.org/wp-content/uploads/2025/10/2025.-New-Paris-Puzzle-Swap-Flyer-5.png
END:VEVENT
BEGIN:VEVENT
DTSTART;TZID=America/Detroit:20251125T140000
DTEND;TZID=America/Detroit:20251125T200000
DTSTAMP:20260424T224707
CREATED:20251010T201804Z
LAST-MODIFIED:20251014T131650Z
UID:10011159-1764079200-1764100800@preblelibrary.org
SUMMARY:LEGO Day
DESCRIPTION:Stop by and build with your friends at the library during regular business hours!
URL:https://preblelibrary.org/event/lego-day-2/
LOCATION:New Paris
CATEGORIES:In-Person
ATTACH;FMTTYPE=image/png:https://preblelibrary.org/wp-content/uploads/2025/10/2025.-New-Paris-LEGO-Day-Website-Graphic-7.png
END:VEVENT
BEGIN:VEVENT
DTSTART;VALUE=DATE:20251122
DTEND;VALUE=DATE:20251123
DTSTAMP:20260424T224707
CREATED:20251022T144006Z
LAST-MODIFIED:20251022T144006Z
UID:10011183-1763769600-1763855999@preblelibrary.org
SUMMARY:Puzzle Swap
DESCRIPTION:Bring in your gently used puzzles (please make sure all pieces are included) and trade them in for some new-to-you ones during the month of November\, during regular business hours. \nBusiness hours: \nMonday – Wednesday 2:00pm-8:00pm\nFriday 10:00am-4:00pm\nSaturday 10:00am-2:00pm
URL:https://preblelibrary.org/event/puzzle-swap-5/
LOCATION:New Paris
CATEGORIES:In-Person
ATTACH;FMTTYPE=image/png:https://preblelibrary.org/wp-content/uploads/2025/10/2025.-New-Paris-Puzzle-Swap-Flyer-5.png
END:VEVENT
BEGIN:VEVENT
DTSTART;TZID=America/Detroit:20251118T180000
DTEND;TZID=America/Detroit:20251118T193000
DTSTAMP:20260424T224707
CREATED:20251010T191000Z
LAST-MODIFIED:20251010T191521Z
UID:10011158-1763488800-1763494200@preblelibrary.org
SUMMARY:Adult Craft: Corded Mini Wreath
DESCRIPTION:Join us at the library to make a cute ornament for your tree! Registration is required. Please register by calling (937) 437-7242.
URL:https://preblelibrary.org/event/adult-craft-corded-mini-wreath/
LOCATION:New Paris
CATEGORIES:Crafting,In-Person
ATTACH;FMTTYPE=image/png:https://preblelibrary.org/wp-content/uploads/2025/10/2025.-New-Paris-Adult-Craft-Corded-Mini-Wreath-4.png
END:VEVENT
BEGIN:VEVENT
DTSTART;TZID=America/Detroit:20251117T173000
DTEND;TZID=America/Detroit:20251117T180000
DTSTAMP:20260424T224707
CREATED:20251022T151411Z
LAST-MODIFIED:20251022T151411Z
UID:10011187-1763400600-1763402400@preblelibrary.org
SUMMARY:Storytime
DESCRIPTION:Join us at the library for a FUN craft and a story! \n 
URL:https://preblelibrary.org/event/storytime-4/
LOCATION:New Paris
CATEGORIES:In-Person
ATTACH;FMTTYPE=image/png:https://preblelibrary.org/wp-content/uploads/2025/07/2025.-New-Paris-Storytime-Website-Graphic.png
END:VEVENT
BEGIN:VEVENT
DTSTART;VALUE=DATE:20251115
DTEND;VALUE=DATE:20251116
DTSTAMP:20260424T224707
CREATED:20251022T143823Z
LAST-MODIFIED:20251022T143823Z
UID:10011182-1763164800-1763251199@preblelibrary.org
SUMMARY:Puzzle Swap
DESCRIPTION:Bring in your gently used puzzles (please make sure all pieces are included) and trade them in for some new-to-you ones during the month of November\, during regular business hours. \nBusiness hours: \nMonday – Wednesday 2:00pm-8:00pm\nFriday 10:00am-4:00pm\nSaturday 10:00am-2:00pm
URL:https://preblelibrary.org/event/puzzle-swap-4/
LOCATION:New Paris
CATEGORIES:In-Person
ATTACH;FMTTYPE=image/png:https://preblelibrary.org/wp-content/uploads/2025/10/2025.-New-Paris-Puzzle-Swap-Flyer-5.png
END:VEVENT
BEGIN:VEVENT
DTSTART;TZID=America/Detroit:20251110T173000
DTEND;TZID=America/Detroit:20251110T180000
DTSTAMP:20260424T224707
CREATED:20251022T151218Z
LAST-MODIFIED:20251022T151218Z
UID:10011186-1762795800-1762797600@preblelibrary.org
SUMMARY:Storytime
DESCRIPTION:Join us at the library for a FUN craft and a story! \nAdditional Storytime dates: \nNovember 17th 5:30pm-6:00pm
URL:https://preblelibrary.org/event/storytime-3/
LOCATION:New Paris
CATEGORIES:In-Person
ATTACH;FMTTYPE=image/png:https://preblelibrary.org/wp-content/uploads/2025/07/2025.-New-Paris-Storytime-Website-Graphic.png
END:VEVENT
BEGIN:VEVENT
DTSTART;VALUE=DATE:20251108
DTEND;VALUE=DATE:20251109
DTSTAMP:20260424T224707
CREATED:20251022T143612Z
LAST-MODIFIED:20251022T143612Z
UID:10011181-1762560000-1762646399@preblelibrary.org
SUMMARY:Puzzle Swap
DESCRIPTION:Bring in your gently used puzzles (please make sure all pieces are included) and trade them in for some new-to-you ones during the month of November\, during regular business hours. \nBusiness hours: \nMonday – Wednesday 2:00pm-8:00pm\nFriday 10:00am-4:00pm\nSaturday 10:00am-2:00pm
URL:https://preblelibrary.org/event/puzzle-swap-3/
LOCATION:New Paris
CATEGORIES:In-Person
ATTACH;FMTTYPE=image/png:https://preblelibrary.org/wp-content/uploads/2025/10/2025.-New-Paris-Puzzle-Swap-Flyer-5.png
END:VEVENT
BEGIN:VEVENT
DTSTART;TZID=America/Detroit:20251104T140000
DTEND;TZID=America/Detroit:20251104T200000
DTSTAMP:20260424T224707
CREATED:20251010T171548Z
LAST-MODIFIED:20251010T171548Z
UID:10011156-1762264800-1762286400@preblelibrary.org
SUMMARY:Board Game Day
DESCRIPTION:Join us at the library and play board games with your family and friends. WE HOPE TO SEE YOU THERE!
URL:https://preblelibrary.org/event/board-game-day/
LOCATION:New Paris
CATEGORIES:In-Person
ATTACH;FMTTYPE=image/png:https://preblelibrary.org/wp-content/uploads/2025/08/2025.-New-Paris-Board-Game-Day-Website-Graphic.png
END:VEVENT
BEGIN:VEVENT
DTSTART;TZID=America/Detroit:20251103T173000
DTEND;TZID=America/Detroit:20251103T180000
DTSTAMP:20260424T224707
CREATED:20251022T151021Z
LAST-MODIFIED:20251022T151021Z
UID:10011185-1762191000-1762192800@preblelibrary.org
SUMMARY:Storytime
DESCRIPTION:Join us at the library for a FUN craft and a story! \nAdditional Storytime dates: \nNovember 10th 5:30pm-6:00pm\nNovember 17th 5:30pm-6:00pm
URL:https://preblelibrary.org/event/storytime-2/
LOCATION:New Paris
CATEGORIES:In-Person
ATTACH;FMTTYPE=image/png:https://preblelibrary.org/wp-content/uploads/2025/07/2025.-New-Paris-Storytime-Website-Graphic.png
END:VEVENT
BEGIN:VEVENT
DTSTART;VALUE=DATE:20251101
DTEND;VALUE=DATE:20251102
DTSTAMP:20260424T224707
CREATED:20251022T142709Z
LAST-MODIFIED:20251022T142709Z
UID:10011180-1761955200-1762041599@preblelibrary.org
SUMMARY:Puzzle Swap
DESCRIPTION:Bring in your gently used puzzles (please make sure all pieces are included) and trade them in for some new-to-you ones during the month of November\, during regular business hours. \nBusiness hours: \nMonday – Wednesday 2:00pm-8:00pm\nFriday 10:00am-4:00pm\nSaturday 10:00am-2:00pm
URL:https://preblelibrary.org/event/puzzle-swap-2/
LOCATION:New Paris
CATEGORIES:In-Person
ATTACH;FMTTYPE=image/png:https://preblelibrary.org/wp-content/uploads/2025/10/2025.-New-Paris-Puzzle-Swap-Flyer-5.png
END:VEVENT
BEGIN:VEVENT
DTSTART;TZID=America/Detroit:20251028T140000
DTEND;TZID=America/Detroit:20251028T200000
DTSTAMP:20260424T224707
CREATED:20250903T154729Z
LAST-MODIFIED:20251014T131902Z
UID:10011098-1761660000-1761681600@preblelibrary.org
SUMMARY:LEGO Day
DESCRIPTION:Stop by and build with your friends at the library during our open hours!
URL:https://preblelibrary.org/event/lego-day-17/
LOCATION:New Paris
CATEGORIES:In-Person
ATTACH;FMTTYPE=image/png:https://preblelibrary.org/wp-content/uploads/2025/10/2025.-New-Paris-LEGO-Day-Website-Graphic-7.png
END:VEVENT
BEGIN:VEVENT
DTSTART;TZID=America/Detroit:20251027T173000
DTEND;TZID=America/Detroit:20251027T180000
DTSTAMP:20260424T224707
CREATED:20250828T125637Z
LAST-MODIFIED:20250828T125637Z
UID:10011080-1761586200-1761588000@preblelibrary.org
SUMMARY:Storytime
DESCRIPTION:Join us at the library for a FUN craft and a story! \n  \n 
URL:https://preblelibrary.org/event/storytime-16/
LOCATION:New Paris
CATEGORIES:In-Person
ATTACH;FMTTYPE=image/png:https://preblelibrary.org/wp-content/uploads/2025/07/2025.-New-Paris-Storytime-Website-Graphic.png
END:VEVENT
END:VCALENDAR