BEGIN:VCALENDAR
VERSION:2.0
PRODID:-//Preble County Library - ECPv6.15.20//NONSGML v1.0//EN
CALSCALE:GREGORIAN
METHOD:PUBLISH
X-WR-CALNAME:Preble County Library
X-ORIGINAL-URL:https://preblelibrary.org
X-WR-CALDESC:Events for Preble County Library
REFRESH-INTERVAL;VALUE=DURATION:PT1H
X-Robots-Tag:noindex
X-PUBLISHED-TTL:PT1H
BEGIN:VTIMEZONE
TZID:America/Detroit
BEGIN:DAYLIGHT
TZOFFSETFROM:-0500
TZOFFSETTO:-0400
TZNAME:EDT
DTSTART:20240310T070000
END:DAYLIGHT
BEGIN:STANDARD
TZOFFSETFROM:-0400
TZOFFSETTO:-0500
TZNAME:EST
DTSTART:20241103T060000
END:STANDARD
BEGIN:DAYLIGHT
TZOFFSETFROM:-0500
TZOFFSETTO:-0400
TZNAME:EDT
DTSTART:20250309T070000
END:DAYLIGHT
BEGIN:STANDARD
TZOFFSETFROM:-0400
TZOFFSETTO:-0500
TZNAME:EST
DTSTART:20251102T060000
END:STANDARD
BEGIN:DAYLIGHT
TZOFFSETFROM:-0500
TZOFFSETTO:-0400
TZNAME:EDT
DTSTART:20260308T070000
END:DAYLIGHT
BEGIN:STANDARD
TZOFFSETFROM:-0400
TZOFFSETTO:-0500
TZNAME:EST
DTSTART:20261101T060000
END:STANDARD
BEGIN:DAYLIGHT
TZOFFSETFROM:-0500
TZOFFSETTO:-0400
TZNAME:EDT
DTSTART:20270314T070000
END:DAYLIGHT
BEGIN:STANDARD
TZOFFSETFROM:-0400
TZOFFSETTO:-0500
TZNAME:EST
DTSTART:20271107T060000
END:STANDARD
END:VTIMEZONE
BEGIN:VEVENT
DTSTART;TZID=America/Detroit:20260121T110000
DTEND;TZID=America/Detroit:20260121T130000
DTSTAMP:20260424T191530
CREATED:20241112T144226Z
LAST-MODIFIED:20251121T190603Z
UID:10011774-1768993200-1769000400@preblelibrary.org
SUMMARY:Genealogy Workshop
DESCRIPTION:Need help getting your genealogy started? Hit a brick wall? Come down every 3rd Wednesday of the month for free genealogy assistance. Bring your documentation\, notes\, photos\, etc. and get help in putting it all together.
URL:https://preblelibrary.org/event/genealogy-workshop/2026-01-21/
LOCATION:Preble County Genealogy Room
CATEGORIES:In-Person
ATTACH;FMTTYPE=image/png:https://preblelibrary.org/wp-content/uploads/2024/11/Genealogy-Workshop-Banner.png
END:VEVENT
BEGIN:VEVENT
DTSTART;TZID=America/Detroit:20251217T110000
DTEND;TZID=America/Detroit:20251217T130000
DTSTAMP:20260424T191530
CREATED:20241112T144226Z
LAST-MODIFIED:20251121T190603Z
UID:10011773-1765969200-1765976400@preblelibrary.org
SUMMARY:Genealogy Workshop
DESCRIPTION:Need help getting your genealogy started? Hit a brick wall? Come down every 3rd Wednesday of the month for free genealogy assistance. Bring your documentation\, notes\, photos\, etc. and get help in putting it all together.
URL:https://preblelibrary.org/event/genealogy-workshop/2025-12-17/
LOCATION:Preble County Genealogy Room
CATEGORIES:In-Person
ATTACH;FMTTYPE=image/png:https://preblelibrary.org/wp-content/uploads/2024/11/Genealogy-Workshop-Banner.png
END:VEVENT
BEGIN:VEVENT
DTSTART;TZID=America/Detroit:20251210T180000
DTEND;TZID=America/Detroit:20251210T200000
DTSTAMP:20260424T191530
CREATED:20251103T173845Z
LAST-MODIFIED:20251104T141529Z
UID:10011199-1765389600-1765396800@preblelibrary.org
SUMMARY:History Book Club
DESCRIPTION:Join the Preble County Local History and Genealogy Room for our new history book club! \nThis book club will meet bimonthly and read history books on a variety of topics. History buffs and readers this is for you! Our first selection will be “Destiny of the Republic: A Tale of Madness\, Medicine and the Murder of a President” a gripping account of the murder of former U.S. President James A. Garfield. To order a copy of the book feel free to call the Preble County Room staff at (937) 456-4970 or email us at pcroom@preblelibrary.org with your patron information including library card number or feel free to contact your closest library branch to reserve a copy!
URL:https://preblelibrary.org/event/history-book-club/
LOCATION:Preble County Genealogy Room
CATEGORIES:Book Club,In-Person
ATTACH;FMTTYPE=image/png:https://preblelibrary.org/wp-content/uploads/2025/11/2025.-PC-Room-History-Book-Club-9.png
END:VEVENT
BEGIN:VEVENT
DTSTART;TZID=America/Detroit:20251119T110000
DTEND;TZID=America/Detroit:20251119T130000
DTSTAMP:20260424T191530
CREATED:20241112T144226Z
LAST-MODIFIED:20251121T190603Z
UID:10009993-1763550000-1763557200@preblelibrary.org
SUMMARY:Genealogy Workshop
DESCRIPTION:Need help getting your genealogy started? Hit a brick wall? Come down every 3rd Wednesday of the month for free genealogy assistance. Bring your documentation\, notes\, photos\, etc. and get help in putting it all together.
URL:https://preblelibrary.org/event/genealogy-workshop/2025-11-19/
LOCATION:Preble County Genealogy Room
CATEGORIES:In-Person
ATTACH;FMTTYPE=image/png:https://preblelibrary.org/wp-content/uploads/2024/11/Genealogy-Workshop-Banner.png
END:VEVENT
END:VCALENDAR