BEGIN:VCALENDAR
VERSION:2.0
PRODID:-//Preble County Library - ECPv6.15.20//NONSGML v1.0//EN
CALSCALE:GREGORIAN
METHOD:PUBLISH
X-WR-CALNAME:Preble County Library
X-ORIGINAL-URL:https://preblelibrary.org
X-WR-CALDESC:Events for Preble County Library
REFRESH-INTERVAL;VALUE=DURATION:PT1H
X-Robots-Tag:noindex
X-PUBLISHED-TTL:PT1H
BEGIN:VTIMEZONE
TZID:America/Detroit
BEGIN:DAYLIGHT
TZOFFSETFROM:-0500
TZOFFSETTO:-0400
TZNAME:EDT
DTSTART:20240310T070000
END:DAYLIGHT
BEGIN:STANDARD
TZOFFSETFROM:-0400
TZOFFSETTO:-0500
TZNAME:EST
DTSTART:20241103T060000
END:STANDARD
BEGIN:DAYLIGHT
TZOFFSETFROM:-0500
TZOFFSETTO:-0400
TZNAME:EDT
DTSTART:20250309T070000
END:DAYLIGHT
BEGIN:STANDARD
TZOFFSETFROM:-0400
TZOFFSETTO:-0500
TZNAME:EST
DTSTART:20251102T060000
END:STANDARD
BEGIN:DAYLIGHT
TZOFFSETFROM:-0500
TZOFFSETTO:-0400
TZNAME:EDT
DTSTART:20260308T070000
END:DAYLIGHT
BEGIN:STANDARD
TZOFFSETFROM:-0400
TZOFFSETTO:-0500
TZNAME:EST
DTSTART:20261101T060000
END:STANDARD
END:VTIMEZONE
BEGIN:VEVENT
DTSTART;TZID=America/Detroit:20251118T173000
DTEND;TZID=America/Detroit:20251118T183000
DTSTAMP:20260424T160246
CREATED:20251003T144629Z
LAST-MODIFIED:20251024T142200Z
UID:10011149-1763487000-1763490600@preblelibrary.org
SUMMARY:Family Book Club
DESCRIPTION:Family Book Club Pick of the Month:\nRain Reign by Ann M. Martin \nSummary:\nRose Howard is obsessed with homonyms (like rain\, reign\, and rein) and rules—especially ones that help her navigate her world as a girl with autism. She names her beloved dog Rain because it’s a special triple homonym. But when a storm hits and Rain goes missing\, Rose must break some of her own rules to find her dog—and\, along the way\, discovers what love\, acceptance\, and bravery really mean. \nWhy it’s a great family read: \n-Encourages empathy and understanding of neurodiversity. \n-Sparks thoughtful discussions about family\, resilience\, and doing the right thing. \n-Written with heart and honesty by a renowned author. \nHow to Join the Fun: \n-Read the book together as a family. \n-Talk about your favorite moments\, characters\, and what the story meant to you. \n-Share your thoughts at book club.
URL:https://preblelibrary.org/event/family-book-club-4/
LOCATION:West Alexandria
CATEGORIES:Book Club,In-Person
ATTACH;FMTTYPE=image/png:https://preblelibrary.org/wp-content/uploads/2025/10/2025.-West-Alexandria-Family-Book-Club-Rain-Reign-Website-Graphic-3.png
END:VEVENT
BEGIN:VEVENT
DTSTART;VALUE=DATE:20251115
DTEND;VALUE=DATE:20251116
DTSTAMP:20260424T160246
CREATED:20251031T180728Z
LAST-MODIFIED:20251031T180728Z
UID:10011196-1763164800-1763251199@preblelibrary.org
SUMMARY:World Kindness Food Drive
DESCRIPTION:World Kindness Day is November 13th\, but we are going to celebrate all month long from November 1st through November 29th. \nBring in non-perishable items for our local food bank. Each week we will have a new Reading Dragons card for those who donate. Participate all 4 weeks and get a random family set.
URL:https://preblelibrary.org/event/world-kindness-food-drive-3/
LOCATION:West Alexandria
CATEGORIES:In-Person
ATTACH;FMTTYPE=image/png:https://preblelibrary.org/wp-content/uploads/2025/10/2025.-WA-World-Kindness-Food-Drive-2.png
END:VEVENT
BEGIN:VEVENT
DTSTART;TZID=America/Detroit:20251112T153000
DTEND;TZID=America/Detroit:20251112T163000
DTSTAMP:20260424T160246
CREATED:20251031T155711Z
LAST-MODIFIED:20251031T155711Z
UID:10011194-1762961400-1762965000@preblelibrary.org
SUMMARY:Bedazzled Books
DESCRIPTION:We bring the supplies — you bring the creativity! Pick a book from our selection and give it new life with some sparkle and style. \nOpen to teens in grades 7–12 \nCome make something totally unique and shine bright with your creation!
URL:https://preblelibrary.org/event/bedazzled-books/
LOCATION:West Alexandria
CATEGORIES:Crafting,In-Person
ATTACH;FMTTYPE=image/png:https://preblelibrary.org/wp-content/uploads/2025/10/2025.-WA-Bedazzled-Books-1.png
END:VEVENT
BEGIN:VEVENT
DTSTART;TZID=America/Detroit:20251111T173000
DTEND;TZID=America/Detroit:20251111T183000
DTSTAMP:20260424T160246
CREATED:20250926T143603Z
LAST-MODIFIED:20250926T144054Z
UID:10011145-1762882200-1762885800@preblelibrary.org
SUMMARY:Zootopia Family Night
DESCRIPTION:Join us for a Zootopia-inspired family night! \nGet ready for a wild time as we celebrate the upcoming release of Zootopia 2 — hitting theaters November 26! Bring the whole family for an evening full of fun\, laughter\, and creativity. \nEvent Highlights: \n\n\nPin the Badge on Judy Hopps game \n\n\nZootopia-themed crafts \n\n\nWhether you’re Team Bunny or Team Fox\, you’re in for a night of excitement as we prepare for the return to the animal metropolis we all love. Let’s hop to it!
URL:https://preblelibrary.org/event/zootopia-family-night/
LOCATION:West Alexandria
CATEGORIES:In-Person
ATTACH;FMTTYPE=image/png:https://preblelibrary.org/wp-content/uploads/2025/09/2025.-WA-Zootopia-Family-Night-2.png
END:VEVENT
BEGIN:VEVENT
DTSTART;VALUE=DATE:20251108
DTEND;VALUE=DATE:20251109
DTSTAMP:20260424T160246
CREATED:20251031T180544Z
LAST-MODIFIED:20251031T180544Z
UID:10011195-1762560000-1762646399@preblelibrary.org
SUMMARY:World Kindness Food Drive
DESCRIPTION:World Kindness Day is November 13th\, but we are going to celebrate all month long from November 1st through November 29th. \nBring in non-perishable items for our local food bank. Each week we will have a new Reading Dragons card for those who donate. Participate all 4 weeks and get a random family set.
URL:https://preblelibrary.org/event/world-kindness-food-drive-2/
LOCATION:West Alexandria
CATEGORIES:In-Person
ATTACH;FMTTYPE=image/png:https://preblelibrary.org/wp-content/uploads/2025/10/2025.-WA-World-Kindness-Food-Drive-2.png
END:VEVENT
BEGIN:VEVENT
DTSTART;TZID=America/Detroit:20251104T173000
DTEND;TZID=America/Detroit:20251104T183000
DTSTAMP:20260424T160246
CREATED:20250925T154427Z
LAST-MODIFIED:20250925T155031Z
UID:10011143-1762277400-1762281000@preblelibrary.org
SUMMARY:Adult Craft: Give Thanks Napkin Holder
DESCRIPTION:This cute turkey isn’t for eating…He’s for holding your napkins! \nGet ready to gobble up some Thanksgiving cheer with this adorable Turkey Napkin Holder craft! This little guy is the perfect addition to your holiday table—not on the plate\, but proudly holding your napkins in festive style. \nWhether you match him to your table colors or add a personal touch by writing guests’ names on his feathers\, he’s sure to bring smiles to your celebration. A fun\, functional\, and feathered friend—no roasting required! \nWhile registration is not required\, it is highly encouraged to ensure we have enough supplies prepared for everyone.
URL:https://preblelibrary.org/event/adult-craft-give-thanks-napkin-holder/
LOCATION:West Alexandria
CATEGORIES:Crafting,In-Person
ATTACH;FMTTYPE=image/png:https://preblelibrary.org/wp-content/uploads/2025/09/2025.-WA-Give-Thanks-Napkin-Holder-Adult-Craft-2.png
END:VEVENT
BEGIN:VEVENT
DTSTART;TZID=America/Detroit:20251103T080000
DTEND;TZID=America/Detroit:20251129T170000
DTSTAMP:20260424T160246
CREATED:20250520T213025Z
LAST-MODIFIED:20250520T213025Z
UID:10010785-1762156800-1764435600@preblelibrary.org
SUMMARY:Checkout Challenge 2025: November Picture Books
DESCRIPTION:Picture Books!\nFrom the time we’re small\, we’re read picture books. Who doesn’t like to look at pictures while they read? Some of the best still resonate when we’re adults. Where the Wild Things Are? Cloudy with a Chance of Meatballs? The Snowy Day? And anything by Dr. Seuss. \nCheckout Challenge 2025\nEach month we will challenge you to check out a different genre or type of item found at the library. For every item you check out during that month that fits that category you will be entered to win not only a monthly prize\, but you will also be entered to win our year end gift basket. So\, the more you check out of the monthly category the more chance you have to win! \nIt’s never too late to get in on the fun!
URL:https://preblelibrary.org/event/checkout-challenge-2025-november-picture-books/
LOCATION:West Alexandria
ATTACH;FMTTYPE=image/png:https://preblelibrary.org/wp-content/uploads/2025/02/Checkout-Challenge-November-2025.png
END:VEVENT
BEGIN:VEVENT
DTSTART;VALUE=DATE:20251101
DTEND;VALUE=DATE:20251102
DTSTAMP:20260424T160246
CREATED:20251031T163943Z
LAST-MODIFIED:20251031T180141Z
UID:10011193-1761955200-1762041599@preblelibrary.org
SUMMARY:World Kindness Food Drive
DESCRIPTION:World Kindness Day is November 13th\, but we are going to celebrate all month long from November 1st through November 29th. \nBring in non-perishable items for our local food bank. Each week we will have a new Reading Dragons card for those who donate. Participate all 4 weeks and get a random family set.
URL:https://preblelibrary.org/event/world-kindness-food-drive/
LOCATION:West Alexandria
CATEGORIES:In-Person
ATTACH;FMTTYPE=image/png:https://preblelibrary.org/wp-content/uploads/2025/10/2025.-WA-World-Kindness-Food-Drive-2.png
END:VEVENT
BEGIN:VEVENT
DTSTART;TZID=America/Detroit:20251028T173000
DTEND;TZID=America/Detroit:20251028T183000
DTSTAMP:20260424T160246
CREATED:20250806T204244Z
LAST-MODIFIED:20251017T153103Z
UID:10010904-1761672600-1761676200@preblelibrary.org
SUMMARY:Book Nook Society-Adult Book Club
DESCRIPTION:This month’s pick: You Shouldn’t Have Come Here by Jeneva Rose \nSynopsis:\nGrace Evans\, an overworked New Yorker\, books an Airbnb on a remote Wyoming ranch\, hoping for a peaceful escape. She’s charmed by the picturesque setting—and even more so by Calvin Wells\, the handsome and welcoming host. But Grace quickly realizes something is off. The ranch has no cell service. A woman has gone missing. And Calvin’s charm may be masking something far darker. \nAs their connection deepens\, playful romance gives way to suspicion\, secrets\, and obsession. Grace begins to wonder if she’ll ever make it back home—or if she was ever meant to. \nJoin us for a thrilling discussion of this twist-filled psychological suspense!
URL:https://preblelibrary.org/event/book-nook-society-adult-book-club/
LOCATION:West Alexandria
CATEGORIES:Book Club,In-Person
ATTACH;FMTTYPE=image/png:https://preblelibrary.org/wp-content/uploads/2025/08/2025.-WA-Book-Nook-Society-Adult-Book-Club-4.png
END:VEVENT
BEGIN:VEVENT
DTSTART;TZID=America/Detroit:20251025T120000
DTEND;TZID=America/Detroit:20251025T130000
DTSTAMP:20260424T160246
CREATED:20250219T161351Z
LAST-MODIFIED:20250331T181201Z
UID:10010350-1761393600-1761397200@preblelibrary.org
SUMMARY:LEGO Club
DESCRIPTION:Join us each month to build Lego creations with friends. The library provides the Legos; you provide the creativity. Each month\, we will have a monthly drawing for a Lego-related prize. This year\, we will have a grand prize drawing in December. Every month you attend\, your monthly entries will be placed in our grand prize drawing.
URL:https://preblelibrary.org/event/lego-club-8/
LOCATION:West Alexandria
CATEGORIES:In-Person
ATTACH;FMTTYPE=image/jpeg:https://preblelibrary.org/wp-content/uploads/2022/04/LEGO-Club-West-Alex.jpg
END:VEVENT
END:VCALENDAR